BEGIN:VCALENDAR
VERSION:2.0
PRODID:-//MisterSaxr.ch | saxophonist-LIVE.ch | Blog | Firmenanlass Hochzeiten Events Saxofonist Musiker Saxophonist Schweiz Z&uuml;rich - ECPv6.15.8//NONSGML v1.0//EN
CALSCALE:GREGORIAN
METHOD:PUBLISH
X-ORIGINAL-URL:https://www.saxophonist-live.ch/saxofonist-blog
X-WR-CALDESC:Veranstaltungen für MisterSaxr.ch | saxophonist-LIVE.ch | Blog | Firmenanlass Hochzeiten Events Saxofonist Musiker Saxophonist Schweiz Z&uuml;rich
REFRESH-INTERVAL;VALUE=DURATION:PT1H
X-Robots-Tag:noindex
X-PUBLISHED-TTL:PT1H
BEGIN:VTIMEZONE
TZID:Europe/Zurich
BEGIN:DAYLIGHT
TZOFFSETFROM:+0100
TZOFFSETTO:+0200
TZNAME:CEST
DTSTART:20160327T010000
END:DAYLIGHT
BEGIN:STANDARD
TZOFFSETFROM:+0200
TZOFFSETTO:+0100
TZNAME:CET
DTSTART:20161030T010000
END:STANDARD
BEGIN:DAYLIGHT
TZOFFSETFROM:+0100
TZOFFSETTO:+0200
TZNAME:CEST
DTSTART:20170326T010000
END:DAYLIGHT
BEGIN:STANDARD
TZOFFSETFROM:+0200
TZOFFSETTO:+0100
TZNAME:CET
DTSTART:20171029T010000
END:STANDARD
BEGIN:DAYLIGHT
TZOFFSETFROM:+0100
TZOFFSETTO:+0200
TZNAME:CEST
DTSTART:20180325T010000
END:DAYLIGHT
BEGIN:STANDARD
TZOFFSETFROM:+0200
TZOFFSETTO:+0100
TZNAME:CET
DTSTART:20181028T010000
END:STANDARD
END:VTIMEZONE
BEGIN:VEVENT
DTSTART;TZID=Europe/Zurich:20170825T173000
DTEND;TZID=Europe/Zurich:20170825T220000
DTSTAMP:20260424T034147
CREATED:20170601T145856Z
LAST-MODIFIED:20170614T140012Z
UID:1247-1503682200-1503698400@www.saxophonist-live.ch
SUMMARY:Privater Anlass Thouvenin
DESCRIPTION:Mister Saxr berührt mit seinen sanften Saxklängen. Sein Repertoire reicht von Popsongs\, Bossa Nova\, Smooth Jazz\, Evergreens\, Songs aus den 80er\, 90er\, 2000er\,n über Smooth-Lounge\, Pop-Klassikern\, Lovesongs bis zu hin zu Funky Stuff und Disco-Krachern. Sein Auftritts-Angebot umfasst jazziges Saxophon zum Apéro\, stilvolle Hintergrundmusik zum Dinner\, Tanzmusik oder auch komplette kleine Show-Programme: manchmal «smooth» und leise\, dann aber auch richtig fetzig und laut. Mister Saxr ist der Saxofonist für Ihren Anlass. Mit einem Funkmikrofon ausgerüstet\, bewegt sich Mister Saxr zwischen den Gästen\, die den Musiker damit hautnah erleben können. Ohne viel Technik kann er auch an abgelegen Orten auftreten wie z.B. an einer Garten- oder Grillparty.\n \n  \nDie Forch ist eine Ortschaft und ein Übergang[1] über den zwischen Zürichsee und Greifensee gelegenen Höhenzug Pfannenstiel im Kanton Zürich in der Schweiz. Die Passhöhe liegt auf 682 m ü. M. zwischen dem Wassberg im Norden und dem eigentlichen Pfannenstiel im Süden. Ursprünglich wurde mit Forch ein Weiler an der Strasse am Passübergang bezeichnet\,[2] der über einen Gasthof und acht weitere Häuser – darunter eine Pferdewechselstation – verfügte.[1] Heute zählen zur Forch – zum Beispiel postalisch – meist alle Siedlungen rund um den Pass: \n\nDie mit der Forch zusammengewachsenen Ortsteile Aesch und Scheuren der östlich liegenden Gemeinde Maur.\nDie Weiler Kaltenstein\, Neue Forch und Wangen\, die zur westlich liegenden Gemeinde Küsnacht gehören.\n\nDie Waldlichtung Guldenen auf dem Pfannenstiel im Süden des Forchpasses wird ebenfalls zur Forch gezählt. Die Häuser Hinter Guldenen gehören zur Gemeinde Maur\, Vorder Guldenen zur Gemeinde Egg. Die Forch verfügt mit der Forchbahn sowie der Forch-Schnellstrasse A 52 über gute Verkehrsverbindungen ins etwa zehn Kilometer entfernte Zürich. Entsprechend pendeln viele Bewohner in die Stadt. Dennoch konnte sich das Gebiet seinen ländlichen Charakter bewahren. Die Infrastruktur ist mit Kindergärten\, Primarschule\, Altersheim sowie Klein- und Gastgewerbe bescheiden geblieben. Beliebte Ausflugsziele für Spaziergänger sind die beiden Hügel Wassberg (748 m ü. M. beim Chapf) im Norden und Pfannenstiel (851 m ü. M.) im Süden. Am Aufstieg zum Wassberg steht das Forchdenkmal\, offiziell Wehrmännerdenkmal bezeichnet. \nQuelle: de.wikipedia.org/wiki/Forch
URL:https://www.saxophonist-live.ch/saxofonist-blog/event/privater-anlass-fuer-thouvenin-rechtsanwaelte-klg/
CATEGORIES:MisterSaxr Event
END:VEVENT
END:VCALENDAR