BEGIN:VCALENDAR
VERSION:2.0
PRODID:-//MisterSaxr.ch | saxophonist-LIVE.ch | Blog | Firmenanlass Hochzeiten Events Saxofonist Musiker Saxophonist Schweiz Z&uuml;rich - ECPv6.15.8//NONSGML v1.0//EN
CALSCALE:GREGORIAN
METHOD:PUBLISH
X-ORIGINAL-URL:https://www.saxophonist-live.ch/saxofonist-blog
X-WR-CALDESC:Veranstaltungen für MisterSaxr.ch | saxophonist-LIVE.ch | Blog | Firmenanlass Hochzeiten Events Saxofonist Musiker Saxophonist Schweiz Z&uuml;rich
REFRESH-INTERVAL;VALUE=DURATION:PT1H
X-Robots-Tag:noindex
X-PUBLISHED-TTL:PT1H
BEGIN:VTIMEZONE
TZID:Europe/Zurich
BEGIN:DAYLIGHT
TZOFFSETFROM:+0100
TZOFFSETTO:+0200
TZNAME:CEST
DTSTART:20180325T010000
END:DAYLIGHT
BEGIN:STANDARD
TZOFFSETFROM:+0200
TZOFFSETTO:+0100
TZNAME:CET
DTSTART:20181028T010000
END:STANDARD
BEGIN:DAYLIGHT
TZOFFSETFROM:+0100
TZOFFSETTO:+0200
TZNAME:CEST
DTSTART:20190331T010000
END:DAYLIGHT
BEGIN:STANDARD
TZOFFSETFROM:+0200
TZOFFSETTO:+0100
TZNAME:CET
DTSTART:20191027T010000
END:STANDARD
BEGIN:DAYLIGHT
TZOFFSETFROM:+0100
TZOFFSETTO:+0200
TZNAME:CEST
DTSTART:20200329T010000
END:DAYLIGHT
BEGIN:STANDARD
TZOFFSETFROM:+0200
TZOFFSETTO:+0100
TZNAME:CET
DTSTART:20201025T010000
END:STANDARD
END:VTIMEZONE
BEGIN:VEVENT
DTSTART;TZID=Europe/Zurich:20190410T173000
DTEND;TZID=Europe/Zurich:20190410T193000
DTSTAMP:20260424T234916
CREATED:20190315T110504Z
LAST-MODIFIED:20190315T110504Z
UID:2070-1554917400-1554924600@www.saxophonist-live.ch
SUMMARY:Mister Saxr für ALMA Medien AG
DESCRIPTION:Mister Saxr spielt für den Assistants’ Day 2019 der ALMA Medien AG. Eine private Feier im Eventlocation Trafo Baden wird durch die warmen Saxophonklänge des Zürcher Saxofonisten begleitet. Musik zur Unterhaltung\, Verweilen und Feiern. Die Gäste werden unterhalten mit Bossa Nova\, Pop\, Smooth Jazz\, Evergreens\, Disco\, Love-Songs und viele weitere Songs.
URL:https://www.saxophonist-live.ch/saxofonist-blog/event/mister-saxr-fuer-alma-medien-ag/
LOCATION:Trafo Baden\, Brown Boveri Pl. 1\, Baden\, Argau\, 5400\, Schweiz
CATEGORIES:MisterSaxr Event
ATTACH;FMTTYPE=image/jpeg:https://www.saxophonist-live.ch/saxofonist-blog/wp-content/uploads/2018/09/MISTERSAXR_7409.jpg
END:VEVENT
END:VCALENDAR