BEGIN:VCALENDAR
VERSION:2.0
PRODID:-//MisterSaxr.ch | saxophonist-LIVE.ch | Blog | Firmenanlass Hochzeiten Events Saxofonist Musiker Saxophonist Schweiz Z&uuml;rich - ECPv6.15.8//NONSGML v1.0//EN
CALSCALE:GREGORIAN
METHOD:PUBLISH
X-WR-CALNAME:MisterSaxr.ch | saxophonist-LIVE.ch | Blog | Firmenanlass Hochzeiten Events Saxofonist Musiker Saxophonist Schweiz Z&uuml;rich
X-ORIGINAL-URL:https://www.saxophonist-live.ch/saxofonist-blog
X-WR-CALDESC:Veranstaltungen für MisterSaxr.ch | saxophonist-LIVE.ch | Blog | Firmenanlass Hochzeiten Events Saxofonist Musiker Saxophonist Schweiz Z&uuml;rich
REFRESH-INTERVAL;VALUE=DURATION:PT1H
X-Robots-Tag:noindex
X-PUBLISHED-TTL:PT1H
BEGIN:VTIMEZONE
TZID:Europe/Zurich
BEGIN:DAYLIGHT
TZOFFSETFROM:+0100
TZOFFSETTO:+0200
TZNAME:CEST
DTSTART:20200329T010000
END:DAYLIGHT
BEGIN:STANDARD
TZOFFSETFROM:+0200
TZOFFSETTO:+0100
TZNAME:CET
DTSTART:20201025T010000
END:STANDARD
BEGIN:DAYLIGHT
TZOFFSETFROM:+0100
TZOFFSETTO:+0200
TZNAME:CEST
DTSTART:20210328T010000
END:DAYLIGHT
BEGIN:STANDARD
TZOFFSETFROM:+0200
TZOFFSETTO:+0100
TZNAME:CET
DTSTART:20211031T010000
END:STANDARD
BEGIN:DAYLIGHT
TZOFFSETFROM:+0100
TZOFFSETTO:+0200
TZNAME:CEST
DTSTART:20220327T010000
END:DAYLIGHT
BEGIN:STANDARD
TZOFFSETFROM:+0200
TZOFFSETTO:+0100
TZNAME:CET
DTSTART:20221030T010000
END:STANDARD
END:VTIMEZONE
BEGIN:VEVENT
DTSTART;TZID=Europe/Zurich:20210828T170000
DTEND;TZID=Europe/Zurich:20210828T233000
DTSTAMP:20260421T070153
CREATED:20210816T140713Z
LAST-MODIFIED:20211108T145728Z
UID:2905-1630170000-1630193400@www.saxophonist-live.ch
SUMMARY:MisterSaxr & Nyssina live in Arosa
DESCRIPTION:Zusammen mit der Top-Sängerin Nyssina tritt Mister Saxr am Samstag\, 28. August im Arosa auf. Der Schweizer Saxophonist und Sängerin mit holländisch/indonesischen Wurzeln untermalen einen privaten Geburtstag im AlpenChic. Der gepflegte Abend findet auf 1’775 Meter über Meer im Restaurant Alp Arosa statt. Das Bergrestaurant ländt zum Verweilen auf seiner einzigartigen Panorama-Terrassse ein. Das Musik-Duo steht für dieses ganz besondere Hochzeitsfest den ganzen Samstag im Einsatz. Stilvolle Hintergrundmusik und auch Show-Dance werden geboten. Das Repertoire reicht von Smooth-Jazz\, Evergreens\, Bossa Nova\, Pop- und Hitsongs über romantische Balladen bis hin zu Party und Disco-Dance Musik. Mit den beiden Top-Musikern wird die Alpen-Party von A-Z zum musikalischen Hochgenuss werden. Smooth Sax (Selmer Mark VI) und die feine weibliche Stimme sind eine perfekte Ergänzung. Mister Saxr und Nyssina sind ein bestens eingespieltes Duo\, sie gehören zu den begehrtesten Musikern der Schweiz für Privatanlässe mit Stil.
URL:https://www.saxophonist-live.ch/saxofonist-blog/event/mistersaxr-nyssina-live-in-arosa-2/
LOCATION:Restaurant AlpArosa\, 7050 Arosa\, Arosa\, 7050\, Schweiz
CATEGORIES:MisterSaxr Event
ATTACH;FMTTYPE=image/jpeg:https://www.saxophonist-live.ch/saxofonist-blog/wp-content/uploads/2021/07/MisterSaxr_Nyssina-073.jpg
END:VEVENT
END:VCALENDAR