BEGIN:VCALENDAR
VERSION:2.0
PRODID:-//MisterSaxr.ch | saxophonist-LIVE.ch | Blog | Firmenanlass Hochzeiten Events Saxofonist Musiker Saxophonist Schweiz Z&uuml;rich - ECPv6.15.8//NONSGML v1.0//EN
CALSCALE:GREGORIAN
METHOD:PUBLISH
X-ORIGINAL-URL:https://www.saxophonist-live.ch/saxofonist-blog
X-WR-CALDESC:Veranstaltungen für MisterSaxr.ch | saxophonist-LIVE.ch | Blog | Firmenanlass Hochzeiten Events Saxofonist Musiker Saxophonist Schweiz Z&uuml;rich
REFRESH-INTERVAL;VALUE=DURATION:PT1H
X-Robots-Tag:noindex
X-PUBLISHED-TTL:PT1H
BEGIN:VTIMEZONE
TZID:Europe/Zurich
BEGIN:DAYLIGHT
TZOFFSETFROM:+0100
TZOFFSETTO:+0200
TZNAME:CEST
DTSTART:20220327T010000
END:DAYLIGHT
BEGIN:STANDARD
TZOFFSETFROM:+0200
TZOFFSETTO:+0100
TZNAME:CET
DTSTART:20221030T010000
END:STANDARD
BEGIN:DAYLIGHT
TZOFFSETFROM:+0100
TZOFFSETTO:+0200
TZNAME:CEST
DTSTART:20230326T010000
END:DAYLIGHT
BEGIN:STANDARD
TZOFFSETFROM:+0200
TZOFFSETTO:+0100
TZNAME:CET
DTSTART:20231029T010000
END:STANDARD
BEGIN:DAYLIGHT
TZOFFSETFROM:+0100
TZOFFSETTO:+0200
TZNAME:CEST
DTSTART:20240331T010000
END:DAYLIGHT
BEGIN:STANDARD
TZOFFSETFROM:+0200
TZOFFSETTO:+0100
TZNAME:CET
DTSTART:20241027T010000
END:STANDARD
END:VTIMEZONE
BEGIN:VEVENT
DTSTART;TZID=Europe/Zurich:20230330T161500
DTEND;TZID=Europe/Zurich:20230330T171500
DTSTAMP:20260424T065752
CREATED:20230223T152251Z
LAST-MODIFIED:20230223T152445Z
UID:3372-1680192900-1680196500@www.saxophonist-live.ch
SUMMARY:Apéro im Rahmen von Top5-Prämierungsfeier
DESCRIPTION:Mister Saxr\, der leidenschaftliche Musiker aus Zürich\, beeindruckt immer wieder aufs Neue mit seinen feinen Melodien und Liedern. Zusammen mit seinem Instrument einem Tenor-Sax Typ VI aus dem Hause Selmer\, spielt er die schönsten Saxophon-Songs aller Genres. Bossa-Nova\, Smooth Jazz aber auch Rock\, Pop oder Disco\, um nur einige zu nennen. Ganz dem Anlass entsprechend kann Mister Saxr sein Programm ganz nach dem Publikum richten. Das Saxophon eignet sich ebenso hervorragend als Begleitung im Hintergrund die sanften Melodien sorgen für eine elegante und Atmosphäre und sorgt für eine entspannte Stimmung bei allen Anwesenden. \nIm Mövenpick Hotel Basel\, genauer gesagt im Restaurant Puro\, im ersten Obergeschoss\, lädt die Schweizer Baloise Versicherung zu einem exklusiven Event. Das zeitlose und moderne Ambiente steht in Harmonie zum innovativen und sogleich auch klassisch-eleganten Stil Mister Saxrs. \nBereits der Apéro soll die Gäste bestmöglich auf den Abend einstimmen. Die feinen und wohlklingenden Melodien aus Mister Saxrs Instrument\, helfen dabei und schaffen eine entspannte und sogleich auch Atmosphäre\, welche die Leute perfekt auf das Kommende einstimmt. \nEinem gelungenen Anlass sollte dabei nichts mehr im Wege stehen.
URL:https://www.saxophonist-live.ch/saxofonist-blog/event/apero-im-rahmen-von-top5-praemierungsfeier/
LOCATION:Restaurant Puro\, Aeschengraben 21\, Basel\, Mövenpick Hotel Basel\, 4052\, Schweiz
CATEGORIES:MisterSaxr Event
ATTACH;FMTTYPE=image/jpeg:https://www.saxophonist-live.ch/saxofonist-blog/wp-content/uploads/2016/10/saxophon.jpg
END:VEVENT
END:VCALENDAR