BEGIN:VCALENDAR
VERSION:2.0
PRODID:-//MisterSaxr.ch | saxophonist-LIVE.ch | Blog | Firmenanlass Hochzeiten Events Saxofonist Musiker Saxophonist Schweiz Z&uuml;rich - ECPv6.15.8//NONSGML v1.0//EN
CALSCALE:GREGORIAN
METHOD:PUBLISH
X-WR-CALNAME:MisterSaxr.ch | saxophonist-LIVE.ch | Blog | Firmenanlass Hochzeiten Events Saxofonist Musiker Saxophonist Schweiz Z&uuml;rich
X-ORIGINAL-URL:https://www.saxophonist-live.ch/saxofonist-blog
X-WR-CALDESC:Veranstaltungen für MisterSaxr.ch | saxophonist-LIVE.ch | Blog | Firmenanlass Hochzeiten Events Saxofonist Musiker Saxophonist Schweiz Z&uuml;rich
REFRESH-INTERVAL;VALUE=DURATION:PT1H
X-Robots-Tag:noindex
X-PUBLISHED-TTL:PT1H
BEGIN:VTIMEZONE
TZID:Europe/Zurich
BEGIN:DAYLIGHT
TZOFFSETFROM:+0100
TZOFFSETTO:+0200
TZNAME:CEST
DTSTART:20200329T010000
END:DAYLIGHT
BEGIN:STANDARD
TZOFFSETFROM:+0200
TZOFFSETTO:+0100
TZNAME:CET
DTSTART:20201025T010000
END:STANDARD
BEGIN:DAYLIGHT
TZOFFSETFROM:+0100
TZOFFSETTO:+0200
TZNAME:CEST
DTSTART:20210328T010000
END:DAYLIGHT
BEGIN:STANDARD
TZOFFSETFROM:+0200
TZOFFSETTO:+0100
TZNAME:CET
DTSTART:20211031T010000
END:STANDARD
BEGIN:DAYLIGHT
TZOFFSETFROM:+0100
TZOFFSETTO:+0200
TZNAME:CEST
DTSTART:20220327T010000
END:DAYLIGHT
BEGIN:STANDARD
TZOFFSETFROM:+0200
TZOFFSETTO:+0100
TZNAME:CET
DTSTART:20221030T010000
END:STANDARD
END:VTIMEZONE
BEGIN:VEVENT
DTSTART;TZID=Europe/Zurich:20210624T183000
DTEND;TZID=Europe/Zurich:20210624T223000
DTSTAMP:20260426T005944
CREATED:20210614T115326Z
LAST-MODIFIED:20210614T115326Z
UID:2871-1624559400-1624573800@www.saxophonist-live.ch
SUMMARY:Wedding über den Zürichsee
DESCRIPTION:Mister Saxr begleitet eine Hochzeit über den Zürichsee. Im Restaurant Buech in Herrliberg unterhält der Zürcher Saxofonist die Gäste mit feinsten Saxophon-Klängen. Neben Apéromusik spielt er aber auch romantische Balladen\, Smooth-Jazz und vor allem Lovesongs… \nDas Restaurant Buech steht seit mehr als 70 Jahren hoch über Herrliberg inmitten eines Weinbergs.
URL:https://www.saxophonist-live.ch/saxofonist-blog/event/wedding-ueber-den-zuerichsee/
LOCATION:Restaurant Buech\, Forchstrasse 267\, Herrliberg\, Zürich\, 8704 \, Schweiz
CATEGORIES:MisterSaxr Event
ATTACH;FMTTYPE=image/png:https://www.saxophonist-live.ch/saxofonist-blog/wp-content/uploads/2021/06/MisterSaxr_weiss_rand.png
END:VEVENT
BEGIN:VEVENT
DTSTART;TZID=Europe/Zurich:20210626T150000
DTEND;TZID=Europe/Zurich:20210626T220000
DTSTAMP:20260426T005944
CREATED:20200916T091958Z
LAST-MODIFIED:20210528T130424Z
UID:2748-1624719600-1624744800@www.saxophonist-live.ch
SUMMARY:Hochzeit mit MisterSaxr & Nyssina
DESCRIPTION:Die Veranstaltung wurde aufgrund des Coronavirus abgesagt.\nMister Saxr begleitet eine Hochzeit mit die Sängerin Nyssina am Zürichsee. Zusammen mit Mister Saxr ist das eingespielte DUO ein perfekter Show-Act für jede Gala. Der Zürcher Saxofonist und die Sängerin Nyssina spielen romantische Balladen\, Smooth-Jazz aber vor allem Lovesongs. Privatfeier. \nDas Restaurant mit der gedeckte Seeterrasse sowie der mediterrane Garten zaubern Ferienstimmung herbei. Der Blick auf den Zürichsee und das spektakuläre Bergpanorama machen jeden Besuch zu einem unvergesslichen Erlebnis.
URL:https://www.saxophonist-live.ch/saxofonist-blog/event/hochzeit-mit-mister-saxr-4/
LOCATION:Hotel Hirschen am See\, Seestrasse 856\, Meilen\, 8706\, Schweiz
CATEGORIES:MisterSaxr Event
ATTACH;FMTTYPE=image/jpeg:https://www.saxophonist-live.ch/saxofonist-blog/wp-content/uploads/2020/06/MisterSaxr_Nyssina-162.jpg
END:VEVENT
END:VCALENDAR