BEGIN:VCALENDAR
VERSION:2.0
PRODID:-//MisterSaxr.ch | saxophonist-LIVE.ch | Blog | Firmenanlass Hochzeiten Events Saxofonist Musiker Saxophonist Schweiz Z&uuml;rich - ECPv6.15.8//NONSGML v1.0//EN
CALSCALE:GREGORIAN
METHOD:PUBLISH
X-ORIGINAL-URL:https://www.saxophonist-live.ch/saxofonist-blog
X-WR-CALDESC:Veranstaltungen für MisterSaxr.ch | saxophonist-LIVE.ch | Blog | Firmenanlass Hochzeiten Events Saxofonist Musiker Saxophonist Schweiz Z&uuml;rich
REFRESH-INTERVAL;VALUE=DURATION:PT1H
X-Robots-Tag:noindex
X-PUBLISHED-TTL:PT1H
BEGIN:VTIMEZONE
TZID:Europe/Zurich
BEGIN:DAYLIGHT
TZOFFSETFROM:+0100
TZOFFSETTO:+0200
TZNAME:CEST
DTSTART:20210328T010000
END:DAYLIGHT
BEGIN:STANDARD
TZOFFSETFROM:+0200
TZOFFSETTO:+0100
TZNAME:CET
DTSTART:20211031T010000
END:STANDARD
BEGIN:DAYLIGHT
TZOFFSETFROM:+0100
TZOFFSETTO:+0200
TZNAME:CEST
DTSTART:20220327T010000
END:DAYLIGHT
BEGIN:STANDARD
TZOFFSETFROM:+0200
TZOFFSETTO:+0100
TZNAME:CET
DTSTART:20221030T010000
END:STANDARD
BEGIN:DAYLIGHT
TZOFFSETFROM:+0100
TZOFFSETTO:+0200
TZNAME:CEST
DTSTART:20230326T010000
END:DAYLIGHT
BEGIN:STANDARD
TZOFFSETFROM:+0200
TZOFFSETTO:+0100
TZNAME:CET
DTSTART:20231029T010000
END:STANDARD
END:VTIMEZONE
BEGIN:VEVENT
DTSTART;TZID=Europe/Zurich:20220706T190000
DTEND;TZID=Europe/Zurich:20220706T210000
DTSTAMP:20260426T040130
CREATED:20220502T145859Z
LAST-MODIFIED:20220505T071401Z
UID:3185-1657134000-1657141200@www.saxophonist-live.ch
SUMMARY:AutoSHOW
DESCRIPTION:Mister Saxr\, erfahrener Saxophonist aus Leidenschaft und die bekannte Sängerin Nyssina\, das verspricht ein jedes Mal einen musikalisch hochstehenden und ergreifenden Auftritt\, der seinesgleichen sucht. Das Duo begeistert seine Zuhörer mit einer Mischung verschiedener Musikstile. Bossa-Nova\, Smooth-Jazz\, Pop und Rock\, Dance/Disco und natürlich aktuellen Hits sowie auch einige der schönsten Evergreens\, die je geschrieben wurden. Die feine Stimme von Nyssina zusammen mit den sanften und charakteristischen Klängen aus dem Saxophon harmonieren wunderbar und verleihen ihren Songs einen individuellen und unverkennbaren Touch. \nThe Valley\, was nach einem Hollywood-Streifen klingt\, ist die renovierte und umgebaute\, ehemalige Maggi-Fabrik in Kemptthal\, zwischen Winterthur und Effretikon. Dem mit neuem Leben eingehauchte Fabrikkomplex beherbergt zahlreiche Shops\, Büros\, Eventlocations\, Museen und auch Gastro-Angebote. Die Silobar\, mit einem interessanten\, modernen Konzept und einer nicht alltäglichen Location\, ist Ausrichter zahlreicher Event in den Bereichen Musik und Kunst. Speziell an diesem Abend geöffnet für die Partner und Sponsoren der Autoshow Winterthur. Das kulinarische Angebot «im Silo»und die musikalische Darbietung Mister Saxr und Nyssinas werden den Gästen mit Sicherheit mehr als nur zusagen. \nhttps://www.silo.bar/unsere-raeume/
URL:https://www.saxophonist-live.ch/saxofonist-blog/event/autoshow/
LOCATION:The Valley / SILO Bar\, Kemptpark 2\, Kemptthal\, 8310\, Schweiz
CATEGORIES:MisterSaxr Event
ATTACH;FMTTYPE=image/jpeg:https://www.saxophonist-live.ch/saxofonist-blog/wp-content/uploads/2017/05/MISTERSAXR_Saxophonist_Zuerich_Saxsound_Saxofon_Haug.jpg
END:VEVENT
END:VCALENDAR