BEGIN:VCALENDAR
VERSION:2.0
PRODID:-//MisterSaxr.ch | saxophonist-LIVE.ch | Blog | Firmenanlass Hochzeiten Events Saxofonist Musiker Saxophonist Schweiz Z&uuml;rich - ECPv6.15.8//NONSGML v1.0//EN
CALSCALE:GREGORIAN
METHOD:PUBLISH
X-ORIGINAL-URL:https://www.saxophonist-live.ch/saxofonist-blog
X-WR-CALDESC:Veranstaltungen für MisterSaxr.ch | saxophonist-LIVE.ch | Blog | Firmenanlass Hochzeiten Events Saxofonist Musiker Saxophonist Schweiz Z&uuml;rich
REFRESH-INTERVAL;VALUE=DURATION:PT1H
X-Robots-Tag:noindex
X-PUBLISHED-TTL:PT1H
BEGIN:VTIMEZONE
TZID:Europe/Zurich
BEGIN:DAYLIGHT
TZOFFSETFROM:+0100
TZOFFSETTO:+0200
TZNAME:CEST
DTSTART:20230326T010000
END:DAYLIGHT
BEGIN:STANDARD
TZOFFSETFROM:+0200
TZOFFSETTO:+0100
TZNAME:CET
DTSTART:20231029T010000
END:STANDARD
BEGIN:DAYLIGHT
TZOFFSETFROM:+0100
TZOFFSETTO:+0200
TZNAME:CEST
DTSTART:20240331T010000
END:DAYLIGHT
BEGIN:STANDARD
TZOFFSETFROM:+0200
TZOFFSETTO:+0100
TZNAME:CET
DTSTART:20241027T010000
END:STANDARD
BEGIN:DAYLIGHT
TZOFFSETFROM:+0100
TZOFFSETTO:+0200
TZNAME:CEST
DTSTART:20250330T010000
END:DAYLIGHT
BEGIN:STANDARD
TZOFFSETFROM:+0200
TZOFFSETTO:+0100
TZNAME:CET
DTSTART:20251026T010000
END:STANDARD
END:VTIMEZONE
BEGIN:VEVENT
DTSTART;TZID=Europe/Zurich:20240604T180000
DTEND;TZID=Europe/Zurich:20240604T200000
DTSTAMP:20260424T133818
CREATED:20240426T132157Z
LAST-MODIFIED:20240429T092450Z
UID:3814-1717524000-1717531200@www.saxophonist-live.ch
SUMMARY:Ein exklusives Musik-Event auf dem Zürichsee
DESCRIPTION:Ein exklusives Erlebnis erwartet die geladenen Gäste an Bord der MS Sentosa\, wo der herausragende Saxophonist Mister Saxr während einer privaten Schifffahrt auf dem Zürichsee auftritt. Dieses exklusive Event\, nur zugänglich für geladene Gäste\, verspricht eine Kombination aus erstklassiger Unterhaltung und der malerischen Kulisse des Zürichsees. \nMister Saxr\, bekannt für seine meisterhafte Saxophonkunst\, wird den Abend mit seinem umfangreichen Repertoire aus Jazz\, Pop und zeitlosen Klassikern bereichern. Seine Performances sind bekannt dafür\, dass sie eine tiefe emotionale Resonanz erzeugen und gleichzeitig eine Atmosphäre schaffen\, die sowohl entspannend als auch anregend ist. \nWährend die MS Sentosa sanft über die ruhigen Gewässer des Zürichsees gleitet\, können die Gäste bei einem Glas Champagner die Aussicht genießen und den melodischen Klängen von Mister Saxr lauschen. Die Kombination aus seiner Musik und der atemberaubenden Aussicht auf die umliegende Landschaft macht diese Schifffahrt zu einem unvergesslichen Erlebnis. \nDie MS Sentosa\, ein elegantes Schiff\, das speziell für gehobene Anlässe konzipiert wurde\, bietet den idealen Rahmen für solch eine besondere Veranstaltung. Mit ihrem stilvollen Ambiente und der erstklassigen Ausstattung sorgt sie dafür\, dass jeder Gast sich exklusiv und wohl fühlt. \nDieser Abend an Bord der MS Sentosa steht ganz im Zeichen der Exklusivität und des persönlichen Genusses. Mister Saxr’s Auftritt ist nicht nur ein musikalisches Highlight\, sondern unterstreicht auch das besondere Erlebnis einer privaten Schifffahrt\, die in Erinnerung bleibt. \nFür Interessierte\, die Mister Saxr für private Veranstaltungen oder besondere Anlässe buchen möchten\, bietet seine Website mistersaxr.ch weitere Informationen und Kontaktmöglichkeiten. Sichern Sie sich die Gelegenheit\, Ihr Event mit einem der gefragtesten Saxophonisten der Schweiz zu einem unvergesslichen Highlight zu machen.
URL:https://www.saxophonist-live.ch/saxofonist-blog/event/ein-exklusives-musik-event-auf-dem-zuerichsee/
LOCATION:Hafen Enge\, Mythenquai 21\, Zürich\, 8002
CATEGORIES:MisterSaxr Event
ATTACH;FMTTYPE=image/jpeg:https://www.saxophonist-live.ch/saxofonist-blog/wp-content/uploads/2016/10/Saxophonist-Musiker-Schiff-Boot-Greifensee-Sarnersee.jpg
END:VEVENT
BEGIN:VEVENT
DTSTART;TZID=Europe/Zurich:20240609T110000
DTEND;TZID=Europe/Zurich:20240609T123000
DTSTAMP:20260424T133818
CREATED:20240527T085633Z
LAST-MODIFIED:20240527T085708Z
UID:3850-1717930800-1717936200@www.saxophonist-live.ch
SUMMARY:Ein unvergesslicher Nachmittag mit Mister Saxr im Hotel Boldern
DESCRIPTION:Am Sonntag\, dem 09. Juni\, wird das Hotel Boldern in Männedorf zum Schauplatz eines ganz besonderen Ereignisses: Mister Saxr\, der renommierte Saxophonist\, wird das goldene Hochzeitsjubiläum eines Paares mit seiner einzigartigen Musik verzaubern. \nDas Hotel Boldern\, bekannt für seine atemberaubende Lage und exquisite Gastfreundschaft\, bietet den perfekten Rahmen für diese Feierlichkeit. Die Kombination aus der idyllischen Umgebung\, der eleganten Atmosphäre und der musikalischen Meisterleistung von Mister Saxr verspricht einen unvergesslichen Abend für das Jubelpaar und ihre Gäste. \nMister Saxr\, dessen Repertoire von klassischem Jazz über Pop bis hin zu modernen Hits reicht\, wird mit seinem Saxophonspiel die Herzen der Anwesenden berühren. Seine Fähigkeit\, Emotionen durch Musik zu vermitteln\, macht ihn zu einem der gefragtesten Musiker der Schweiz. Mit einer Mischung aus einfühlsamen Balladen und mitreissenden Stücken wird er die perfekte musikalische Begleitung für diesen besonderen Anlass bieten. \nDie Feier beginnt mit einem eleganten Empfang auf der Terrasse des Hotels\, von wo aus die Gäste einen herrlichen Blick auf den Zürichsee geniessen können. Begleitet von einem Glas Champagner und köstlichen Appetithäppchen wird Mister Saxr die Gäste mit sanften Melodien begrüssen und eine festliche Stimmung schaffen \nDas Hotel Boldern besticht nicht nur durch seine malerische Lage oberhalb des Zürichsees\, sondern auch durch seine einzigartige Mischung aus modernem Komfort und traditionellem Charme. Die liebevoll gestalteten Zimmer und Suiten bieten einen erholsamen Rückzugsort\, während die öffentlichen Bereiche des Hotels einladend und stilvoll eingerichtet sind. Das hauseigene Restaurant verwöhnt die Gäste mit kulinarischen Köstlichkeiten aus regionalen und saisonalen Zutaten\, die perfekt aufeinander abgestimmt sind. \nNach dem Empfang folgt ein exquisites Mittagsessen im Festsaal des Hotels\, bei dem Mister Saxr mit ausgewählten Musikstücken für eine unvergessliche Atmosphäre sorgen wird. Sein Auftritt wird sowohl romantische Momente als auch fröhliche Tanzrunden umfassen\, sodass für jeden Geschmack etwas dabei ist.
URL:https://www.saxophonist-live.ch/saxofonist-blog/event/ein-unvergesslicher-abend-mit-mister-saxr-im-hotel-boldern/
LOCATION:Hotel Boldern\, Boldernstrasse 83\, Männedorf\, 8708
CATEGORIES:MisterSaxr Event
ATTACH;FMTTYPE=image/jpeg:https://www.saxophonist-live.ch/saxofonist-blog/wp-content/uploads/2022/07/Wedding_MisterSaxr_Saxophonist.jpg
END:VEVENT
BEGIN:VEVENT
DTSTART;TZID=Europe/Zurich:20240626T140000
DTEND;TZID=Europe/Zurich:20240626T170000
DTSTAMP:20260424T133818
CREATED:20240611T122024Z
LAST-MODIFIED:20240611T122143Z
UID:3879-1719410400-1719421200@www.saxophonist-live.ch
SUMMARY:Ein exklusiver Auftritt von Mister Saxr im Prestige Continental Zug
DESCRIPTION:Am 26. Juni 2024 erwartet die Gäste von Bucher Reisen ein einzigartiges Erlebnis an Bord des exklusiven Prestige Continental Zuges. Der renommierte Saxophonist Mister Saxr wird die Reise von Bern nach Puidoux bei Lausanne mit einer aussergewöhnlichen musikalischen Darbietung begleiten. Die Gäste haben die exklusive Gelegenheit\, ab 14:00 Uhr in Bern einzusteigen und Mister Saxrs meisterhafte Saxophonklänge zu geniessen\, während der Zug durch die atemberaubende Schweizer Landschaft fährt. Mister Saxr wird während der zweistündigen Fahrt zwischen vier Zugabteilen auftreten und die Gäste mit seinem Saxophon in eine zauberhafte Klangwelt entführen. \n\n\nMister Saxr ist ein wahrer Virtuose auf dem Saxophon und bekannt für seine fesselnden Auftritte an den unterschiedlichsten Orten weltweit. Seine beeindruckende Karriere führte ihn zu Auftritten an sonnenverwöhnten Stränden\, verschneiten Skipisten\, Eisfeldern und luxuriösen Kreuzfahrtschiffen. Er verzauberte sein Publikum bei exklusiven Gala-Abenden\, auf prächtigen Golfplätzen und bei hochkarätigen Events. Ob Networking-Apéro\, legeres Sommerfest\, eleganter Empfang\, Cocktail-Party\, Abendveranstaltung\, Hochzeiten oder Firmenanlässe – Mister Saxr trifft den richtigen Ton. Seine Musik verbindet Eleganz mit Leidenschaft und schafft überall eine unvergleichliche Atmosphäre. Die Premiere in einem Zug ist für Mister Saxr eine aufregende neue Herausforderung\, auf die er sich besonders freut. \n\n\nDer Prestige Continental Zug bietet eine luxuriöse und unvergleichliche Reiseerfahrung. Mit seiner stilvollen Einrichtung\, erstklassigem Service und exquisitem Komfort ist dieser Zug ein wahres Meisterwerk der Eleganz. Während der Fahrt durch die schönsten Regionen der Schweiz geniessen die Gäste nicht nur den herausragenden Service\, sondern auch kulinarische Genüsse\, die diese Reise zu einem unvergesslichen Erlebnis machen. Der Prestige Continental-Express verkörpert eine Leidenschaft für wahre Schönheit und Eleganz. Aus ursprünglich als Speisewagen genutzten Fahrzeugen entstanden\, wurde der Zug ab 1999 umfassend umgestaltet\, um den ikonischen Stil der legendären Orient-Express-Salonwagen widerzuspiegeln. Der Prestige Continental Express umfasst drei luxuriöse Salon-Speisewagen: den «Le Salon Bleu»\, den «Le Rubis Noir» und den Piano-Barwagen «Le Diamant Bar». Mit seinem Belle-Époque-Design erinnert er an das goldene Zeitalter der Eisenbahn und begeistert seine Gäste durch seinen unvergleichlichen Charme und Stil. \n\n\nBucher Reisen ist bekannt für seine massgeschneiderten und exklusiven Reiseangebote\, die höchsten Ansprüchen gerecht werden. Mit einem besonderen Fokus auf Detailgenauigkeit und erstklassigen Kundenservice bietet Bucher Reisen seinen Gästen unvergessliche Momente und Erlebnisse. In Zusammenarbeit mit der BRIGHT ENTERTAINMENT AG\, die sich auf die Organisation aussergewöhnlicher Veranstaltungen und Entertainment-Erlebnisse spezialisiert hat\, wird diese Reise zu einem ganz besonderen Erlebnis. Mit umfassender Erfahrung und einem weitreichenden Netzwerk stellt die BRIGHT ENTERTAINMENT AG sicher\, dass jedes Event zu einem unvergesslichen Highlight wird. Gemeinsam mit Mister Saxr\, Bucher Reisen und dem Prestige Continental Zug garantiert die BRIGHT ENTERTAINMENT AG\, dass diese exklusive Veranstaltung alle Erwartungen übertreffen wird. \n\n\nMister Saxr freut sich auf ein unvergessliches Event und darauf\, all die Gäste auf eine musikalische Reise der Extraklasse mitzunehmen!
URL:https://www.saxophonist-live.ch/saxofonist-blog/event/ein-exklusiver-auftritt-von-mister-saxr-im-prestige-continental-zug/
LOCATION:Prestige Continental Zug\, Bern\, Hauptbahnhof\, Bern\, 3008\, Schweiz
CATEGORIES:MisterSaxr Event
ATTACH;FMTTYPE=image/jpeg:https://www.saxophonist-live.ch/saxofonist-blog/wp-content/uploads/2023/08/Mister_Saxr_Saxophonist_Sax_Schweiz_Zuerich_Events_Musik.jpg
END:VEVENT
END:VCALENDAR