BEGIN:VCALENDAR
VERSION:2.0
PRODID:-//MisterSaxr.ch | saxophonist-LIVE.ch | Blog | Firmenanlass Hochzeiten Events Saxofonist Musiker Saxophonist Schweiz Z&uuml;rich - ECPv6.15.8//NONSGML v1.0//EN
CALSCALE:GREGORIAN
METHOD:PUBLISH
X-ORIGINAL-URL:https://www.saxophonist-live.ch/saxofonist-blog
X-WR-CALDESC:Veranstaltungen für MisterSaxr.ch | saxophonist-LIVE.ch | Blog | Firmenanlass Hochzeiten Events Saxofonist Musiker Saxophonist Schweiz Z&uuml;rich
REFRESH-INTERVAL;VALUE=DURATION:PT1H
X-Robots-Tag:noindex
X-PUBLISHED-TTL:PT1H
BEGIN:VTIMEZONE
TZID:Europe/Zurich
BEGIN:DAYLIGHT
TZOFFSETFROM:+0100
TZOFFSETTO:+0200
TZNAME:CEST
DTSTART:20180325T010000
END:DAYLIGHT
BEGIN:STANDARD
TZOFFSETFROM:+0200
TZOFFSETTO:+0100
TZNAME:CET
DTSTART:20181028T010000
END:STANDARD
BEGIN:DAYLIGHT
TZOFFSETFROM:+0100
TZOFFSETTO:+0200
TZNAME:CEST
DTSTART:20190331T010000
END:DAYLIGHT
BEGIN:STANDARD
TZOFFSETFROM:+0200
TZOFFSETTO:+0100
TZNAME:CET
DTSTART:20191027T010000
END:STANDARD
BEGIN:DAYLIGHT
TZOFFSETFROM:+0100
TZOFFSETTO:+0200
TZNAME:CEST
DTSTART:20200329T010000
END:DAYLIGHT
BEGIN:STANDARD
TZOFFSETFROM:+0200
TZOFFSETTO:+0100
TZNAME:CET
DTSTART:20201025T010000
END:STANDARD
END:VTIMEZONE
BEGIN:VEVENT
DTSTART;TZID=Europe/Zurich:20190515T170000
DTEND;TZID=Europe/Zurich:20190515T220000
DTSTAMP:20260425T124038
CREATED:20190328T141623Z
LAST-MODIFIED:20190328T141623Z
UID:2104-1557939600-1557957600@www.saxophonist-live.ch
SUMMARY:Mister Saxr an der Award-Verleihung / Austellerabend
DESCRIPTION:Der Zürcher Saxophonist spielt an der Award-Verleihung und den anschliessenden Austellerabend von die Fachmessen SWISSTECH und PRODEX am Messe Basel. Mister Saxr spielt Bossa Novas\, Smooth Jazz und Popsongs vom Feinsten für die Gäste im Messe Basel. Als Alleinunterhalter ist er für die musikalische Umrahmung des Anlasses zuständig.
URL:https://www.saxophonist-live.ch/saxofonist-blog/event/mister-saxr-an-der-award-verleihung-austellerabend/
LOCATION:Messe Basel\, Messplatz 10\, Basel
CATEGORIES:MisterSaxr Event
ATTACH;FMTTYPE=image/jpeg:https://www.saxophonist-live.ch/saxofonist-blog/wp-content/uploads/2018/08/Mister_Saxr_Event-Saxophonist.jpeg
END:VEVENT
END:VCALENDAR