BEGIN:VCALENDAR
VERSION:2.0
PRODID:-//MisterSaxr.ch | saxophonist-LIVE.ch | Blog | Firmenanlass Hochzeiten Events Saxofonist Musiker Saxophonist Schweiz Z&uuml;rich - ECPv6.15.8//NONSGML v1.0//EN
CALSCALE:GREGORIAN
METHOD:PUBLISH
X-ORIGINAL-URL:https://www.saxophonist-live.ch/saxofonist-blog
X-WR-CALDESC:Veranstaltungen für MisterSaxr.ch | saxophonist-LIVE.ch | Blog | Firmenanlass Hochzeiten Events Saxofonist Musiker Saxophonist Schweiz Z&uuml;rich
REFRESH-INTERVAL;VALUE=DURATION:PT1H
X-Robots-Tag:noindex
X-PUBLISHED-TTL:PT1H
BEGIN:VTIMEZONE
TZID:Europe/Zurich
BEGIN:DAYLIGHT
TZOFFSETFROM:+0100
TZOFFSETTO:+0200
TZNAME:CEST
DTSTART:20190331T010000
END:DAYLIGHT
BEGIN:STANDARD
TZOFFSETFROM:+0200
TZOFFSETTO:+0100
TZNAME:CET
DTSTART:20191027T010000
END:STANDARD
BEGIN:DAYLIGHT
TZOFFSETFROM:+0100
TZOFFSETTO:+0200
TZNAME:CEST
DTSTART:20200329T010000
END:DAYLIGHT
BEGIN:STANDARD
TZOFFSETFROM:+0200
TZOFFSETTO:+0100
TZNAME:CET
DTSTART:20201025T010000
END:STANDARD
BEGIN:DAYLIGHT
TZOFFSETFROM:+0100
TZOFFSETTO:+0200
TZNAME:CEST
DTSTART:20210328T010000
END:DAYLIGHT
BEGIN:STANDARD
TZOFFSETFROM:+0200
TZOFFSETTO:+0100
TZNAME:CET
DTSTART:20211031T010000
END:STANDARD
END:VTIMEZONE
BEGIN:VEVENT
DTSTART;TZID=Europe/Zurich:20200303T170000
DTEND;TZID=Europe/Zurich:20200303T190000
DTSTAMP:20260424T083834
CREATED:20191211T072622Z
LAST-MODIFIED:20191211T072622Z
UID:2534-1583254800-1583262000@www.saxophonist-live.ch
SUMMARY:Privater Anlass im Carlton Zürich
DESCRIPTION:Der Zürcher Saxofonist begleitet ein privates Event. \nAls Alleinunterhalter ist er für die musikalische Umrahmung zuständig. Mister Saxr spielt Begleitmusik für die Gäste. Musik zur Unterhaltung\, Verweilen und Feiern. Die Gäste werden unterhalten mit Bossa Nova\, Pop\, Smooth Jazz\, Evergreens\, Disco\, Love-Songs und vielen weiteren Songs. Das Kult-Sax von Mister Saxr\, das Selmer Mark VI\, ist natürlich wie immer dabei. Mister Saxr berührt als leidenschaftlicher Musiker seine Zuhörer mit seinen sanften Saxklängen. \nIm Carlton Restaurant an der weltberühmten Bahnhofstrasse treffen sich kulinarische Geniesser und Weinliebhaber\, Geschäftspartner und Freunde im kosmopolitischen Ambiente.\nGerne verwöhnen wir Sie mit neu-interpretierten Klassikern aus unserer Spitzenküche sowie edlen Tropfen aus unserem legendären Weinkeller. Im preisgekrönten Weinkeller “The Vault” erwartet Sie eine einzigartige Atmosphäre. Ihre Weindegustation oder Ihren Apéro vor dem Essen können Sie direkt im Rotweinkeller geniessen\, während wir Ihnen im stimmungsvollen Gewölbekeller gerne den Businesslunch\, ein Abendessen oder ein “Wine & Dine” servieren. Der authentische Raum eignet sich ausserdem für Sitzungen und Präsentationen im unkomplizierten Rahmen.\nQuelle: www.carlton.ch
URL:https://www.saxophonist-live.ch/saxofonist-blog/event/privater-anlass-im-carlton-zuerich/
LOCATION:Carlton Zürich\, Bahnhofstrasse 41\, Zürich\, 8001\, Schweiz
CATEGORIES:MisterSaxr Event
ATTACH;FMTTYPE=image/jpeg:https://www.saxophonist-live.ch/saxofonist-blog/wp-content/uploads/2019/02/MisterSaxrCARLTON.jpg
END:VEVENT
END:VCALENDAR