BEGIN:VCALENDAR
VERSION:2.0
PRODID:-//MisterSaxr.ch | saxophonist-LIVE.ch | Blog | Firmenanlass Hochzeiten Events Saxofonist Musiker Saxophonist Schweiz Z&uuml;rich - ECPv6.15.8//NONSGML v1.0//EN
CALSCALE:GREGORIAN
METHOD:PUBLISH
X-WR-CALNAME:MisterSaxr.ch | saxophonist-LIVE.ch | Blog | Firmenanlass Hochzeiten Events Saxofonist Musiker Saxophonist Schweiz Z&uuml;rich
X-ORIGINAL-URL:https://www.saxophonist-live.ch/saxofonist-blog
X-WR-CALDESC:Veranstaltungen für MisterSaxr.ch | saxophonist-LIVE.ch | Blog | Firmenanlass Hochzeiten Events Saxofonist Musiker Saxophonist Schweiz Z&uuml;rich
REFRESH-INTERVAL;VALUE=DURATION:PT1H
X-Robots-Tag:noindex
X-PUBLISHED-TTL:PT1H
BEGIN:VTIMEZONE
TZID:Europe/Zurich
BEGIN:DAYLIGHT
TZOFFSETFROM:+0100
TZOFFSETTO:+0200
TZNAME:CEST
DTSTART:20210328T010000
END:DAYLIGHT
BEGIN:STANDARD
TZOFFSETFROM:+0200
TZOFFSETTO:+0100
TZNAME:CET
DTSTART:20211031T010000
END:STANDARD
BEGIN:DAYLIGHT
TZOFFSETFROM:+0100
TZOFFSETTO:+0200
TZNAME:CEST
DTSTART:20220327T010000
END:DAYLIGHT
BEGIN:STANDARD
TZOFFSETFROM:+0200
TZOFFSETTO:+0100
TZNAME:CET
DTSTART:20221030T010000
END:STANDARD
BEGIN:DAYLIGHT
TZOFFSETFROM:+0100
TZOFFSETTO:+0200
TZNAME:CEST
DTSTART:20230326T010000
END:DAYLIGHT
BEGIN:STANDARD
TZOFFSETFROM:+0200
TZOFFSETTO:+0100
TZNAME:CET
DTSTART:20231029T010000
END:STANDARD
END:VTIMEZONE
BEGIN:VEVENT
DTSTART;TZID=Europe/Zurich:20220521T180000
DTEND;TZID=Europe/Zurich:20220521T200000
DTSTAMP:20260424T195202
CREATED:20210820T111024Z
LAST-MODIFIED:20220517T071548Z
UID:2936-1653156000-1653163200@www.saxophonist-live.ch
SUMMARY:100-Jahre-Jubiläum der Zunft Hard
DESCRIPTION:Gesellschaftlicher Höhepunkt der Feierlichkeiten zum 100-Jahre-Jubiläum der Zürcher Zunft Hard\, wird der Jubiläumsball werden. Dieser findet am 21. Mai 2022 im Traditionshaus Baur au Lac statt. Mister Saxr begleitet die Zunft Hard an ihrem Ball. Er unterhält die Gäste mit Smooth-Jazz\, BossaNova und gediegener Tischmusik. Mister Saxr spielt ein Tenor-Saxophon der Marke Selmer (Mark VI). Der Schweizer Saxofonist berührt mit seinen Melodien. Dabei fungiert Mister Saxr\, selbst begeisterter Zoifter\, inoffiziell als die kleinste\, aber auch die authentischste Zunftmusik\, selbstverständlich im Kostüm wie beim «Sächsilüüte-Umzug». \nDie 5-Sterne-Residenz geniesst bis heute den Ruf als eines der besten Hotels der Welt. \nBegrüsst werden die Zünfter\, ihre Begleitung und geladene Gäste mit einem grossen Empfang inklusive Apéro im Garten des Luxus-Hotels\, der malerischen grünen Oase mitten in Zürich. Nach diesen ersten genussvollen Momenten disloziert die Feierschar in den Ballsaal\, wo die Teilnehmenden mit einem vorzüglichen Diner aus der preisgekrönten Baur au Lac-Küche verwöhnt werden. Und schon bald darauf werden erste Klänge des Ballorchesters durch die Räume schweben und die kulinarisch Gesättigten zum Tanz bitten. \nGemunkelt wird aus Kreisen des Ball-Organisationskomitees\, dass die Anwesenden noch mit einigen kleinen Überraschungen rechnen können.
URL:https://www.saxophonist-live.ch/saxofonist-blog/event/100-jahre-jubilaeum-der-zunft-hard/
LOCATION:Baur au Lac\, Talstrasse 1\, Zürich\, 8001\, Schweiz
CATEGORIES:MisterSaxr Event
ATTACH;FMTTYPE=image/jpeg:https://www.saxophonist-live.ch/saxofonist-blog/wp-content/uploads/2016/10/saxophon.jpg
END:VEVENT
END:VCALENDAR