BEGIN:VCALENDAR
VERSION:2.0
PRODID:-//MisterSaxr.ch | saxophonist-LIVE.ch | Blog | Firmenanlass Hochzeiten Events Saxofonist Musiker Saxophonist Schweiz Z&uuml;rich - ECPv6.15.8//NONSGML v1.0//EN
CALSCALE:GREGORIAN
METHOD:PUBLISH
X-WR-CALNAME:MisterSaxr.ch | saxophonist-LIVE.ch | Blog | Firmenanlass Hochzeiten Events Saxofonist Musiker Saxophonist Schweiz Z&uuml;rich
X-ORIGINAL-URL:https://www.saxophonist-live.ch/saxofonist-blog
X-WR-CALDESC:Veranstaltungen für MisterSaxr.ch | saxophonist-LIVE.ch | Blog | Firmenanlass Hochzeiten Events Saxofonist Musiker Saxophonist Schweiz Z&uuml;rich
REFRESH-INTERVAL;VALUE=DURATION:PT1H
X-Robots-Tag:noindex
X-PUBLISHED-TTL:PT1H
BEGIN:VTIMEZONE
TZID:Europe/Zurich
BEGIN:DAYLIGHT
TZOFFSETFROM:+0100
TZOFFSETTO:+0200
TZNAME:CEST
DTSTART:20200329T010000
END:DAYLIGHT
BEGIN:STANDARD
TZOFFSETFROM:+0200
TZOFFSETTO:+0100
TZNAME:CET
DTSTART:20201025T010000
END:STANDARD
BEGIN:DAYLIGHT
TZOFFSETFROM:+0100
TZOFFSETTO:+0200
TZNAME:CEST
DTSTART:20210328T010000
END:DAYLIGHT
BEGIN:STANDARD
TZOFFSETFROM:+0200
TZOFFSETTO:+0100
TZNAME:CET
DTSTART:20211031T010000
END:STANDARD
BEGIN:DAYLIGHT
TZOFFSETFROM:+0100
TZOFFSETTO:+0200
TZNAME:CEST
DTSTART:20220327T010000
END:DAYLIGHT
BEGIN:STANDARD
TZOFFSETFROM:+0200
TZOFFSETTO:+0100
TZNAME:CET
DTSTART:20221030T010000
END:STANDARD
END:VTIMEZONE
BEGIN:VEVENT
DTSTART;TZID=Europe/Zurich:20210821T190000
DTEND;TZID=Europe/Zurich:20210821T200000
DTSTAMP:20260425T122157
CREATED:20210819T112310Z
LAST-MODIFIED:20210819T112310Z
UID:2925-1629572400-1629576000@www.saxophonist-live.ch
SUMMARY:Private Feier
DESCRIPTION:Der Zürcher Saxofonist begleitet ein Privatanlass in Maur. \nAls Alleinunterhalter ist er für die musikalische Umrahmung zuständig. Mister Saxr spielt Begleitmusik für die Gäste Musik zur Unterhaltung\, Verweilen und Feiern. Der Zürcher Saxofonist unterhält die Gäste mit feinsten Saxophon-Klängen. Neben Apéromusik spielt er aber auch romantische Balladen\, Smooth-Jazz aber vor allem Lovesongs. \nDas Kult-Sax von Mister Saxr\, das Selmer Mark VI\, ist natürlich wie immer dabei. Mister Saxr berührt als leidenschaftlicher Musiker seine Zuhörer mit seinen sanften Saxklängen.
URL:https://www.saxophonist-live.ch/saxofonist-blog/event/private-feier-3/
LOCATION:Maur\, ZH\, 8124\, Schweiz
CATEGORIES:MisterSaxr Event
ATTACH;FMTTYPE=image/jpeg:https://www.saxophonist-live.ch/saxofonist-blog/wp-content/uploads/2020/10/MisterSaxr_Saxophonistlive_Zürich_6.jpeg
END:VEVENT
END:VCALENDAR