BEGIN:VCALENDAR
VERSION:2.0
PRODID:-//MisterSaxr.ch | saxophonist-LIVE.ch | Blog | Firmenanlass Hochzeiten Events Saxofonist Musiker Saxophonist Schweiz Z&uuml;rich - ECPv6.15.8//NONSGML v1.0//EN
CALSCALE:GREGORIAN
METHOD:PUBLISH
X-ORIGINAL-URL:https://www.saxophonist-live.ch/saxofonist-blog
X-WR-CALDESC:Veranstaltungen für MisterSaxr.ch | saxophonist-LIVE.ch | Blog | Firmenanlass Hochzeiten Events Saxofonist Musiker Saxophonist Schweiz Z&uuml;rich
REFRESH-INTERVAL;VALUE=DURATION:PT1H
X-Robots-Tag:noindex
X-PUBLISHED-TTL:PT1H
BEGIN:VTIMEZONE
TZID:Europe/Zurich
BEGIN:DAYLIGHT
TZOFFSETFROM:+0100
TZOFFSETTO:+0200
TZNAME:CEST
DTSTART:20240331T010000
END:DAYLIGHT
BEGIN:STANDARD
TZOFFSETFROM:+0200
TZOFFSETTO:+0100
TZNAME:CET
DTSTART:20241027T010000
END:STANDARD
BEGIN:DAYLIGHT
TZOFFSETFROM:+0100
TZOFFSETTO:+0200
TZNAME:CEST
DTSTART:20250330T010000
END:DAYLIGHT
BEGIN:STANDARD
TZOFFSETFROM:+0200
TZOFFSETTO:+0100
TZNAME:CET
DTSTART:20251026T010000
END:STANDARD
BEGIN:DAYLIGHT
TZOFFSETFROM:+0100
TZOFFSETTO:+0200
TZNAME:CEST
DTSTART:20260329T010000
END:DAYLIGHT
BEGIN:STANDARD
TZOFFSETFROM:+0200
TZOFFSETTO:+0100
TZNAME:CET
DTSTART:20261025T010000
END:STANDARD
END:VTIMEZONE
BEGIN:VEVENT
DTSTART;TZID=Europe/Zurich:20250705T180000
DTEND;TZID=Europe/Zurich:20250705T230000
DTSTAMP:20260422T171709
CREATED:20250620T140029Z
LAST-MODIFIED:20250620T140029Z
UID:4221-1751738400-1751756400@www.saxophonist-live.ch
SUMMARY:Mister Saxr & Bella C – Lounge-Musik auf höchstem Niveau im Dolder Grand Hotel
DESCRIPTION:Hoch über Zürich\, mit Blick auf Stadt\, See und Alpen\, liegt eines der renommiertesten Häuser der Schweiz: das Dolder Grand Hotel. Genau hier\, im stilvollen Ambiente der grosszügigen Empfangshalle\, sorgt das Duo Mister Saxr & Bella C für ein musikalisches Erlebnis der besonderen Art. Mit exklusiver Lounge-Musik begleiten sie einen hochkarätigen Anlass und füllen den Raum mit eleganten Klängen\, die perfekt zur Atmosphäre des Hauses passen. \nMister Saxr\, bekannt für seine feinfühlige Saxophonkunst\, trifft auf Bella C\, deren Stimme zwischen Jazz\, Soul und modernem Pop mühelos changiert. Gemeinsam schaffen sie eine akustische Visitenkarte des Moments – dezent\, edel und immer im Einklang mit der Umgebung. Die Gäste spüren sofort: Musik auf diesem Niveau ist keine Nebensache\, sondern Teil der Inszenierung – und Mister Saxr weiss genau\, wie man Klang und Raum miteinander verbindet. \nDie Empfangshalle des Dolder Grand Hotels ist mehr als nur der Einstieg in ein Fünfsterne-Erlebnis – sie ist ein Ort der Begegnung\, des Ankommens\, des Innehaltens. Mit ihrer architektonischen Grosszügigkeit\, den ausgesuchten Materialien und dem diskreten Luxus bildet sie die ideale Bühne für musikalische Feinheiten. \nMister Saxr versteht es\, diesen Raum klanglich zu lesen. Seine Saxophonlinien schweben durch die hohen Decken\, reflektieren an den Marmorsäulen und verschmelzen mit Bella C Gesang zu einem harmonischen Klangbild. Gäste\, die ankommen\, ein Glas Champagner geniessen oder sich für ein Gespräch zurückziehen\, werden von dieser musikalischen Präsenz unmerklich umhüllt – ohne Worte willkommen geheissen. Für Mister Saxr ist das Dolder ein Ort\, der wie gemacht ist für musikalische Qualität auf Augenhöhe. \nBella C ist eine Sängerin\, die mit Stilbewusstsein\, Emotion und technischer Finesse begeistert. Ihre Stimme trägt mühelos durch den Raum – mal sanft und gefühlvoll\, mal rhythmisch akzentuiert. Im Zusammenspiel mit Mister Saxr entsteht ein echter musikalischer Dialog: Sie führt mit Stimme und Präsenz\, er antwortet mit warmen Saxophonklängen\, die sich wie eine zweite Stimme durch die Melodie ziehen. \nFür Mister Saxr ist die Zusammenarbeit mit Bella C eine kreative Partnerschaft auf hohem Niveau. Beide bringen Erfahrung\, Gespür und Leidenschaft mit – und vor allem die Fähigkeit\, sich ganz auf den Moment und das Publikum einzulassen. Gerade im edlen Rahmen des Dolder Grand Hotels entfaltet dieses Zusammenspiel seine volle Wirkung: unaufdringlich und gleichzeitig unvergesslich. \nEin Abend mit Mister Saxr & Bella C im Dolder Grand Hotel zeigt\, wie Lounge-Musik nicht nur begleiten\, sondern bereichern kann. Es ist die Kunst\, mit wenig Lautstärke viel Wirkung zu erzielen – und genau das beherrschen die beiden perfekt. Wer sie dort live erlebt\, spürt: Hier wird nicht einfach Musik gemacht – hier wird ein Raum in Klang verwandelt.
URL:https://www.saxophonist-live.ch/saxofonist-blog/event/mister-saxr-bella-c-lounge-musik-auf-hoechstem-niveau-im-dolder-grand-hotel/
LOCATION:The Dolder Grand\, Kurhausstrasse 65\, Zürich\, 8032\, Schweiz
CATEGORIES:MisterSaxr Event
ATTACH;FMTTYPE=image/jpeg:https://www.saxophonist-live.ch/saxofonist-blog/wp-content/uploads/2025/06/3_MisterSaxr_BellaC_Music.jpg
END:VEVENT
END:VCALENDAR