BEGIN:VCALENDAR
VERSION:2.0
PRODID:-//MisterSaxr.ch | saxophonist-LIVE.ch | Blog | Firmenanlass Hochzeiten Events Saxofonist Musiker Saxophonist Schweiz Z&uuml;rich - ECPv6.15.8//NONSGML v1.0//EN
CALSCALE:GREGORIAN
METHOD:PUBLISH
X-ORIGINAL-URL:https://www.saxophonist-live.ch/saxofonist-blog
X-WR-CALDESC:Veranstaltungen für MisterSaxr.ch | saxophonist-LIVE.ch | Blog | Firmenanlass Hochzeiten Events Saxofonist Musiker Saxophonist Schweiz Z&uuml;rich
REFRESH-INTERVAL;VALUE=DURATION:PT1H
X-Robots-Tag:noindex
X-PUBLISHED-TTL:PT1H
BEGIN:VTIMEZONE
TZID:Europe/Zurich
BEGIN:DAYLIGHT
TZOFFSETFROM:+0100
TZOFFSETTO:+0200
TZNAME:CEST
DTSTART:20260329T010000
END:DAYLIGHT
BEGIN:STANDARD
TZOFFSETFROM:+0200
TZOFFSETTO:+0100
TZNAME:CET
DTSTART:20261025T010000
END:STANDARD
BEGIN:DAYLIGHT
TZOFFSETFROM:+0100
TZOFFSETTO:+0200
TZNAME:CEST
DTSTART:20270328T010000
END:DAYLIGHT
BEGIN:STANDARD
TZOFFSETFROM:+0200
TZOFFSETTO:+0100
TZNAME:CET
DTSTART:20271031T010000
END:STANDARD
BEGIN:DAYLIGHT
TZOFFSETFROM:+0100
TZOFFSETTO:+0200
TZNAME:CEST
DTSTART:20280326T010000
END:DAYLIGHT
BEGIN:STANDARD
TZOFFSETFROM:+0200
TZOFFSETTO:+0100
TZNAME:CET
DTSTART:20281029T010000
END:STANDARD
END:VTIMEZONE
BEGIN:VEVENT
DTSTART;TZID=Europe/Zurich:20270828T180000
DTEND;TZID=Europe/Zurich:20270828T233000
DTSTAMP:20260422T205651
CREATED:20250930T155953Z
LAST-MODIFIED:20250930T155953Z
UID:4323-1819476000-1819495800@www.saxophonist-live.ch
SUMMARY:Privatanlass im Lakeside Zürich – Duo Bella C & Mister Saxr
DESCRIPTION:Das Lakeside am Zürichsee gehört zu den exklusivsten Locations der Stadt. Direkt am Ufer gelegen\, bietet es eine unvergleichliche Aussicht auf den See und die Alpen. Für besondere Anlässe schafft es die perfekte Kulisse: modern\, elegant und zugleich nah an der Natur. Im Rahmen eines exklusiven Privatanlasses wird diese besondere Atmosphäre im Jahr 2026 durch ein musikalisches Highlight bereichert – das Duo Bella C und Mister Saxr gestalten gemeinsam den Abend und sorgen für ein Erlebnis\, das alle Sinne anspricht. \nEin Privatanlass im Lakeside zeichnet sich durch Individualität und höchste Qualität aus. Die Gäste geniessen nicht nur kulinarische Spitzenleistungen\, sondern auch eine Umgebung\, die sowohl festlich als auch entspannt wirkt. Für die musikalische Begleitung bietet die Kombination von Duo Bella C und Mister Saxr genau die richtige Mischung aus Eleganz\, Dynamik und Gefühl. \nBella C überzeugt mit ihrer ausdrucksstarken Stimme\, die Genres von Pop bis Jazz mühelos verbindet. Ihre Interpretationen reichen von gefühlvollen Balladen bis zu energiegeladenen Songs\, die das Publikum mitreissen. Mister Saxr ergänzt diese Stimme mit dem warmen\, facettenreichen Klang seines Selmer Supreme Saxophons. Gemeinsam entsteht ein Dialog zwischen Gesang und Instrument\, der jedem Song eine besondere Tiefe verleiht. \nWährend die Gäste im Lakeside kulinarische Höhepunkte geniessen\, schaffen die beiden Musiker:innen eine Atmosphäre\, die individuell auf den Anlass abgestimmt ist. Leichte Jazzklänge zum Apéro\, gefühlvolle Balladen während des Essens\, später dynamischere Titel\, die für Energie und Lebensfreude sorgen – das Repertoire ist vielseitig und passt sich der Stimmung des Abends an. Gerade in einem exklusiven Rahmen wie diesem sind es die Zwischentöne\, die zählen: Musik\, die nicht im Vordergrund steht\, aber immer präsent ist und den Moment veredelt. \nDas Zusammenspiel von Bella C und Mister Saxr ist mehr als eine musikalische Darbietung. Es ist ein Miteinander\, das spürbar macht\, wie gut sich zwei Künstler:innen ergänzen können. Die Stimme von Bella C trägt die Emotion\, das Saxophon von Mister Saxr gibt ihr Raum und Tiefe. Gemeinsam schaffen sie eine Balance\, die den Abend zu etwas Einzigartigem macht. \nDas Lakeside Zürich bietet dafür den perfekten Rahmen. Die glitzernde Wasseroberfläche\, das Licht der Stadt im Hintergrund und die Eleganz der Location verschmelzen mit Musik und Kulinarik zu einem Gesamterlebnis. Für die Gäste wird deutlich: Ein Privatanlass hier ist nicht nur eine Feier\, sondern ein Ereignis\, das lange nachklingt. \nMit Duo Bella C und Mister Saxr erhält der Privatanlass im Lakeside Zürich 2026 eine musikalische Dimension\, die Romantik\, Eleganz und Lebensfreude vereint – ein Abend\, der in Erinnerung bleibt.
URL:https://www.saxophonist-live.ch/saxofonist-blog/event/privatanlass-im-lakeside-zuerich-duo-bella-c-mister-saxr/
LOCATION:Lakeside Zürich\, Bellerivestrasse 170\, Zürich\, 8008
CATEGORIES:MisterSaxr Event
ATTACH;FMTTYPE=image/jpeg:https://www.saxophonist-live.ch/saxofonist-blog/wp-content/uploads/2025/09/MisterSaxr_BellaC_TEST_ROMAN_BELLAAPP1ee-2.jpg
END:VEVENT
END:VCALENDAR