BEGIN:VCALENDAR
VERSION:2.0
PRODID:-//MisterSaxr.ch | saxophonist-LIVE.ch | Blog | Firmenanlass Hochzeiten Events Saxofonist Musiker Saxophonist Schweiz Z&uuml;rich - ECPv6.15.8//NONSGML v1.0//EN
CALSCALE:GREGORIAN
METHOD:PUBLISH
X-ORIGINAL-URL:https://www.saxophonist-live.ch/saxofonist-blog
X-WR-CALDESC:Veranstaltungen für MisterSaxr.ch | saxophonist-LIVE.ch | Blog | Firmenanlass Hochzeiten Events Saxofonist Musiker Saxophonist Schweiz Z&uuml;rich
REFRESH-INTERVAL;VALUE=DURATION:PT1H
X-Robots-Tag:noindex
X-PUBLISHED-TTL:PT1H
BEGIN:VTIMEZONE
TZID:Europe/Zurich
BEGIN:DAYLIGHT
TZOFFSETFROM:+0100
TZOFFSETTO:+0200
TZNAME:CEST
DTSTART:20180325T010000
END:DAYLIGHT
BEGIN:STANDARD
TZOFFSETFROM:+0200
TZOFFSETTO:+0100
TZNAME:CET
DTSTART:20181028T010000
END:STANDARD
BEGIN:DAYLIGHT
TZOFFSETFROM:+0100
TZOFFSETTO:+0200
TZNAME:CEST
DTSTART:20190331T010000
END:DAYLIGHT
BEGIN:STANDARD
TZOFFSETFROM:+0200
TZOFFSETTO:+0100
TZNAME:CET
DTSTART:20191027T010000
END:STANDARD
BEGIN:DAYLIGHT
TZOFFSETFROM:+0100
TZOFFSETTO:+0200
TZNAME:CEST
DTSTART:20200329T010000
END:DAYLIGHT
BEGIN:STANDARD
TZOFFSETFROM:+0200
TZOFFSETTO:+0100
TZNAME:CET
DTSTART:20201025T010000
END:STANDARD
END:VTIMEZONE
BEGIN:VEVENT
DTSTART;TZID=Europe/Zurich:20190704T173000
DTEND;TZID=Europe/Zurich:20190704T213000
DTSTAMP:20260424T213247
CREATED:20190418T121018Z
LAST-MODIFIED:20190520T130307Z
UID:2139-1562261400-1562275800@www.saxophonist-live.ch
SUMMARY:Mister Saxr auf dem Partyschiff
DESCRIPTION:Für das diesjährige Firmen-Sommerfest\, organisiert die Stiftung FAR-Suisse eine gemütliche Rundfahrt mit Apéro und Nachtessen auf dem Partyschiff Ufnau. Auf dem Zürichsee wird der Tenor-Saxophonist Mister Saxr\, die schönsten Melodien im Sommer-Ambiente spielen. Mister Saxr lebt und arbeitet in der wunderschönen Limmatstadt und spielt oft und gerne auch auf dem Zürichsee. Die romantische Zürichsee-Schifffahrt für geladene Gäste führt die geladenen VIP’s vom Bürkliplatz in Zürich über Wollishofen\, Thalwil\, Horgen\, Insel Ufenau\, Kilchberg\, Rüschlikon\, Oberrieden\, Horgen\, Käpfnach\, Wädenswil\, Richterswil\, Rapperswil\, Uetikon am See\, Meilen\, Feldmeilen\, Erlenbach\, Küsnacht. Bis zur Rückkehr mitten in der Nacht beim Bellevue Zürich. Die warmen und sommerlichen Klänge des Tenorsaxofonisten werden die ganze Nacht dauern und die Gäste werden mit Bossa Nova\, Smooth Jazz\, Evergreens\, Lounge-Music\, Chill-out und auch funkigen Discomelodien unterhalten. Die Musik wird unplugged und live dargeboten. Der einzigartige Klang des Instrumentes Selmer Mark VI ist das Kennzeichen von MisterSaxr. Melodien zum Träumen runden die musikalische Show ab.
URL:https://www.saxophonist-live.ch/saxofonist-blog/event/mister-saxr-auf-dem-partyschiff/
LOCATION:Partyschiff Ufnau\, Zürichsee\, ZH\, Schweiz
CATEGORIES:MisterSaxr Event
ATTACH;FMTTYPE=image/jpeg:https://www.saxophonist-live.ch/saxofonist-blog/wp-content/uploads/2019/03/Saxophonist-Musiker-Schiff-Boot-Walensee-Murtensee-1-e1686304064556.jpg
END:VEVENT
END:VCALENDAR