BEGIN:VCALENDAR
VERSION:2.0
PRODID:-//MisterSaxr.ch | saxophonist-LIVE.ch | Blog | Firmenanlass Hochzeiten Events Saxofonist Musiker Saxophonist Schweiz Z&uuml;rich - ECPv6.15.8//NONSGML v1.0//EN
CALSCALE:GREGORIAN
METHOD:PUBLISH
X-ORIGINAL-URL:https://www.saxophonist-live.ch/saxofonist-blog
X-WR-CALDESC:Veranstaltungen für MisterSaxr.ch | saxophonist-LIVE.ch | Blog | Firmenanlass Hochzeiten Events Saxofonist Musiker Saxophonist Schweiz Z&uuml;rich
REFRESH-INTERVAL;VALUE=DURATION:PT1H
X-Robots-Tag:noindex
X-PUBLISHED-TTL:PT1H
BEGIN:VTIMEZONE
TZID:Europe/Zurich
BEGIN:DAYLIGHT
TZOFFSETFROM:+0100
TZOFFSETTO:+0200
TZNAME:CEST
DTSTART:20230326T010000
END:DAYLIGHT
BEGIN:STANDARD
TZOFFSETFROM:+0200
TZOFFSETTO:+0100
TZNAME:CET
DTSTART:20231029T010000
END:STANDARD
BEGIN:DAYLIGHT
TZOFFSETFROM:+0100
TZOFFSETTO:+0200
TZNAME:CEST
DTSTART:20240331T010000
END:DAYLIGHT
BEGIN:STANDARD
TZOFFSETFROM:+0200
TZOFFSETTO:+0100
TZNAME:CET
DTSTART:20241027T010000
END:STANDARD
BEGIN:DAYLIGHT
TZOFFSETFROM:+0100
TZOFFSETTO:+0200
TZNAME:CEST
DTSTART:20250330T010000
END:DAYLIGHT
BEGIN:STANDARD
TZOFFSETFROM:+0200
TZOFFSETTO:+0100
TZNAME:CET
DTSTART:20251026T010000
END:STANDARD
END:VTIMEZONE
BEGIN:VEVENT
DTSTART;TZID=Europe/Zurich:20241207T090000
DTEND;TZID=Europe/Zurich:20241207T160000
DTSTAMP:20260423T055413
CREATED:20240708T092326Z
LAST-MODIFIED:20240708T092326Z
UID:3926-1733562000-1733587200@www.saxophonist-live.ch
SUMMARY:Saxy Chlaus Mister Saxr live @ Zentrum Witikon
DESCRIPTION:Nach dem Auftritts in der Confiserie Honold am 6. Dezember 2024\, kehrt Mister Saxr am folgenden Tag mit einem erweiterten Programm zurück. Am 7. Dezember 2024 wird er als Sax Nikolaus im gesamten Zentrum Witikon auftreten und gemeinsam mit dem Engeli (Christkind) einen einzigartigen Live-Act präsentieren\, der die Weihnachtszeit auf besondere Weise einläutet. \nMister Saxr’s Leidenschaft für das Saxophonspielen sind unübertroffen. Für diesen besonderen Anlass schlüpft er erneut in sein festliches Samichlaus-Kostüm\, das ihm den charmanten Spitznamen “Saxy Chlaus” eingebracht hat. Mit seinem Selmer Saxophon\, einem Instrument von höchster Qualität\, wird er durch das Zentrum Witikon ziehen und weihnachtliche Melodien erklingen lassen\, die Herzen berühren und eine festliche Stimmung verbreiten. \nAn diesem besonderen Tag wird Mister Saxr von einem Engel begleitet. Dieser Engeli\, gekleidet in ein himmlisches Kostüm\, ergänzt die festliche Atmosphäre mit seinem anmutigen Präsenz. Gemeinsam werden sie als himmlisches Duo durch das Zentrum ziehen und die Besucher mit ihren musikalischen Darbietungen verzaubern. Diese besondere Kombination aus Musik und Engelspräsenz verspricht ein unvergessliches Erlebnis für Gross und Klein. \nDas Zentrum Witikon gehört zu den ersten Einkaufszentren der Schweiz\, die im Konzept eines Open Space Zentrums realisiert wurden. Diese innovative Architektur schafft ein offenes und einladendes Ambiente\, das Besucher zum Verweilen einlädt. Mit einer Vielzahl von Geschäften\, gastronomischen Angeboten und kulturellen Veranstaltungen ist das Zentrum Witikon ein lebendiger Treffpunkt für die gesamte Gemeinschaft. \nEin besonderer Tag für die ganze Familie: Die Veranstaltung am 7. Dezember 2024 ist öffentlich und richtet sich an alle Besucher des Zentrums Witikon. Kinder können sich auf eine Begegnung mit dem Saxy Chlaus und seinem Engeli freuen\, während sie die festlichen Klänge des Saxophons geniessen. Die Erwachsenen können sich von der einzigartigen Atmosphäre und den musikalischen Darbietungen verzaubern lassen. \nDer Live-Act von Mister Saxr und dem Christkind wird an verschiedenen Orten im Zentrum Witikon stattfinden\, sodass alle Besucher die Gelegenheit haben\, die Aufführungen mitzuerleben. Diese besondere Darbietung ist nicht nur ein musikalisches Highlight\, sondern auch eine visuelle Freude\, die die festliche Stimmung der Weihnachtszeit perfekt einfängt. \nSeien Sie dabei und erleben Sie die Magie: Lassen Sie sich dieses aussergewöhnliche Ereignis nicht entgehen. Kommen Sie am 7. Dezember 2024 ins Zentrum Witikon und erleben Sie Mister Saxr als Saxy Chlaus und seinen Engeli in einem unvergesslichen Live-Act. Geniessen Sie die festliche Stimmung\, lassen Sie sich von den Klängen des Selmer Saxophons verzaubern und erleben Sie einen Tag voller Freude und weihnachtlicher Magie im Zentrum Witikon.
URL:https://www.saxophonist-live.ch/saxofonist-blog/event/saxy-chlaus-mister-saxr-live-zentrum-witikon/
LOCATION:Zentrum Witikon\, Witikonerstrasse 279-299\, Zürich\, 8053
CATEGORIES:MisterSaxr Event
ATTACH;FMTTYPE=image/jpeg:https://www.saxophonist-live.ch/saxofonist-blog/wp-content/uploads/2024/07/MisterSaxr_Engel_Chlauskostuem_Weihnachtsmarkt_WalkingAct.jpg
END:VEVENT
BEGIN:VEVENT
DTSTART;TZID=Europe/Zurich:20241215T100000
DTEND;TZID=Europe/Zurich:20241215T170000
DTSTAMP:20260423T055413
CREATED:20240625T123631Z
LAST-MODIFIED:20240625T123631Z
UID:3892-1734256800-1734282000@www.saxophonist-live.ch
SUMMARY:Adventsmarkt in Flims: Mister Saxr und das Christkind sind wieder dabei!
DESCRIPTION:Auch in diesem Jahr ist Saxy-Chlaus Mister Saxr erneut am Adventsmarkt in Flims zu erleben. Am Sonntag\, den 15. Dezember 2024\, wird er zusammen mit dem Christkind in seinem festlichen Samichlauskostüm die Herzen der Besucher erfreuen. Diese zauberhafte Veranstaltung findet auf dem Dorfplatz in Flims-Waldhaus statt\, in der Nähe des idyllischen Caumasees. \nMister Saxr\, bekannt als charmanter St. Nikolaus\, widmet sich liebevoll den Kindern\, spielt Weihnachtslieder auf seinem Saxophon und versetzt die kleinen Besucher in eine zauberhafte Welt voller Musik und Magie. Von „Last Christmas“ über „White Christmas“ bis hin zu „Stille Nacht“ und vielen weiteren Weihnachtsklassikern – sein Repertoire lässt keine Wünsche offen. \nDas Christkind\, dargestellt von der talentierten Eiskunstläuferin Lorena\, begleitet Mister Saxr bei diesem besonderen Walkingact / Walking Act. Gemeinsam sind sie ein beliebtes Selfie-Motiv und Publikumsmagnet\, der nicht nur die Kleinen\, sondern auch die Erwachsenen begeistert. \nDer Adventsmarkt in Flims bietet eine Vielzahl an Erlebnissen für Gross und Klein. Neben Mister Saxr und dem Christkind gibt es zahlreiche Stände\, die weihnachtliche Produkte anbieten. Ein besonderes Highlight ist der Stand der Stiftung Wunderlampe\, deren Erlöse schwerkranken und beeinträchtigten Kindern Herzenswünsche erfüllen. Mit viel Engagement und Hingabe setzt sich die Stiftung dafür ein\, unvergessliche Momente und Erlebnisse zu schaffen\, die den betroffenen Kindern und ihren Familien Freude und Hoffnung schenken. Am diesjährigen Adventsmarkt in Flims wird die Stiftung mit einem eigenen Stand vertreten sein. Hier können Besucher nicht nur mehr über die beeindruckende Arbeit der Stiftung erfahren\, sondern auch durch den Kauf von handgefertigten Produkten zur Erfüllung weiterer Herzenswünsche beitragen. Jeder Besuch und jeder Einkauf unterstützt die wunderbare Mission der Stiftung Wunderlampe und bringt ein Stückchen mehr Weihnachtszauber in das Leben dieser besonderen Kinder. \nDer Eintritt zum Markt ist kostenlos und verspricht unvergessliche Momente in der winterlichen Adventslandschaft von Flims. Mister Saxr alias Saxy-Chlaus und das Christkind freuen sich auf Ihren Besuch und darauf\, den Adventszauber mit Ihnen zu teilen.
URL:https://www.saxophonist-live.ch/saxofonist-blog/event/adventsmarkt-in-flims-mister-saxr-und-das-christkind-sind-wieder-dabei/
LOCATION:Adventsmarkt Flims\, Rudi Dadens 12\, Flims Waldhaus\, 7018\, Schweiz
CATEGORIES:MisterSaxr Event
ATTACH;FMTTYPE=image/jpeg:https://www.saxophonist-live.ch/saxofonist-blog/wp-content/uploads/2024/06/MisterSaxr_Engel_Chlauskostuem_Weihnachtsmarkt_193.jpg
END:VEVENT
END:VCALENDAR