BEGIN:VCALENDAR
VERSION:2.0
PRODID:-//MisterSaxr.ch | saxophonist-LIVE.ch | Blog | Firmenanlass Hochzeiten Events Saxofonist Musiker Saxophonist Schweiz Z&uuml;rich - ECPv6.15.8//NONSGML v1.0//EN
CALSCALE:GREGORIAN
METHOD:PUBLISH
X-ORIGINAL-URL:https://www.saxophonist-live.ch/saxofonist-blog
X-WR-CALDESC:Veranstaltungen für MisterSaxr.ch | saxophonist-LIVE.ch | Blog | Firmenanlass Hochzeiten Events Saxofonist Musiker Saxophonist Schweiz Z&uuml;rich
REFRESH-INTERVAL;VALUE=DURATION:PT1H
X-Robots-Tag:noindex
X-PUBLISHED-TTL:PT1H
BEGIN:VTIMEZONE
TZID:Europe/Zurich
BEGIN:DAYLIGHT
TZOFFSETFROM:+0100
TZOFFSETTO:+0200
TZNAME:CEST
DTSTART:20230326T010000
END:DAYLIGHT
BEGIN:STANDARD
TZOFFSETFROM:+0200
TZOFFSETTO:+0100
TZNAME:CET
DTSTART:20231029T010000
END:STANDARD
BEGIN:DAYLIGHT
TZOFFSETFROM:+0100
TZOFFSETTO:+0200
TZNAME:CEST
DTSTART:20240331T010000
END:DAYLIGHT
BEGIN:STANDARD
TZOFFSETFROM:+0200
TZOFFSETTO:+0100
TZNAME:CET
DTSTART:20241027T010000
END:STANDARD
BEGIN:DAYLIGHT
TZOFFSETFROM:+0100
TZOFFSETTO:+0200
TZNAME:CEST
DTSTART:20250330T010000
END:DAYLIGHT
BEGIN:STANDARD
TZOFFSETFROM:+0200
TZOFFSETTO:+0100
TZNAME:CET
DTSTART:20251026T010000
END:STANDARD
END:VTIMEZONE
BEGIN:VEVENT
DTSTART;TZID=Europe/Zurich:20240522T170000
DTEND;TZID=Europe/Zurich:20240522T230000
DTSTAMP:20260423T151616
CREATED:20230609T081531Z
LAST-MODIFIED:20240219T144223Z
UID:3531-1716397200-1716418800@www.saxophonist-live.ch
SUMMARY:Corporate Event mit Mister Saxr & Patricia Seidl
DESCRIPTION:Die musikalische Begleitung von Mister Saxr und Patricia Seidl verleiht dem Corporate Event der Meier Tobler AG eine einzigartige Note. Ihre Leidenschaft für Musik und ihr herausragendes Können schaffen eine besondere Atmosphäre\, in der sich die Gäste wohl und inspiriert fühlen. Die Kombination aus dem eleganten Saxophonspiel und der energiegeladenen Performance von Patricia Seidl tragen dazu bei\, den Event zu einem unvergesslichen Ereignis zu machen und die Botschaft von Meier Tobler als innovatives und leidenschaftliches Unternehmen zu unterstreichen. \nDie Meier Tobler AG aus Nebikon\, ein angesehenes Schweizer Traditionsunternehmen\, veranstaltet einen herausragenden und gepflegten Corporate Event. Als führender Anbieter von zuverlässigen und kosteneffizienten Heizsystemen für verschiedene Energieträger\, ist Meier Tobler bekannt für die Entwicklung massgeschneiderter Lösungen\, die optimal auf die individuellen Bedürfnisse und Zielsetzungen zugeschnitten sind. \nDer Corporate Event der Meier Tobler AG wird nicht nur durch die herausragenden Produkte und Lösungen des Unternehmens geprägt\, sondern auch durch eine musikalische Begleitung\, die den Abend zu einem unvergesslichen Erlebnis machen. Die renommierten Künstler Mister Saxr\, dem leidenschaftlichen Saxophonisten und Patricia Seidl\, einer talentierten DJane\, Sängerin und Pianistin\, werden zur atmosphärischen Gestaltung des Events beitragen. \nDie Lounge-Musik von Mister Saxr und Patricia Seidl schafft eine entspannte und einladende Atmosphäre\, in der sich die Gäste wohl fühlen und loslassen können. Ihre musikalische Zusammenarbeit bereichert den Event und sorgt dafür\, dass die Zuhörer in eine Welt der Musik eintauchen können\, die ihnen Momente der Ruhe und des Wohlbefindens schenkt. Die Kombination aus Chillout\, Deep House aber auch klassischeren Genres wie Smooth Jazz und Bossa Nova bietet ein entspanntes und sogleich aufregendes Ambiente\, in dem man sich ideal entspannen und austauschen kann. \nMister Saxr verzaubert seine Gäste mit seinem virtuosen Saxophonspiel. Seine melodischen Klänge füllen den Raum und schaffen eine elegante und entspannte Atmosphäre. Ob mit sanften Balladen oder mitreissenden Improvisationen\, sein Talent am Saxophon sorgt für ein unvergleichliches musikalisches Erlebnis\, das die Gäste begeistert und ihnen eine besondere Note verleiht. \nPatricia Seidl bringt als DJane\, Sängerin und Pianistin ihre vielfältigen Talente in den Abend ein. Mit ihrer beeindruckenden Stimme begeistert sie das Publikum. Ihre Auswahl an Songs\, die sie geschickt mixt und interpretiert\, sorgt für eine energiegeladene Stimmung und animiert die Gäste zu einer festlichen und positiven Stimmung. \nDie beiden Künstler schaffen es\, die musikalischen Vorlieben aller Anwesenden zu berücksichtigen und eine mitreissende Atmosphäre zu schaffen\, die den Abend zu einem unvergesslichen Erlebnis macht.
URL:https://www.saxophonist-live.ch/saxofonist-blog/event/corporate-event-mit-mistersaxrpatricia/
LOCATION:Meier Tobler AG\, Industriestrasse 21\, Oberbuchsiten\, 4625\, Schweiz
CATEGORIES:MisterSaxr Event
ATTACH;FMTTYPE=image/jpeg:https://www.saxophonist-live.ch/saxofonist-blog/wp-content/uploads/2023/06/Patricia-Seidl_Mister-Saxr_Duo_Zuerich_Musiker.jpg
END:VEVENT
END:VCALENDAR