BEGIN:VCALENDAR
VERSION:2.0
PRODID:-//MisterSaxr.ch | saxophonist-LIVE.ch | Blog | Firmenanlass Hochzeiten Events Saxofonist Musiker Saxophonist Schweiz Z&uuml;rich - ECPv6.15.8//NONSGML v1.0//EN
CALSCALE:GREGORIAN
METHOD:PUBLISH
X-WR-CALNAME:MisterSaxr.ch | saxophonist-LIVE.ch | Blog | Firmenanlass Hochzeiten Events Saxofonist Musiker Saxophonist Schweiz Z&uuml;rich
X-ORIGINAL-URL:https://www.saxophonist-live.ch/saxofonist-blog
X-WR-CALDESC:Veranstaltungen für MisterSaxr.ch | saxophonist-LIVE.ch | Blog | Firmenanlass Hochzeiten Events Saxofonist Musiker Saxophonist Schweiz Z&uuml;rich
REFRESH-INTERVAL;VALUE=DURATION:PT1H
X-Robots-Tag:noindex
X-PUBLISHED-TTL:PT1H
BEGIN:VTIMEZONE
TZID:Europe/Zurich
BEGIN:DAYLIGHT
TZOFFSETFROM:+0100
TZOFFSETTO:+0200
TZNAME:CEST
DTSTART:20240331T010000
END:DAYLIGHT
BEGIN:STANDARD
TZOFFSETFROM:+0200
TZOFFSETTO:+0100
TZNAME:CET
DTSTART:20241027T010000
END:STANDARD
BEGIN:DAYLIGHT
TZOFFSETFROM:+0100
TZOFFSETTO:+0200
TZNAME:CEST
DTSTART:20250330T010000
END:DAYLIGHT
BEGIN:STANDARD
TZOFFSETFROM:+0200
TZOFFSETTO:+0100
TZNAME:CET
DTSTART:20251026T010000
END:STANDARD
BEGIN:DAYLIGHT
TZOFFSETFROM:+0100
TZOFFSETTO:+0200
TZNAME:CEST
DTSTART:20260329T010000
END:DAYLIGHT
BEGIN:STANDARD
TZOFFSETFROM:+0200
TZOFFSETTO:+0100
TZNAME:CET
DTSTART:20261025T010000
END:STANDARD
END:VTIMEZONE
BEGIN:VEVENT
DTSTART;TZID=Europe/Zurich:20250704T190000
DTEND;TZID=Europe/Zurich:20250704T223000
DTSTAMP:20260422T210206
CREATED:20250620T155538Z
LAST-MODIFIED:20250620T155538Z
UID:4231-1751655600-1751668200@www.saxophonist-live.ch
SUMMARY:Elegante Klänge für einen exklusiven Kundenevent
DESCRIPTION:Der Auftritt von Mister Saxr findet im Rahmen eines Corporate Events der Lienhardt und Partner Privatbank statt. Für diesen exklusiven Abend verwandelt sich die stillvolle Dachterrasse in Zürich in eine Klangbühne\, auf der Mister Saxr sein Saxophon zum Glühen bringt. Zwischen diskret arrangierten Stehtischen\, dezentem Licht und dem freundlichen Service des Bankteams fügt sich seine Musik präzise in die gehobene Atmosphäre ein. Mister Saxr wählt für diesen Anlass ein Programm\, das von soulig‐weichen Balladen bis zu dezent tanzbaren Lounge‐Grooves reicht – immer so dosiert\, dass Gespräche möglich bleiben und doch jeder Ton den Raum mit Wärme füllt. Die Gäste\, darunter Kundinnen\, Partner und Mitarbeitende der Bank\, erleben\, wie Mister Saxr mit seinem Saxophon zwischen Networking‐Inseln hindurch flaniert\, einzelne Melodien persönlich widmet und damit die kommunikative Stimmung des Abends subtil veredelt. So wird die Veranstaltung nicht nur zum geschäftlichen Treffpunkt\, sondern zugleich zu einem sinnlichen Erlebnis\, das lange im Gedächtnis bleibt. \nDie Lienhardt und Partner Privatbank gehört zu den traditionsreichsten Finanzhäusern der Schweiz: Ihre Wurzeln reichen bis ins Jahr 1868 zurück\, als sie in Zuerich gegründet wurde. Heute verbindet die Bank klassische Werte wie Stabilität und Kundennähe mit zeitgemässem Private Banking\, Vermögensverwaltung und Immobilienfinanzierung. Genau diese Mischung aus historischer Verankerung und modernem Service spiegelt sich auch im Engagement von Mister Saxr wider. Wie die Bank pflegt er einen persönlichen Stil: Jede seiner Phrasen entsteht im unmittelbaren Dialog mit dem Publikum – vergleichbar mit dem individuellen Beratungsgespräch\, das die Privatbank ihren Kundinnen bietet. \nDarüber hinaus unterstreicht Mister Saxr mit seinem Saxophon\, dass Investitionen und Klang Kunstformen sind\, die Vertrauen\, Fingerspitzengefühl und Erfahrung verlangen. Während die Bank langfristige Vermögenslösungen gestaltet\, kreiert Mister Saxr Klanglandschaften\, die ebenfalls Bestand haben: Seine Melodien haften im Ohr\, so wie solide Strategien im Depot. Indem die Lienhardt und Partner Privatbank einen Künstler wie Mister Saxr für ihr Corporate Event engagiert\, sendet sie ein klares Signal: Hochwertige Beziehungen basieren nicht allein auf Zahlen\, sondern auf Emotionen und gemeinsamen Momenten. Der Auftritt verknüpft somit Finanzkompetenz und Kultur – zwei Bereiche\, in denen Präzision\, Leidenschaft und Vertrauenswürdigkeit den Unterschied machen.
URL:https://www.saxophonist-live.ch/saxofonist-blog/event/elegante-klaenge-fuer-einen-exklusiven-kundenevent/
LOCATION:Lienhardt & Partner Privatbank\, Rämistrasse 23\, Zürich\, 8001\, Switzerland
CATEGORIES:MisterSaxr Event
ATTACH;FMTTYPE=image/jpeg:https://www.saxophonist-live.ch/saxofonist-blog/wp-content/uploads/2023/08/Mister_Saxr_Saxophonist_Sax_Schweiz_Zuerich_Events_Musik.jpg
END:VEVENT
END:VCALENDAR