BEGIN:VCALENDAR
VERSION:2.0
PRODID:-//MisterSaxr.ch | saxophonist-LIVE.ch | Blog | Firmenanlass Hochzeiten Events Saxofonist Musiker Saxophonist Schweiz Z&uuml;rich - ECPv6.15.8//NONSGML v1.0//EN
CALSCALE:GREGORIAN
METHOD:PUBLISH
X-WR-CALNAME:MisterSaxr.ch | saxophonist-LIVE.ch | Blog | Firmenanlass Hochzeiten Events Saxofonist Musiker Saxophonist Schweiz Z&uuml;rich
X-ORIGINAL-URL:https://www.saxophonist-live.ch/saxofonist-blog
X-WR-CALDESC:Veranstaltungen für MisterSaxr.ch | saxophonist-LIVE.ch | Blog | Firmenanlass Hochzeiten Events Saxofonist Musiker Saxophonist Schweiz Z&uuml;rich
REFRESH-INTERVAL;VALUE=DURATION:PT1H
X-Robots-Tag:noindex
X-PUBLISHED-TTL:PT1H
BEGIN:VTIMEZONE
TZID:Europe/Zurich
BEGIN:DAYLIGHT
TZOFFSETFROM:+0100
TZOFFSETTO:+0200
TZNAME:CEST
DTSTART:20210328T010000
END:DAYLIGHT
BEGIN:STANDARD
TZOFFSETFROM:+0200
TZOFFSETTO:+0100
TZNAME:CET
DTSTART:20211031T010000
END:STANDARD
BEGIN:DAYLIGHT
TZOFFSETFROM:+0100
TZOFFSETTO:+0200
TZNAME:CEST
DTSTART:20220327T010000
END:DAYLIGHT
BEGIN:STANDARD
TZOFFSETFROM:+0200
TZOFFSETTO:+0100
TZNAME:CET
DTSTART:20221030T010000
END:STANDARD
BEGIN:DAYLIGHT
TZOFFSETFROM:+0100
TZOFFSETTO:+0200
TZNAME:CEST
DTSTART:20230326T010000
END:DAYLIGHT
BEGIN:STANDARD
TZOFFSETFROM:+0200
TZOFFSETTO:+0100
TZNAME:CET
DTSTART:20231029T010000
END:STANDARD
END:VTIMEZONE
BEGIN:VEVENT
DTSTART;TZID=Europe/Zurich:20220507T150000
DTEND;TZID=Europe/Zurich:20220507T180000
DTSTAMP:20260424T221045
CREATED:20220325T121934Z
LAST-MODIFIED:20220325T121934Z
UID:3124-1651935600-1651946400@www.saxophonist-live.ch
SUMMARY:Geburtstag
DESCRIPTION:Mister Saxr\, der leidenschaftliche Saxophonist aus Flims\, seine Musik berührt. Ob gemächlich oder mitreissend\, die Klänge und Melodien aus seinem Instrument\, einem Saxophon Mark VI aus dem Hause Selmer\, treffen immer den richtigen Ton und den Geschmack des Publikums. Sein Talent sich stetig weiterzuentwickeln und sein Gespür für die Musik erlauben es Mister Saxr auf eine grosse Auswahl Songs verschiedener Genres zurückzugreifen. Seine Zuhörer kommen in den Genuss von Smooth Jazz\, Bossa-Nova\, Rock\, Pop\, Disco und Dance aber auch aktuellen Hits und den schönsten Evergreens aller Zeiten. \nFür eine private Geburtstagfeier in Fläsch\, reist Mister Saxr in den von Flims aus nah gelegenen Bezirk Maienfeld früher bekannt als Bündner Herrschaft. Nicht weit vom Bündner Hauptort Chur gelegen liegt die renommierte und malerische Weinregion mitten in den Schweizer Alpen. Das Grotto Fläscher Bad\, verkörpert die Romantik der regionalen Weinbaukultur und schürt die Vorfreude auf diese Feier.
URL:https://www.saxophonist-live.ch/saxofonist-blog/event/geburtstag-2/
LOCATION:Grotto Fläscher Bad\, 7306 Fläsch\, Schweiz
CATEGORIES:MisterSaxr Event
ATTACH;FMTTYPE=image/jpeg:https://www.saxophonist-live.ch/saxofonist-blog/wp-content/uploads/2016/10/saxophon.jpg
END:VEVENT
END:VCALENDAR