BEGIN:VCALENDAR
VERSION:2.0
PRODID:-//MisterSaxr.ch | saxophonist-LIVE.ch | Blog | Firmenanlass Hochzeiten Events Saxofonist Musiker Saxophonist Schweiz Z&uuml;rich - ECPv6.15.8//NONSGML v1.0//EN
CALSCALE:GREGORIAN
METHOD:PUBLISH
X-ORIGINAL-URL:https://www.saxophonist-live.ch/saxofonist-blog
X-WR-CALDESC:Veranstaltungen für MisterSaxr.ch | saxophonist-LIVE.ch | Blog | Firmenanlass Hochzeiten Events Saxofonist Musiker Saxophonist Schweiz Z&uuml;rich
REFRESH-INTERVAL;VALUE=DURATION:PT1H
X-Robots-Tag:noindex
X-PUBLISHED-TTL:PT1H
BEGIN:VTIMEZONE
TZID:Europe/Zurich
BEGIN:DAYLIGHT
TZOFFSETFROM:+0100
TZOFFSETTO:+0200
TZNAME:CEST
DTSTART:20180325T010000
END:DAYLIGHT
BEGIN:STANDARD
TZOFFSETFROM:+0200
TZOFFSETTO:+0100
TZNAME:CET
DTSTART:20181028T010000
END:STANDARD
BEGIN:DAYLIGHT
TZOFFSETFROM:+0100
TZOFFSETTO:+0200
TZNAME:CEST
DTSTART:20190331T010000
END:DAYLIGHT
BEGIN:STANDARD
TZOFFSETFROM:+0200
TZOFFSETTO:+0100
TZNAME:CET
DTSTART:20191027T010000
END:STANDARD
BEGIN:DAYLIGHT
TZOFFSETFROM:+0100
TZOFFSETTO:+0200
TZNAME:CEST
DTSTART:20200329T010000
END:DAYLIGHT
BEGIN:STANDARD
TZOFFSETFROM:+0200
TZOFFSETTO:+0100
TZNAME:CET
DTSTART:20201025T010000
END:STANDARD
END:VTIMEZONE
BEGIN:VEVENT
DTSTART;TZID=Europe/Zurich:20190803T180000
DTEND;TZID=Europe/Zurich:20190803T200000
DTSTAMP:20260424T152825
CREATED:20190523T100635Z
LAST-MODIFIED:20190523T100635Z
UID:2197-1564855200-1564862400@www.saxophonist-live.ch
SUMMARY:Geburtstagsparty
DESCRIPTION:Privatparty zum 60. Geburtstag. \nMister Saxr unterhält die Gäste vom Gastgeber mit feinsten Saxophon-Klängen. Zum Repertoire des Saxophonisten und Musikers gehören BossaNova\, Smooth-Jazz\, Evergreens\, Pop- und Hitparaden-Songs. Mister Saxr spielt ein Tenor-Saxophon der Marke Selmer (Mark VI). Der Schweizer Saxofonist berührt mit seinen Melodien. Am Privatanlass können nur geladene Gäste teilnehmen.
URL:https://www.saxophonist-live.ch/saxofonist-blog/event/geburtstagsparty-2/
LOCATION:Taverne zum Hirschen\, Lindenplatz 2\, Winterthur\, ZH\, 8406\, Schweiz
CATEGORIES:MisterSaxr Event
ATTACH;FMTTYPE=image/jpeg:https://www.saxophonist-live.ch/saxofonist-blog/wp-content/uploads/2019/03/Mister_Saxr_magicMonday_LiveSaxofon_Zürich_11.jpg
END:VEVENT
END:VCALENDAR