BEGIN:VCALENDAR
VERSION:2.0
PRODID:-//MisterSaxr.ch | saxophonist-LIVE.ch | Blog | Firmenanlass Hochzeiten Events Saxofonist Musiker Saxophonist Schweiz Z&uuml;rich - ECPv6.15.8//NONSGML v1.0//EN
CALSCALE:GREGORIAN
METHOD:PUBLISH
X-WR-CALNAME:MisterSaxr.ch | saxophonist-LIVE.ch | Blog | Firmenanlass Hochzeiten Events Saxofonist Musiker Saxophonist Schweiz Z&uuml;rich
X-ORIGINAL-URL:https://www.saxophonist-live.ch/saxofonist-blog
X-WR-CALDESC:Veranstaltungen für MisterSaxr.ch | saxophonist-LIVE.ch | Blog | Firmenanlass Hochzeiten Events Saxofonist Musiker Saxophonist Schweiz Z&uuml;rich
REFRESH-INTERVAL;VALUE=DURATION:PT1H
X-Robots-Tag:noindex
X-PUBLISHED-TTL:PT1H
BEGIN:VTIMEZONE
TZID:Europe/Zurich
BEGIN:DAYLIGHT
TZOFFSETFROM:+0100
TZOFFSETTO:+0200
TZNAME:CEST
DTSTART:20180325T010000
END:DAYLIGHT
BEGIN:STANDARD
TZOFFSETFROM:+0200
TZOFFSETTO:+0100
TZNAME:CET
DTSTART:20181028T010000
END:STANDARD
BEGIN:DAYLIGHT
TZOFFSETFROM:+0100
TZOFFSETTO:+0200
TZNAME:CEST
DTSTART:20190331T010000
END:DAYLIGHT
BEGIN:STANDARD
TZOFFSETFROM:+0200
TZOFFSETTO:+0100
TZNAME:CET
DTSTART:20191027T010000
END:STANDARD
BEGIN:DAYLIGHT
TZOFFSETFROM:+0100
TZOFFSETTO:+0200
TZNAME:CEST
DTSTART:20200329T010000
END:DAYLIGHT
BEGIN:STANDARD
TZOFFSETFROM:+0200
TZOFFSETTO:+0100
TZNAME:CET
DTSTART:20201025T010000
END:STANDARD
END:VTIMEZONE
BEGIN:VEVENT
DTSTART;TZID=Europe/Zurich:20191219T190000
DTEND;TZID=Europe/Zurich:20191219T223000
DTSTAMP:20260424T100716
CREATED:20191018T075223Z
LAST-MODIFIED:20191219T083832Z
UID:2446-1576782000-1576794600@www.saxophonist-live.ch
SUMMARY:Weihnachtsessen
DESCRIPTION:Mister Saxr berührt als leidenschaftlicher Musiker seine Zuhörer mit seinen sanften Saxklängen. Sein breites Repertoire reicht von Bossa Nova\, Jazz-Standards\, Smooth-Lounge\, Pop-Klassikern\, Lovesongs bis zu Disco-Krachern. Mister Saxr unterhält die Gäste von Kiwanis Club Mutschellen an ihrem Weihnachtsessen mit feinsten Saxophon-Klängen.
URL:https://www.saxophonist-live.ch/saxofonist-blog/event/weihnachtsessen-2/
LOCATION:Cave du Luc\, Mittlere Gasse 12\, Baden\, 5400\, Schweiz
CATEGORIES:MisterSaxr Event
END:VEVENT
END:VCALENDAR