BEGIN:VCALENDAR
VERSION:2.0
PRODID:-//MisterSaxr.ch | saxophonist-LIVE.ch | Blog | Firmenanlass Hochzeiten Events Saxofonist Musiker Saxophonist Schweiz Z&uuml;rich - ECPv6.15.8//NONSGML v1.0//EN
CALSCALE:GREGORIAN
METHOD:PUBLISH
X-WR-CALNAME:MisterSaxr.ch | saxophonist-LIVE.ch | Blog | Firmenanlass Hochzeiten Events Saxofonist Musiker Saxophonist Schweiz Z&uuml;rich
X-ORIGINAL-URL:https://www.saxophonist-live.ch/saxofonist-blog
X-WR-CALDESC:Veranstaltungen für MisterSaxr.ch | saxophonist-LIVE.ch | Blog | Firmenanlass Hochzeiten Events Saxofonist Musiker Saxophonist Schweiz Z&uuml;rich
REFRESH-INTERVAL;VALUE=DURATION:PT1H
X-Robots-Tag:noindex
X-PUBLISHED-TTL:PT1H
BEGIN:VTIMEZONE
TZID:Europe/Zurich
BEGIN:DAYLIGHT
TZOFFSETFROM:+0100
TZOFFSETTO:+0200
TZNAME:CEST
DTSTART:20210328T010000
END:DAYLIGHT
BEGIN:STANDARD
TZOFFSETFROM:+0200
TZOFFSETTO:+0100
TZNAME:CET
DTSTART:20211031T010000
END:STANDARD
BEGIN:DAYLIGHT
TZOFFSETFROM:+0100
TZOFFSETTO:+0200
TZNAME:CEST
DTSTART:20220327T010000
END:DAYLIGHT
BEGIN:STANDARD
TZOFFSETFROM:+0200
TZOFFSETTO:+0100
TZNAME:CET
DTSTART:20221030T010000
END:STANDARD
BEGIN:DAYLIGHT
TZOFFSETFROM:+0100
TZOFFSETTO:+0200
TZNAME:CEST
DTSTART:20230326T010000
END:DAYLIGHT
BEGIN:STANDARD
TZOFFSETFROM:+0200
TZOFFSETTO:+0100
TZNAME:CET
DTSTART:20231029T010000
END:STANDARD
END:VTIMEZONE
BEGIN:VEVENT
DTSTART;TZID=Europe/Zurich:20221029T190000
DTEND;TZID=Europe/Zurich:20221030T000000
DTSTAMP:20260424T123822
CREATED:20221007T144336Z
LAST-MODIFIED:20221007T144336Z
UID:3312-1667070000-1667088000@www.saxophonist-live.ch
SUMMARY:Hochzeit mit Mister Saxr & Gery Ninaus
DESCRIPTION:Nicht viele Musiker verkörpern Stil\, Eleganz und Leidenschaft so wie Mister Saxr. Das Publikum kommt in den Genuss von feinstem Bossa-Nova\, gemütlichem Smooth-Jazz\, fetzigem Pop und Rock\, aber auch aktuellen Hits oder den schönsten Evergreens aller Zeiten. Mister Saxr spielt auch wunderbare Begleitmusik zum Empfang\, Essen und weiteren Anlässen. Zusammen mit der Sängerin Gery Ninaus bieten die beiden eine aussergewöhnliche Kombination\, welche das Publikum begeistern wird. \nDie Sängerin verfügt über eine mehr als 15-jährige Erfahrung als Frontfrau der Band Ninaus\, ausserdem über 600 Auftritte mit Just Two. \nDie wandelbare Stimme wird vom vielseitigen Tenor-Saxophon perfekt unterstützt\, ein Auftritt\, der Emotionen und Spektakel verspricht. \nDer Privat-Anlass im Zunfthaus zur Waag\, mitten im Stadtzürcher Kreis 1\, ist ein geschichtsträchtiges und wunderbar anmutendes Gebäude mit einer erstklassigen Küche und Leidenschaft zur Gastfreundschaft. \nDas Zunfthaus bietet an bester Lage genügend Platz für Bankette und Feiern aller Art\, die Küche sowie der Service haben bereits diverse Auszeichnungen eingefahren. Kurz: Der ideale Ort zum Feiern und Geniessen\, mitten im Zentrum von Zürich. \nMister Saxr wird die Gesellschafft derweilen mit den schönsten Sax-Melodien aller Zeiten verwöhnen\, bevor er und Gery Ninaus den Abend gemeinsam als Duo mit einem Highlight abrunden werden.
URL:https://www.saxophonist-live.ch/saxofonist-blog/event/hochzeit-mit-mister-saxr-gery-ninaus/
LOCATION:Zunfthaus zur Waag\, Münsterhof 8\, Zürich\, ZH\, 8001\, Schweiz
CATEGORIES:MisterSaxr Event
ATTACH;FMTTYPE=image/png:https://www.saxophonist-live.ch/saxofonist-blog/wp-content/uploads/2022/10/Mister-Saxr_Gery-Ninaus_Saxophonist_Sängerin_Duo.png
END:VEVENT
END:VCALENDAR