BEGIN:VCALENDAR
VERSION:2.0
PRODID:-//MisterSaxr.ch | saxophonist-LIVE.ch | Blog | Firmenanlass Hochzeiten Events Saxofonist Musiker Saxophonist Schweiz Z&uuml;rich - ECPv6.15.8//NONSGML v1.0//EN
CALSCALE:GREGORIAN
METHOD:PUBLISH
X-WR-CALNAME:MisterSaxr.ch | saxophonist-LIVE.ch | Blog | Firmenanlass Hochzeiten Events Saxofonist Musiker Saxophonist Schweiz Z&uuml;rich
X-ORIGINAL-URL:https://www.saxophonist-live.ch/saxofonist-blog
X-WR-CALDESC:Veranstaltungen für MisterSaxr.ch | saxophonist-LIVE.ch | Blog | Firmenanlass Hochzeiten Events Saxofonist Musiker Saxophonist Schweiz Z&uuml;rich
REFRESH-INTERVAL;VALUE=DURATION:PT1H
X-Robots-Tag:noindex
X-PUBLISHED-TTL:PT1H
BEGIN:VTIMEZONE
TZID:Europe/Zurich
BEGIN:DAYLIGHT
TZOFFSETFROM:+0100
TZOFFSETTO:+0200
TZNAME:CEST
DTSTART:20240331T010000
END:DAYLIGHT
BEGIN:STANDARD
TZOFFSETFROM:+0200
TZOFFSETTO:+0100
TZNAME:CET
DTSTART:20241027T010000
END:STANDARD
BEGIN:DAYLIGHT
TZOFFSETFROM:+0100
TZOFFSETTO:+0200
TZNAME:CEST
DTSTART:20250330T010000
END:DAYLIGHT
BEGIN:STANDARD
TZOFFSETFROM:+0200
TZOFFSETTO:+0100
TZNAME:CET
DTSTART:20251026T010000
END:STANDARD
BEGIN:DAYLIGHT
TZOFFSETFROM:+0100
TZOFFSETTO:+0200
TZNAME:CEST
DTSTART:20260329T010000
END:DAYLIGHT
BEGIN:STANDARD
TZOFFSETFROM:+0200
TZOFFSETTO:+0100
TZNAME:CET
DTSTART:20261025T010000
END:STANDARD
END:VTIMEZONE
BEGIN:VEVENT
DTSTART;TZID=Europe/Zurich:20250823T180000
DTEND;TZID=Europe/Zurich:20250823T220000
DTSTAMP:20260422T184105
CREATED:20250714T112507Z
LAST-MODIFIED:20250714T112507Z
UID:4256-1755972000-1755986400@www.saxophonist-live.ch
SUMMARY:Sommerfest mit Mister Saxr im Golf Club Zumikon – Klangvolle Eleganz auf dem Green
DESCRIPTION:Sanfte Hügel\, sattes Grün und der Blick über gepflegte Fairways: Beim Sommerfest im Golfclub Zumikon sorgt Mister Saxr als Live-Musiker für die musikalische Begleitung – stilvoll\, dezent und immer im richtigen Moment. Der erfahrene Saxophonist hat bereits in namhaften Golfclubs wie dem Goflclub Dolder\, Schönenberg oder Breitenloo gespielt und kennt die besondere Kunst\, sich mit seinem Saxophon unaufdringlich in die Stimmung eines exklusiven Clubabends einzufügen. \nDass er nun auch im Golfclub Zumikon auftreten darf\, ist für ihn eine besondere Freude. Denn dieser Club gehört nicht nur zu den traditionsreichsten der Schweiz\, sondern bietet auch eine Umgebung\, die wie geschaffen ist für feine Live-Musik: offen\, gepflegt\, entspannt – und mit einem Hauch von Luxus\, der nie aufdringlich wirkt. \nDer Golfclub Zumikon\, gelegen am Rand des Zürcher Oberlands\, verbindet sportliche Raffinesse mit landschaftlicher Schönheit. Der Blick über das Zürcher Seebecken\, die harmonisch eingebetteten Greens und die stilvolle Architektur des Clubhauses schaffen eine Atmosphäre\, die ihresgleichen sucht. \nGenau hier setzt die Musik von Mister Saxr an: Mit seinem warmen Saxophonklang unterstreicht er die Weite der Landschaft und das lockere Miteinander der Gäste. Die Kombination aus Golf\, Natur und Musik wird zum Gesamterlebnis. Für Mister Saxr ist genau das die Essenz seiner Arbeit: Menschen im richtigen Moment mit Klang zu berühren – diskret\, stilvoll und emotional. \nOb als Saxophonist im eleganten Apéro-Setting oder als Teil einer ausgelassenen Tanzrunde am späten Abend – Mister Saxr bringt mit seiner Live-Musik die nötige Flexibilität\, Erfahrung und Präsenz mit\, um jedes Format harmonisch zu begleiten. Seine Auftritte leben von Atmosphäre und Feingefühl\, und genau das macht ihn in der Golf-Community so beliebt. \nZudem beweist er bei jedem Event aufs Neue\, dass das Saxophon nicht nur ein Instrument\, sondern ein Stimmungsbarometer ist: Es spricht dort\, wo Worte fehlen\, und fügt sich nahtlos in Gespräche\, Kulisse und Kulinarik ein. \nEin Sommerfest im Golfclub Zumikon mit Mister Saxr ist mehr als Musik – es ist ein Erlebnis\, das Klang\, Stil und Natur vereint. Wer an diesem Abend dabei ist\, nimmt nicht nur schöne Erinnerungen mit\, sondern auch das Gefühl\, dass Musik genau dann am besten ist\, wenn sie einfach da ist – live\, leicht\, und doch tief berührend.
URL:https://www.saxophonist-live.ch/saxofonist-blog/event/sommerfest-mit-mister-saxr-im-golf-club-zumikon-klangvolle-eleganz-auf-dem-green/
LOCATION:Golf Club Zumikon\, Weid 9\, Zumikon\, 8126
CATEGORIES:MisterSaxr Event
ATTACH;FMTTYPE=image/jpeg:https://www.saxophonist-live.ch/saxofonist-blog/wp-content/uploads/2024/08/MisterSaxr_BestOf_Event_Saxophonist_FischersFritz_162916.jpg
END:VEVENT
END:VCALENDAR