BEGIN:VCALENDAR
VERSION:2.0
PRODID:-//MisterSaxr.ch | saxophonist-LIVE.ch | Blog | Firmenanlass Hochzeiten Events Saxofonist Musiker Saxophonist Schweiz Z&uuml;rich - ECPv6.15.8//NONSGML v1.0//EN
CALSCALE:GREGORIAN
METHOD:PUBLISH
X-ORIGINAL-URL:https://www.saxophonist-live.ch/saxofonist-blog
X-WR-CALDESC:Veranstaltungen für MisterSaxr.ch | saxophonist-LIVE.ch | Blog | Firmenanlass Hochzeiten Events Saxofonist Musiker Saxophonist Schweiz Z&uuml;rich
REFRESH-INTERVAL;VALUE=DURATION:PT1H
X-Robots-Tag:noindex
X-PUBLISHED-TTL:PT1H
BEGIN:VTIMEZONE
TZID:Europe/Zurich
BEGIN:DAYLIGHT
TZOFFSETFROM:+0100
TZOFFSETTO:+0200
TZNAME:CEST
DTSTART:20230326T010000
END:DAYLIGHT
BEGIN:STANDARD
TZOFFSETFROM:+0200
TZOFFSETTO:+0100
TZNAME:CET
DTSTART:20231029T010000
END:STANDARD
BEGIN:DAYLIGHT
TZOFFSETFROM:+0100
TZOFFSETTO:+0200
TZNAME:CEST
DTSTART:20240331T010000
END:DAYLIGHT
BEGIN:STANDARD
TZOFFSETFROM:+0200
TZOFFSETTO:+0100
TZNAME:CET
DTSTART:20241027T010000
END:STANDARD
BEGIN:DAYLIGHT
TZOFFSETFROM:+0100
TZOFFSETTO:+0200
TZNAME:CEST
DTSTART:20250330T010000
END:DAYLIGHT
BEGIN:STANDARD
TZOFFSETFROM:+0200
TZOFFSETTO:+0100
TZNAME:CET
DTSTART:20251026T010000
END:STANDARD
END:VTIMEZONE
BEGIN:VEVENT
DTSTART;TZID=Europe/Zurich:20240821T180000
DTEND;TZID=Europe/Zurich:20240821T220000
DTSTAMP:20260423T063931
CREATED:20240820T133443Z
LAST-MODIFIED:20240820T134046Z
UID:3931-1724263200-1724277600@www.saxophonist-live.ch
SUMMARY:Mister Saxr: Saxophonklänge über den Dächern von Winterthur
DESCRIPTION:Am 21. August 2024 wird Mister Saxr das exklusive Sommerpop-up auf der Dachterrasse zum Wiedehopf bei der Brauerei Haldengut in Winterthur mit seinen faszinierenden Saxophonklängen in eine magische Atmosphäre verwandeln. Für den talentierten Winterthurer Saxophonisten ist es eine besondere Ehre\, an diesem aussergewöhnlichen Ort auftreten zu dürfen. \nDie Haldengut Brauerei wurde im Jahr 1843 von Johann Ulrich Haldengut gegründet und ist weit mehr als nur eine Produktionsstätte für hochwertige Biere. Sie ist ein Stück lebendige Geschichte und ein wichtiger Bestandteil der Winterthurer Kultur. Seit über 150 Jahren prägt die Brauerei Haldengut die Region\, nicht nur durch ihre Braukunst\, sondern auch durch ihr Engagement für die lokale Gemeinschaft. Die Möglichkeit\, auf dem Gelände dieser traditionsreichen Brauerei zu spielen\, macht diesen Auftritt für Mister Saxr zu einem besonders bedeutungsvollen Ereignis. \nDie Dachterrasse zum Wiedehopf\, die sich hoch über der Brauerei erhebt\, bietet eine spektakuläre Aussicht über die Dächer von Winterthur und schafft eine einzigartige Verbindung zwischen Vergangenheit und Gegenwart. Dieser exklusive Ort\, der im Sommer für ausgewählte Pop-up-Veranstaltungen geöffnet wird\, strahlt eine entspannte und zugleich elegante Atmosphäre aus\, die perfekt zu den sanften\, emotionalen Klängen von Mister Saxrs Selmer Mark VI Saxophon passt. \nDie Kombination aus dieser einzigartigen Kulisse und den virtuosen Klängen von Mister Saxr verspricht ein unvergessliches Erlebnis. Egal ob Jazz\, Blues oder moderne Pop- und Loungeklängen – Mister Saxr weiss genau\, wie er mit seiner Musik die Atmosphäre jeder Veranstaltung ideal in Szene setzt. Seine Auftritte sind mehr als nur musikalische Darbietungen; sie sind Erlebnisse\, die tief berühren und lange in Erinnerung bleiben. \nErleben Sie einen Abend voller Magie\, wenn Mister Saxr die Dachterrasse zum Wiedehopf in eine Klangwelt verwandelt\, die Sie in den Bann ziehen wird. Dieses exklusive Event bietet eine hervorragende Gelegenheit\, den Zauber von Musik und Tradition in einem der schönsten und geschichtsträchtigsten Orte Winterthurs zu genießen.
URL:https://www.saxophonist-live.ch/saxofonist-blog/event/mister-saxr-saxophonklaenge-ueber-den-daechern-von-winterthur/
LOCATION:Dachterrasse zum Wiedehopf\, Haldenstr. 69\, Winterthur\, 8400\, Schweiz
CATEGORIES:MisterSaxr Event
ATTACH;FMTTYPE=image/jpeg:https://www.saxophonist-live.ch/saxofonist-blog/wp-content/uploads/2024/05/MisterSaxr_Top_Event_Saxophonist_Rooftop.jpg
END:VEVENT
END:VCALENDAR