BEGIN:VCALENDAR
VERSION:2.0
PRODID:-//MisterSaxr.ch | saxophonist-LIVE.ch | Blog | Firmenanlass Hochzeiten Events Saxofonist Musiker Saxophonist Schweiz Z&uuml;rich - ECPv6.15.8//NONSGML v1.0//EN
CALSCALE:GREGORIAN
METHOD:PUBLISH
X-WR-CALNAME:MisterSaxr.ch | saxophonist-LIVE.ch | Blog | Firmenanlass Hochzeiten Events Saxofonist Musiker Saxophonist Schweiz Z&uuml;rich
X-ORIGINAL-URL:https://www.saxophonist-live.ch/saxofonist-blog
X-WR-CALDESC:Veranstaltungen für MisterSaxr.ch | saxophonist-LIVE.ch | Blog | Firmenanlass Hochzeiten Events Saxofonist Musiker Saxophonist Schweiz Z&uuml;rich
REFRESH-INTERVAL;VALUE=DURATION:PT1H
X-Robots-Tag:noindex
X-PUBLISHED-TTL:PT1H
BEGIN:VTIMEZONE
TZID:Europe/Zurich
BEGIN:DAYLIGHT
TZOFFSETFROM:+0100
TZOFFSETTO:+0200
TZNAME:CEST
DTSTART:20200329T010000
END:DAYLIGHT
BEGIN:STANDARD
TZOFFSETFROM:+0200
TZOFFSETTO:+0100
TZNAME:CET
DTSTART:20201025T010000
END:STANDARD
BEGIN:DAYLIGHT
TZOFFSETFROM:+0100
TZOFFSETTO:+0200
TZNAME:CEST
DTSTART:20210328T010000
END:DAYLIGHT
BEGIN:STANDARD
TZOFFSETFROM:+0200
TZOFFSETTO:+0100
TZNAME:CET
DTSTART:20211031T010000
END:STANDARD
BEGIN:DAYLIGHT
TZOFFSETFROM:+0100
TZOFFSETTO:+0200
TZNAME:CEST
DTSTART:20220327T010000
END:DAYLIGHT
BEGIN:STANDARD
TZOFFSETFROM:+0200
TZOFFSETTO:+0100
TZNAME:CET
DTSTART:20221030T010000
END:STANDARD
END:VTIMEZONE
BEGIN:VEVENT
DTSTART;TZID=Europe/Zurich:20210320T190000
DTEND;TZID=Europe/Zurich:20210321T020000
DTSTAMP:20260425T172727
CREATED:20201117T103120Z
LAST-MODIFIED:20210119T093533Z
UID:2784-1616266800-1616292000@www.saxophonist-live.ch
SUMMARY:Dinner Event live mit Sax\, guitar & vocals
DESCRIPTION:Live Musik im Seedam Plaza Hotel: Direkt am Zürichsee treten die Live-Musiker Gary Scott und Mister Saxr an einem Dinner Event auf. Das Live Musik Duo spielt BossaNova\, Smooth Jazz\, Evergreens\, Swing… stilvolle Hintergrundmusik zum Dinner. \nMister Saxr berührt als leidenschaftlicher Musiker seine Zuhörer mit seinen sanften Saxklängen. Sein breites Repertoire reicht von Jazz-Standards\, Smooth-Lounge\, Pop-Klassikern\, Lovesongs bis zu Disco-Krachern. \nGary Scott: Sänger\, Guitarist\, Pianist\, Bandleader. \nAuftritte als Solo Artist (Gesang/Gitarre/Klavier) und kleinen und grossen Musikgruppen. \nArbeitete mit den Weltstars einschliesslich Ed Sheeran\, Nelly Furtado\, Donna Sommer\, Mick Hucknall (einfach rot)\, Leona Lewis\, Die Jacksons\, Seal …
URL:https://www.saxophonist-live.ch/saxofonist-blog/event/dinner-event-live-mit-sax-guitar-vocals/
LOCATION:Seedamm Plaza Hotel\, Seedammstrasse 3\, Pfäffikon\, 8808\, Schweiz
CATEGORIES:MisterSaxr Event
ATTACH;FMTTYPE=image/jpeg:https://www.saxophonist-live.ch/saxofonist-blog/wp-content/uploads/2020/09/MisterSaxr_GaryScott_Duo_Musik.jpeg
END:VEVENT
END:VCALENDAR