BEGIN:VCALENDAR
VERSION:2.0
PRODID:-//MisterSaxr.ch | saxophonist-LIVE.ch | Blog | Firmenanlass Hochzeiten Events Saxofonist Musiker Saxophonist Schweiz Z&uuml;rich - ECPv6.15.8//NONSGML v1.0//EN
CALSCALE:GREGORIAN
METHOD:PUBLISH
X-ORIGINAL-URL:https://www.saxophonist-live.ch/saxofonist-blog
X-WR-CALDESC:Veranstaltungen für MisterSaxr.ch | saxophonist-LIVE.ch | Blog | Firmenanlass Hochzeiten Events Saxofonist Musiker Saxophonist Schweiz Z&uuml;rich
REFRESH-INTERVAL;VALUE=DURATION:PT1H
X-Robots-Tag:noindex
X-PUBLISHED-TTL:PT1H
BEGIN:VTIMEZONE
TZID:Europe/Zurich
BEGIN:DAYLIGHT
TZOFFSETFROM:+0100
TZOFFSETTO:+0200
TZNAME:CEST
DTSTART:20240331T010000
END:DAYLIGHT
BEGIN:STANDARD
TZOFFSETFROM:+0200
TZOFFSETTO:+0100
TZNAME:CET
DTSTART:20241027T010000
END:STANDARD
BEGIN:DAYLIGHT
TZOFFSETFROM:+0100
TZOFFSETTO:+0200
TZNAME:CEST
DTSTART:20250330T010000
END:DAYLIGHT
BEGIN:STANDARD
TZOFFSETFROM:+0200
TZOFFSETTO:+0100
TZNAME:CET
DTSTART:20251026T010000
END:STANDARD
BEGIN:DAYLIGHT
TZOFFSETFROM:+0100
TZOFFSETTO:+0200
TZNAME:CEST
DTSTART:20260329T010000
END:DAYLIGHT
BEGIN:STANDARD
TZOFFSETFROM:+0200
TZOFFSETTO:+0100
TZNAME:CET
DTSTART:20261025T010000
END:STANDARD
END:VTIMEZONE
BEGIN:VEVENT
DTSTART;TZID=Europe/Zurich:20250628T140000
DTEND;TZID=Europe/Zurich:20250628T193000
DTSTAMP:20260420T180025
CREATED:20240516T095848Z
LAST-MODIFIED:20240516T095848Z
UID:3843-1751119200-1751139000@www.saxophonist-live.ch
SUMMARY:Mister Saxr & Nyssina bezaubern auf der Insel Reichenau
DESCRIPTION:Am 28. Juni 2025 wird auf der zauberhaften Insel Reichenau die Liebe und das Glück gefeiert. Inmitten der malerischen Kulisse des Bodensees und der historischen Schönheit der Insel werden wir Zeugen einer wahrhaft besonderen Vereinigung sein. \nUnd was könnte diese magische Atmosphäre noch perfekter machen als die Melodien von Mister Saxr und Nyssina? Der virtuose Saxophonist und die talentierte Sängerin werden ihre einzigartige Musikalität mit uns teilen und diesen unvergesslichen Tag mit ihrem beeindruckenden Spiel und Gesang bereichern. \nMister Saxrs Saxophon und Nyssinas Stimme werden nicht nur Töne von Eleganz und Raffinesse hervorbringen\, sondern auch die Herzen aller Anwesenden berühren. Während wir uns im Glanz dieser Liebe und Verbundenheit sonnen\, werden Mister Saxr und Nyssina mit ihren Klängen eine Atmosphäre schaffen\, die diesen Moment der Feierlichkeit und Freude noch intensiver erleben lässt. \nLasst uns gemeinsam den Klängen von Mister Saxr und Nyssina lauschen und uns von ihrer Musik verzaubern lassen\, während wir die Liebe und das Glück des Brautpaares dieses besonderen Tages feiern. Es wird zweifellos ein Ereignis sein\, das wir nie vergessen werden. \nDie malerische Kulisse der Insel Reichenau bietet die perfekte Kulisse für diesen besonderen Anlass\, und Mister Saxr und Nyssina werden sicherstellen\, dass die Hochzeit zu einem unvergesslichen Erlebnis wird. Ihre Musik wird die Gäste verzaubern und den Tag noch unvergesslicher machen. \nDie Insel Reichenau\, eingebettet im Bodensee und umgeben von malerischer Natur\, ist nicht nur ein idyllisches Reiseziel\, sondern auch eine einzigartige Kulisse für besondere Anlässe wie Hochzeiten. Mit ihrem milden Klima\, den üppigen Obstgärten und den historischen Klosteranlagen bietet die Insel eine unvergleichliche Atmosphäre\, die jeden Besucher verzaubert. \nReichenau ist nicht nur bekannt für ihre natürliche Schönheit\, sondern auch für ihre reiche Geschichte und Kultur. Die drei romanischen Kirchen der Insel\, die zum UNESCO-Weltkulturerbe gehören\, zeugen von ihrer bedeutenden Vergangenheit als religiöses Zentrum im Mittelalter. Ein Spaziergang entlang der Uferpromenade oder durch die engen Gassen der Insel versetzt die Besucher zurück in eine Zeit voller Charme und Geschichte. \nInsgesamt ist die Insel Reichenau ein wahrhaft magischer Ort\, der sowohl für Einheimische als auch für Besucher eine Quelle der Inspiration und des Staunens ist. Es ist kein Wunder\, dass so viele Paare sich entscheiden\, ihre Liebe und ihr Glück auf dieser bezaubernden Insel zu feiern. \nDie Location Sekt am See in Reichenau\, wo Mister Saxr und Nyssina für die Trauung und den Apéro spielen werden\, bietet eine besonders charmante und entspannte Atmosphäre direkt am Wasser. Umgeben von der malerischen Landschaft und dem glitzernden Bodensee\, wird diese Kulisse die Zeremonie und den anschliessenden Empfang unvergesslich machen. Die sanften Klänge des Saxophons und Nyssinas bezaubernde Stimme werden die idyllische Szenerie noch verstärken und die Feier zu einem wahren Highlight machen. \nFür den Hochzeitsabend und die Feier werden Mister Saxr und Nyssina im Schloss Freudental – Hotel Allensbach auftreten. Dieses historische Schloss\, eingebettet in eine herrliche Parklandschaft\, bietet eine elegante und romantische Umgebung für den festlichen Abschluss des Tages. Mit seinen prächtigen Sälen und dem stilvollen Ambiente wird Schloss Freudental die perfekte Bühne für die beeindruckende Darbietung von Mister Saxr und Nyssina sein\, die den Abend mit ihren bezaubernden Melodien und Gesang begleiten werden. \nWenn Sie also nach einem Saxophonisten und einer Sängerin suchen\, die Ihr Hochzeitsfest zu etwas ganz Besonderem machen können\, dann sind Mister Saxr und Nyssina die perfekte Wahl. Besuchen Sie die Websites saxophonist-live.ch und mistersaxr.ch\, um mehr über ihre Auftritte zu erfahren und sie für Ihre Hochzeit zu buchen. Sie werden es nicht bereuen! Machen Sie Ihren besonderen Tag mit den Klängen von Mister Saxr und der Stimme von Nyssina unvergesslich. Kontaktieren Sie sie noch heute\, um Ihre Buchung zu sichern!
URL:https://www.saxophonist-live.ch/saxofonist-blog/event/mister-saxr-nyssina-bezaubern-auf-der-insel-reichenau/
LOCATION:Sekt am See\, Im Genslehorn 12\, Reichenau\, 78479\, Deutschland
CATEGORIES:MisterSaxr Event
ATTACH;FMTTYPE=image/jpeg:https://www.saxophonist-live.ch/saxofonist-blog/wp-content/uploads/2020/06/MisterSaxr_Nyssina-162.jpg
END:VEVENT
END:VCALENDAR