BEGIN:VCALENDAR
VERSION:2.0
PRODID:-//MisterSaxr.ch | saxophonist-LIVE.ch | Blog | Firmenanlass Hochzeiten Events Saxofonist Musiker Saxophonist Schweiz Z&uuml;rich - ECPv6.15.8//NONSGML v1.0//EN
CALSCALE:GREGORIAN
METHOD:PUBLISH
X-ORIGINAL-URL:https://www.saxophonist-live.ch/saxofonist-blog
X-WR-CALDESC:Veranstaltungen für MisterSaxr.ch | saxophonist-LIVE.ch | Blog | Firmenanlass Hochzeiten Events Saxofonist Musiker Saxophonist Schweiz Z&uuml;rich
REFRESH-INTERVAL;VALUE=DURATION:PT1H
X-Robots-Tag:noindex
X-PUBLISHED-TTL:PT1H
BEGIN:VTIMEZONE
TZID:Europe/Zurich
BEGIN:DAYLIGHT
TZOFFSETFROM:+0100
TZOFFSETTO:+0200
TZNAME:CEST
DTSTART:20210328T010000
END:DAYLIGHT
BEGIN:STANDARD
TZOFFSETFROM:+0200
TZOFFSETTO:+0100
TZNAME:CET
DTSTART:20211031T010000
END:STANDARD
BEGIN:DAYLIGHT
TZOFFSETFROM:+0100
TZOFFSETTO:+0200
TZNAME:CEST
DTSTART:20220327T010000
END:DAYLIGHT
BEGIN:STANDARD
TZOFFSETFROM:+0200
TZOFFSETTO:+0100
TZNAME:CET
DTSTART:20221030T010000
END:STANDARD
BEGIN:DAYLIGHT
TZOFFSETFROM:+0100
TZOFFSETTO:+0200
TZNAME:CEST
DTSTART:20230326T010000
END:DAYLIGHT
BEGIN:STANDARD
TZOFFSETFROM:+0200
TZOFFSETTO:+0100
TZNAME:CET
DTSTART:20231029T010000
END:STANDARD
END:VTIMEZONE
BEGIN:VEVENT
DTSTART;TZID=Europe/Zurich:20220819T173000
DTEND;TZID=Europe/Zurich:20220819T233000
DTSTAMP:20260423T181421
CREATED:20220715T115408Z
LAST-MODIFIED:20220715T115639Z
UID:3262-1660930200-1660951800@www.saxophonist-live.ch
SUMMARY:Hochzeit mit Mister Saxr
DESCRIPTION:Mister Saxr\, der leidenschaftliche und elegante Saxophonist\, verleiht jedem Anlass einen Hauch von Noblesse. \nSein Tenor-Saxophon\, aus dem Hause Selmer\, ist geradezu prädestiniert für romantische Anlässe wie eine Hochzeit. Die feinen Töne kommen gerade bei Love-Songs besonders zur Geltung und verstärken deren romantische Wirkung. Mister Saxr beherrscht jedoch auch alle anderen\, gängigen Genres wie Pop\, Rock\, Disco/Dance und natürlich aktuellen Hits sowie Klassikern aus vergangenen Jahrzenten. Seine Leidenschaft für die Musik ist spürbar und überträgt sich auf seine Zuhörer\, was jedes Lied zu einem speziellen Erlebnis für alle macht. \nDie Isole di Brissago auf dem Lago Maggiore\, als Hochzeits-Location verbindet ein Natur-Spektakel mit Luxus. Die gesamte Insel steht den Gästen zur Verfügung. Der botanische Garten wie auch das subtropische Klima verleihen der Feier das Prädikat eines wahrhaftigen VIP-Anlasses. \nEine kleine Oase bringt sowohl mediterranische Düfte als auch die Farben Südafrikas ins Tessin. \nDie feine Musik Misters Saxr und sein eleganter Stil werden unter diesen Bedingungen bestens zur Geltung kommen.
URL:https://www.saxophonist-live.ch/saxofonist-blog/event/hochzeit-mit-mister-saxr-6/
LOCATION:Isole di Brissago\, Tessin
CATEGORIES:MisterSaxr Event
ATTACH;FMTTYPE=image/jpeg:https://www.saxophonist-live.ch/saxofonist-blog/wp-content/uploads/2019/03/Saxophonist-Musiker-Schiff-Boot-Walensee-Murtensee-1-e1686304064556.jpg
END:VEVENT
END:VCALENDAR