BEGIN:VCALENDAR
VERSION:2.0
PRODID:-//MisterSaxr.ch | saxophonist-LIVE.ch | Blog | Firmenanlass Hochzeiten Events Saxofonist Musiker Saxophonist Schweiz Z&uuml;rich - ECPv6.15.8//NONSGML v1.0//EN
CALSCALE:GREGORIAN
METHOD:PUBLISH
X-ORIGINAL-URL:https://www.saxophonist-live.ch/saxofonist-blog
X-WR-CALDESC:Veranstaltungen für MisterSaxr.ch | saxophonist-LIVE.ch | Blog | Firmenanlass Hochzeiten Events Saxofonist Musiker Saxophonist Schweiz Z&uuml;rich
REFRESH-INTERVAL;VALUE=DURATION:PT1H
X-Robots-Tag:noindex
X-PUBLISHED-TTL:PT1H
BEGIN:VTIMEZONE
TZID:Europe/Zurich
BEGIN:DAYLIGHT
TZOFFSETFROM:+0100
TZOFFSETTO:+0200
TZNAME:CEST
DTSTART:20220327T010000
END:DAYLIGHT
BEGIN:STANDARD
TZOFFSETFROM:+0200
TZOFFSETTO:+0100
TZNAME:CET
DTSTART:20221030T010000
END:STANDARD
BEGIN:DAYLIGHT
TZOFFSETFROM:+0100
TZOFFSETTO:+0200
TZNAME:CEST
DTSTART:20230326T010000
END:DAYLIGHT
BEGIN:STANDARD
TZOFFSETFROM:+0200
TZOFFSETTO:+0100
TZNAME:CET
DTSTART:20231029T010000
END:STANDARD
BEGIN:DAYLIGHT
TZOFFSETFROM:+0100
TZOFFSETTO:+0200
TZNAME:CEST
DTSTART:20240331T010000
END:DAYLIGHT
BEGIN:STANDARD
TZOFFSETFROM:+0200
TZOFFSETTO:+0100
TZNAME:CET
DTSTART:20241027T010000
END:STANDARD
END:VTIMEZONE
BEGIN:VEVENT
DTSTART;TZID=Europe/Zurich:20231117T173000
DTEND;TZID=Europe/Zurich:20231117T223000
DTSTAMP:20260424T000401
CREATED:20231101T145036Z
LAST-MODIFIED:20231101T145036Z
UID:3702-1700242200-1700260200@www.saxophonist-live.ch
SUMMARY:Mister Saxr in der Roten Trotte: Musikalisches Highlight für die IT-Jubiläumsfeier in Winterthur
DESCRIPTION:Winterthur\, oft liebevoll als Eulachstadt bezeichnet\, ist nicht nur für ihre kulturelle Vielfalt und historische Architektur bekannt\, sondern auch als modernes Zentrum für Geschäfte und Innovationen. Mister Saxr tritt gerne und häufig in Winterthur und der umliegenden Region auf. In diesem Kontext steht die bevorstehende Jubiläumsfeier einer renommierten IT-Firma aus Winterthur. Das Unternehmen\, welches innovative Lösungen und Coachings anbietet\, hat sich in der IT-Branche einen Namen gemacht und zählt zu seinen Kunden einige der bekanntesten schweizerischen Unternehmen\, darunter die SBB\, die Jungfrau\, Baur au Lac Weine und das Mode-Label Strellson. \nDie Wahl des Veranstaltungsortes für diese besondere Feier fiel auf die “Rote Trotte”\, ein architektonisches Juwel\, das bereits 250 Jahre Geschichte in sich trägt. Dieses liebevoll renovierte Gebäude gehört dem Maiergrill\, einem bekannten Caterer aus Winterthur. Mit seiner authentischen und zugleich eleganten Atmosphäre bietet die Rote Trotte den perfekten Rahmen für einen stilvollen und exklusiven Anlass. \nMister Saxrs musikalisches Repertoire ist beeindruckend vielfältig. Während er für seine Lounge-Musik\, den Smooth Jazz und Bozza Nova bekannt ist\, bietet er weit mehr als das. Er hat die Fähigkeit\, die schönsten Lieder aus 50 Jahren Musikgeschichte mit aktuellen Hits zu kombinieren und schafft so eine musikalische Brücke zwischen den Generationen. Ob Klassiker\, die an vergangene Zeiten erinnern\, oder moderne Songs zum Feiern – Mister Saxr beherrscht sie alle und bringt sie mit Leidenschaft und Präzision zum Ausdruck. \nEin besonderes Augenmerk verdient seine Fähigkeit\, sich dem Anlass und dem Publikum anzupassen. So kann er in einem Moment sanfte\, beruhigende Klänge spielen und im nächsten Moment das Publikum mit energiegeladenen Tönen zum Tanzen bringen. Diese Vielseitigkeit wird sicherlich dazu beitragen\, dass jeder Gast\, unabhängig von Alter oder musikalischem Geschmack\, einen unvergesslichen Abend erleben wird. \nDoch was wäre ein solches Jubiläum ohne die passende musikalische Untermalung? Hier kommt Mister Saxr ins Spiel. Als leidenschaftlicher Saxophonist mit einem feinen Gespür für Atmosphäre und Timing ist er prädestiniert\, diesen besonderen Abend zu einem unvergesslichen Erlebnis zu machen. Seine melodiösen Klänge werden durch die historischen Hallen der Roten Trotte schweben\, die Gäste verzaubern und eine festliche sowie entspannte Stimmung garantieren. \nIn Kombination mit dem erstklassigen Catering des Maiergrills wird dieser Jubiläumsabend in der Roten Trotte zu einem Highlight im Kalender aller Gäste. Ein Abend\, an dem Geschäftserfolge gefeiert\, Beziehungen gestärkt und unvergessliche Momente geschaffen werden – alles unter dem melodischen Mantel von Mister Saxr.
URL:https://www.saxophonist-live.ch/saxofonist-blog/event/mister-saxr-saxophonist-winterthur-jubilaeumsfeier-lounge-musik-smooth-jazz-jubilaeumsabend/
LOCATION:Rote Trotte Eventlocation\, Schlosstalstrasse 92\, Winterthur\, 8408\, Schweiz
CATEGORIES:MisterSaxr Event
ATTACH;FMTTYPE=image/jpeg:https://www.saxophonist-live.ch/saxofonist-blog/wp-content/uploads/2023/11/Saxophonist_SelmerSupreme_MisterSAXR_1115.jpg
END:VEVENT
END:VCALENDAR