BEGIN:VCALENDAR
VERSION:2.0
PRODID:-//MisterSaxr.ch | saxophonist-LIVE.ch | Blog | Firmenanlass Hochzeiten Events Saxofonist Musiker Saxophonist Schweiz Z&uuml;rich - ECPv6.15.8//NONSGML v1.0//EN
CALSCALE:GREGORIAN
METHOD:PUBLISH
X-ORIGINAL-URL:https://www.saxophonist-live.ch/saxofonist-blog
X-WR-CALDESC:Veranstaltungen für MisterSaxr.ch | saxophonist-LIVE.ch | Blog | Firmenanlass Hochzeiten Events Saxofonist Musiker Saxophonist Schweiz Z&uuml;rich
REFRESH-INTERVAL;VALUE=DURATION:PT1H
X-Robots-Tag:noindex
X-PUBLISHED-TTL:PT1H
BEGIN:VTIMEZONE
TZID:Europe/Zurich
BEGIN:DAYLIGHT
TZOFFSETFROM:+0100
TZOFFSETTO:+0200
TZNAME:CEST
DTSTART:20200329T010000
END:DAYLIGHT
BEGIN:STANDARD
TZOFFSETFROM:+0200
TZOFFSETTO:+0100
TZNAME:CET
DTSTART:20201025T010000
END:STANDARD
BEGIN:DAYLIGHT
TZOFFSETFROM:+0100
TZOFFSETTO:+0200
TZNAME:CEST
DTSTART:20210328T010000
END:DAYLIGHT
BEGIN:STANDARD
TZOFFSETFROM:+0200
TZOFFSETTO:+0100
TZNAME:CET
DTSTART:20211031T010000
END:STANDARD
BEGIN:DAYLIGHT
TZOFFSETFROM:+0100
TZOFFSETTO:+0200
TZNAME:CEST
DTSTART:20220327T010000
END:DAYLIGHT
BEGIN:STANDARD
TZOFFSETFROM:+0200
TZOFFSETTO:+0100
TZNAME:CET
DTSTART:20221030T010000
END:STANDARD
END:VTIMEZONE
BEGIN:VEVENT
DTSTART;TZID=Europe/Zurich:20211122T190000
DTEND;TZID=Europe/Zurich:20211122T220000
DTSTAMP:20260425T060716
CREATED:20211119T091044Z
LAST-MODIFIED:20211119T091157Z
UID:3022-1637607600-1637618400@www.saxophonist-live.ch
SUMMARY:Weihnachtsessen Kiwanis Dübelstein
DESCRIPTION:Im «8304 Altes Feuerwehrgebäude»\, einem Restaurant und Eventlocation in Wallisellen-Zürich\, feiert der Kiwanis-Club Dübelstein\, welcher sich für soziale Projekte in der Schweiz einsetzt\, sein diesjähriges Weihnachtsessen. Mister Sax wird die Feier musikalisch begleiten und jederzeit für die ideale Stimmung sorgen. \nMister Saxr\, der leidenschaftliche Saxofonist und begnadete Alleinunterhalter\, ist ideal\, um eine Veranstaltung den ganzen Abend hindurch allein zu unterhalten. Seinem Instrument einem Tenorsaxofon der Marke Selmer Typ VI\, entlockt er die sanftesten Töne und feinsten Melodien. Sein Repertoire ist reich an Genres\, sie reicht von modernen Hitparadesongs über Smooth Jazz\, Bozza Nova bis hin zu Disco\, Evergreens und denn schönstens Sax-Melodien aus allen Musik-Epochen.
URL:https://www.saxophonist-live.ch/saxofonist-blog/event/weihnachtsessen-kiwanis-duebelstein/
LOCATION:8304 | Altes Feuerwehrgebäu\, Zentralstrasse 4\, Wallisellen\, 8304\, Schweiz
CATEGORIES:MisterSaxr Event
ATTACH;FMTTYPE=image/jpeg:https://www.saxophonist-live.ch/saxofonist-blog/wp-content/uploads/2018/09/MISTERSAXR_7397.jpg
END:VEVENT
END:VCALENDAR