BEGIN:VCALENDAR
VERSION:2.0
PRODID:-//MisterSaxr.ch | saxophonist-LIVE.ch | Blog | Firmenanlass Hochzeiten Events Saxofonist Musiker Saxophonist Schweiz Z&uuml;rich - ECPv6.15.8//NONSGML v1.0//EN
CALSCALE:GREGORIAN
METHOD:PUBLISH
X-ORIGINAL-URL:https://www.saxophonist-live.ch/saxofonist-blog
X-WR-CALDESC:Veranstaltungen für MisterSaxr.ch | saxophonist-LIVE.ch | Blog | Firmenanlass Hochzeiten Events Saxofonist Musiker Saxophonist Schweiz Z&uuml;rich
REFRESH-INTERVAL;VALUE=DURATION:PT1H
X-Robots-Tag:noindex
X-PUBLISHED-TTL:PT1H
BEGIN:VTIMEZONE
TZID:Europe/Zurich
BEGIN:DAYLIGHT
TZOFFSETFROM:+0100
TZOFFSETTO:+0200
TZNAME:CEST
DTSTART:20180325T010000
END:DAYLIGHT
BEGIN:STANDARD
TZOFFSETFROM:+0200
TZOFFSETTO:+0100
TZNAME:CET
DTSTART:20181028T010000
END:STANDARD
BEGIN:DAYLIGHT
TZOFFSETFROM:+0100
TZOFFSETTO:+0200
TZNAME:CEST
DTSTART:20190331T010000
END:DAYLIGHT
BEGIN:STANDARD
TZOFFSETFROM:+0200
TZOFFSETTO:+0100
TZNAME:CET
DTSTART:20191027T010000
END:STANDARD
BEGIN:DAYLIGHT
TZOFFSETFROM:+0100
TZOFFSETTO:+0200
TZNAME:CEST
DTSTART:20200329T010000
END:DAYLIGHT
BEGIN:STANDARD
TZOFFSETFROM:+0200
TZOFFSETTO:+0100
TZNAME:CET
DTSTART:20201025T010000
END:STANDARD
END:VTIMEZONE
BEGIN:VEVENT
DTSTART;TZID=Europe/Zurich:20190621T180000
DTEND;TZID=Europe/Zurich:20190621T223000
DTSTAMP:20260424T211513
CREATED:20190328T141428Z
LAST-MODIFIED:20190423T120605Z
UID:2094-1561140000-1561156200@www.saxophonist-live.ch
SUMMARY:Mister Saxr auf dem Zürichsee. Live-Saxophon und Gitarre.
DESCRIPTION:Mister Saxr spielt zusammen mit dem Gitarristen Florian an einem Mitarbeiteranlass der Vetsuisse Faculty Zurich auf dem Motorschiff Panta Rhei. Die Gäste werden die herrliche Panoramasicht am Zürichsee und die einzigartige Atmosphäre mit den feinsten Saxophon- und Gitarren-Klängen geniessen. Während der Fahrt\, werden die Gäste mit stilvollen Smooth-Jazz-Klängen unterhalten. Summer-Feeling vom Feinsten. Die Reise der Zürichsee-Schifffahrt führt von Zürich-Bürklplatz\, via Wollishofen\, Thalwil\, Horgen\, Kilchberg\, Rüschlikon\, Oberrieden\, Horgen\, Käpfnach\, Wädenswil\, Richterswil\, Rapperswil\, Uetikon am See\, Meilen\, Feldmeilen\, Erlenbach\, Küsnacht. Bis zur Rückkehr beim Bellevue Zürich. \nDie Abendstimmung auf einem Zürichsee-Schiff ist einzigartig. Umgeben von herrlichen Ortschaften und am Horizont auch die Bündner und Glarner Alpen und dann die einzigartige Siloutte der Stadt Zürich erleben die Gäste auch optisch einiges. Dass dies auch akustisch zu einem Erlebnis wird\, dafür sorgen die beiden hervorrragenden Musiker Mister Saxr und Gitarrist Florian. Die Musiker spielen unplugged und live und bespielen das ganze Schiff\, indem sie die Auftrittsorte wechseln. Die Spezialität von Florian sind rythmische und warme Gitarrenklänge. Das reicht von Gypsy-Jazz bis zu Swing. Er begleitet alle BossaNova\, Smooth-Jazz und Pop Songs und sorgt mit virtuosen Soli für Höhepunkte. Das Duo hat schon einige Auftritte erfolgreich gespielt und dafür auch bemerkenswerte Ressonanzen erhalten. www.mistersaxr.ch/referenzen \n\nRaus ins Vergnügen mit den Erlebnissschiffen auf dem Zürichsee.\n\n\n\nTolle Unterhaltung\, Live-Musik für jeden Geschmack exzellente Küche\, und eindrückliches Panorama:\nUnsere Erlebnisschiffe bieten auf einer knapp dreistündigen Rundfahrt alles\, was Herz und Tanzbein begehren. \nWir empfehlen: Unbedingt alle einmal ausprobieren! \n\n\n\n\n\nMotorschiff Panta Rhei\n\n\n\nGeniessen Sie die herrliche Panoramasicht und die einzigartige Atmosphäre\, welche durch das ausgeklügelte Lichtkonzept entstehen. Das ganze Jahr über bei Vorträgen\, Präsentationen\, Konzerten oder Partys. Stufenloser Zugang per Lift auf alle Decks. Und Platz für bis zu 300 Personen. \n\n\n\n\n\n\n  \n  \n 
URL:https://www.saxophonist-live.ch/saxofonist-blog/event/mister-saxr-auf-dem-zuerichsee-live-saxophon-und-gitarre/
LOCATION:Panta Rhei\, Zürichsee Schifffahrtsgesellschaft\, Mythenquai 333\, Zürich\, Zürich\, 8038\, Schweiz
CATEGORIES:MisterSaxr Event
ATTACH;FMTTYPE=image/jpeg:https://www.saxophonist-live.ch/saxofonist-blog/wp-content/uploads/2019/03/Saxophonist-Musiker-Schiff-Boot-Walensee-Murtensee-1-e1686304064556.jpg
END:VEVENT
END:VCALENDAR