BEGIN:VCALENDAR
VERSION:2.0
PRODID:-//MisterSaxr.ch | saxophonist-LIVE.ch | Blog | Firmenanlass Hochzeiten Events Saxofonist Musiker Saxophonist Schweiz Z&uuml;rich - ECPv6.15.8//NONSGML v1.0//EN
CALSCALE:GREGORIAN
METHOD:PUBLISH
X-ORIGINAL-URL:https://www.saxophonist-live.ch/saxofonist-blog
X-WR-CALDESC:Veranstaltungen für MisterSaxr.ch | saxophonist-LIVE.ch | Blog | Firmenanlass Hochzeiten Events Saxofonist Musiker Saxophonist Schweiz Z&uuml;rich
REFRESH-INTERVAL;VALUE=DURATION:PT1H
X-Robots-Tag:noindex
X-PUBLISHED-TTL:PT1H
BEGIN:VTIMEZONE
TZID:Europe/Zurich
BEGIN:DAYLIGHT
TZOFFSETFROM:+0100
TZOFFSETTO:+0200
TZNAME:CEST
DTSTART:20190331T010000
END:DAYLIGHT
BEGIN:STANDARD
TZOFFSETFROM:+0200
TZOFFSETTO:+0100
TZNAME:CET
DTSTART:20191027T010000
END:STANDARD
BEGIN:DAYLIGHT
TZOFFSETFROM:+0100
TZOFFSETTO:+0200
TZNAME:CEST
DTSTART:20200329T010000
END:DAYLIGHT
BEGIN:STANDARD
TZOFFSETFROM:+0200
TZOFFSETTO:+0100
TZNAME:CET
DTSTART:20201025T010000
END:STANDARD
BEGIN:DAYLIGHT
TZOFFSETFROM:+0100
TZOFFSETTO:+0200
TZNAME:CEST
DTSTART:20210328T010000
END:DAYLIGHT
BEGIN:STANDARD
TZOFFSETFROM:+0200
TZOFFSETTO:+0100
TZNAME:CET
DTSTART:20211031T010000
END:STANDARD
END:VTIMEZONE
BEGIN:VEVENT
DTSTART;TZID=Europe/Zurich:20201203T140000
DTEND;TZID=Europe/Zurich:20201203T160000
DTSTAMP:20260423T194931
CREATED:20191220T132835Z
LAST-MODIFIED:20201117T101502Z
UID:2565-1607004000-1607011200@www.saxophonist-live.ch
SUMMARY:Mister Saxr als Chlaus
DESCRIPTION:Die Veranstaltung wurde aufgrund des Coronavirus abgesagt. \nMister Saxr spielt für die Confiserie Honold. Der Anlass findet in die Confiserie Honold\, dem historischen Gebäude “Zum grossen Christoffel” am Rennweg 53 statt und wird mit den Saxklängen des Zürcher Saxophonisten bereichert. Der Samichlaus spielt wunderschöne Weihnachtsmeldoien und er wird die Kinder mit diesen harmonischen Liedern verzaubern. Die Veranstaltung ist öffentlich. \nDie Geschichte der Confiserie Honold ist reich an Inspirationen von Reisen in ferne Länder. Das Unternehmen wird in vierter Generation geführt. Es wurde 1905 gegründet. Heute führt Cristina de Perregaux\, die Urenkelin des Firmengründers\, die Confiserie Honold. Mit ihrem Team eröffnet sie 2012 die Manufaktur in Küsnacht und 2016 ein neues Café in Herrliberg. Im Jahr 2017 folgten dann weitere Filialen\, eine in der Nähe vom Bahnhof Enge und eine beim Bahnhof Stadelhofen. Im Herbst 2019 eröffnet der siebte Standort im Zentrum Witikon. Auch dort spielt der Samichlaus Mister Saxr für die Kinder (5. Dezember 2020)
URL:https://www.saxophonist-live.ch/saxofonist-blog/event/mister-saxr-als-chlaus/
LOCATION:Honold Rennweg\, Rennweg 53\, Zürich\, ZH\, 8001\, Schweiz
CATEGORIES:MisterSaxr Event
ATTACH;FMTTYPE=image/jpeg:https://www.saxophonist-live.ch/saxofonist-blog/wp-content/uploads/2016/09/Weihnachtsmarkt-Winterthur-Saxophonigst-Mister-Saxer-als-Samichlaus.jpg
END:VEVENT
BEGIN:VEVENT
DTSTART;TZID=Europe/Zurich:20201205T140000
DTEND;TZID=Europe/Zurich:20201205T160000
DTSTAMP:20260423T194931
CREATED:20191220T132500Z
LAST-MODIFIED:20201117T101545Z
UID:2563-1607176800-1607184000@www.saxophonist-live.ch
SUMMARY:Mister Saxr als Samichlaus in Zürich
DESCRIPTION:Die Veranstaltung wurde aufgrund des Coronavirus abgesagt. \nMister Saxr spielt als Samichlaus in der Confiserie Honold in Zentrum Witikon in Zürich. Dieses mal trifft Mister Saxr ganz viele Kinder als Samichlaus\, Er spielt weihnachtliche Melodien\, aber auch romantische Pop-Balladen für die Passanten und Gäste der Confiserie Honold. Alle Kinder sind sehr herzlich willkommen und der Samichlaus freut sich auf die strahlenden Kinderaugen.
URL:https://www.saxophonist-live.ch/saxofonist-blog/event/mister-saxr-als-samichlaus-in-zuerich/
LOCATION:Honold Zentrum Witikon\, Witikonerstrasse 293\, Zürich\, 8053
CATEGORIES:MisterSaxr Event
ATTACH;FMTTYPE=image/jpeg:https://www.saxophonist-live.ch/saxofonist-blog/wp-content/uploads/2016/09/Weihnachtsmarkt-Winterthur-Saxophonigst-Mister-Saxer-als-Samichlaus.jpg
END:VEVENT
END:VCALENDAR