BEGIN:VCALENDAR
VERSION:2.0
PRODID:-//MisterSaxr.ch | saxophonist-LIVE.ch | Blog | Firmenanlass Hochzeiten Events Saxofonist Musiker Saxophonist Schweiz Z&uuml;rich - ECPv6.15.8//NONSGML v1.0//EN
CALSCALE:GREGORIAN
METHOD:PUBLISH
X-WR-CALNAME:MisterSaxr.ch | saxophonist-LIVE.ch | Blog | Firmenanlass Hochzeiten Events Saxofonist Musiker Saxophonist Schweiz Z&uuml;rich
X-ORIGINAL-URL:https://www.saxophonist-live.ch/saxofonist-blog
X-WR-CALDESC:Veranstaltungen für MisterSaxr.ch | saxophonist-LIVE.ch | Blog | Firmenanlass Hochzeiten Events Saxofonist Musiker Saxophonist Schweiz Z&uuml;rich
REFRESH-INTERVAL;VALUE=DURATION:PT1H
X-Robots-Tag:noindex
X-PUBLISHED-TTL:PT1H
BEGIN:VTIMEZONE
TZID:Europe/Zurich
BEGIN:DAYLIGHT
TZOFFSETFROM:+0100
TZOFFSETTO:+0200
TZNAME:CEST
DTSTART:20240331T010000
END:DAYLIGHT
BEGIN:STANDARD
TZOFFSETFROM:+0200
TZOFFSETTO:+0100
TZNAME:CET
DTSTART:20241027T010000
END:STANDARD
BEGIN:DAYLIGHT
TZOFFSETFROM:+0100
TZOFFSETTO:+0200
TZNAME:CEST
DTSTART:20250330T010000
END:DAYLIGHT
BEGIN:STANDARD
TZOFFSETFROM:+0200
TZOFFSETTO:+0100
TZNAME:CET
DTSTART:20251026T010000
END:STANDARD
BEGIN:DAYLIGHT
TZOFFSETFROM:+0100
TZOFFSETTO:+0200
TZNAME:CEST
DTSTART:20260329T010000
END:DAYLIGHT
BEGIN:STANDARD
TZOFFSETFROM:+0200
TZOFFSETTO:+0100
TZNAME:CET
DTSTART:20261025T010000
END:STANDARD
END:VTIMEZONE
BEGIN:VEVENT
DTSTART;TZID=Europe/Zurich:20250330T160000
DTEND;TZID=Europe/Zurich:20250330T200000
DTSTAMP:20260421T025939
CREATED:20250324T115646Z
LAST-MODIFIED:20250324T115646Z
UID:4155-1743350400-1743364800@www.saxophonist-live.ch
SUMMARY:Ein exklusiver Auftritt in einem kunstvollen Ambiente
DESCRIPTION:MisterSaxr ist bekannt für seine leidenschaftlichen Live-Auftritte und seine Fähigkeit\, mit seinem Saxophon magische Momente zu erschaffen. Nun wird er einen besonderen Abend musikalisch begleiten: einen exklusiven privaten Event in der Kunstgalerie im Stenna Zentrum Flims. Inmitten eines inspirierenden Ambientes voller kreativer Werke sorgt MisterSaxr für eine musikalische Untermalung\, die perfekt zur Atmosphäre des Abends passt. \nDas Stenna Zentrum Flims ist weit mehr als nur ein Einkaufs- und Erlebniszentrum. Als zentraler Begegnungsort der Region verbindet es Gastronomie\, Shopping\, Freizeit und Kultur in einem modernen architektonischen Konzept. Direkt an der Talstation der Bergbahnen gelegen\, hat sich das Stenna Zentrum zu einem beliebten Anziehungspunkt für Gäste und Einheimische entwickelt. \nDie Kombination aus Natur\, Lifestyle und Kunst macht das Stenna Zentrum zum perfekten Ort für hochwertige Events – und genau hier kommt MisterSaxr ins Spiel. Mit seinen gefühlvollen Saxophonklängen passt er ideal in dieses stilvolle Ambiente und sorgt für besondere Gänsehautmomente. \nDer private Event in der Kunstgalerie im Stenna Zentrum Flims verspricht eine unvergessliche Symbiose aus visueller und akustischer Kunst. Während die Gäste beeindruckende Kunstwerke bestaunen\, sorgt MisterSaxr für die musikalische Note\, die den Raum zum Leben erweckt. \nDiese exklusive Veranstaltung bringt Kunstliebhaber\, Musikfans und Geniesser zusammen und schafft eine Atmosphäre\, die durch die Kombination aus kreativen Werken und live gespieltem Saxophon einzigartig wird. MisterSaxr versteht es meisterhaft\, mit seinen Klängen Emotionen zu transportieren und jeden Moment mit seinen Melodien zu untermalen. \nKunst und Musik sind zwei Ausdrucksformen\, die Emotionen auf besondere Weise wecken. Während ein Gemälde durch Farben und Formen inspiriert\, dringt Musik direkt ins Herz. MisterSaxr verbindet diese beiden Welten und schafft eine Brücke zwischen visueller und akustischer Kunst. \nSeine Musik verstärkt die Wirkung der ausgestellten Werke\, bringt Stimmungen zum Ausdruck und verleiht dem Abend eine elegante\, exklusive Note. Das Stenna Zentrum Flims wird so zu einem Ort\, an dem Kunst in all ihren Facetten erlebt wird – mit MisterSaxr als musikalischem Herzstück. \nDieser private Event in der Kunstgalerie im Stenna Zentrum Flims wird zweifellos zu einem besonderen Erlebnis\, bei dem Kunst und Musik in perfekter Harmonie miteinander verschmelzen.
URL:https://www.saxophonist-live.ch/saxofonist-blog/event/ein-exklusiver-auftritt-in-einem-kunstvollen-ambiente/
LOCATION:Einkaufszentrum Stenna Flims\, Via Nova 80\, Flims\, 7017\, Schweiz
CATEGORIES:MisterSaxr Event
ATTACH;FMTTYPE=image/jpeg:https://www.saxophonist-live.ch/saxofonist-blog/wp-content/uploads/2018/10/MISTERSAXR_Saxophonist_Zu__rich_Ape__romusik_Saxofon_Haug72dpi002-1.jpg
END:VEVENT
END:VCALENDAR