BEGIN:VCALENDAR
VERSION:2.0
PRODID:-//MisterSaxr.ch | saxophonist-LIVE.ch | Blog | Firmenanlass Hochzeiten Events Saxofonist Musiker Saxophonist Schweiz Z&uuml;rich - ECPv6.15.8//NONSGML v1.0//EN
CALSCALE:GREGORIAN
METHOD:PUBLISH
X-WR-CALNAME:MisterSaxr.ch | saxophonist-LIVE.ch | Blog | Firmenanlass Hochzeiten Events Saxofonist Musiker Saxophonist Schweiz Z&uuml;rich
X-ORIGINAL-URL:https://www.saxophonist-live.ch/saxofonist-blog
X-WR-CALDESC:Veranstaltungen für MisterSaxr.ch | saxophonist-LIVE.ch | Blog | Firmenanlass Hochzeiten Events Saxofonist Musiker Saxophonist Schweiz Z&uuml;rich
REFRESH-INTERVAL;VALUE=DURATION:PT1H
X-Robots-Tag:noindex
X-PUBLISHED-TTL:PT1H
BEGIN:VTIMEZONE
TZID:Europe/Zurich
BEGIN:DAYLIGHT
TZOFFSETFROM:+0100
TZOFFSETTO:+0200
TZNAME:CEST
DTSTART:20240331T010000
END:DAYLIGHT
BEGIN:STANDARD
TZOFFSETFROM:+0200
TZOFFSETTO:+0100
TZNAME:CET
DTSTART:20241027T010000
END:STANDARD
BEGIN:DAYLIGHT
TZOFFSETFROM:+0100
TZOFFSETTO:+0200
TZNAME:CEST
DTSTART:20250330T010000
END:DAYLIGHT
BEGIN:STANDARD
TZOFFSETFROM:+0200
TZOFFSETTO:+0100
TZNAME:CET
DTSTART:20251026T010000
END:STANDARD
BEGIN:DAYLIGHT
TZOFFSETFROM:+0100
TZOFFSETTO:+0200
TZNAME:CEST
DTSTART:20260329T010000
END:DAYLIGHT
BEGIN:STANDARD
TZOFFSETFROM:+0200
TZOFFSETTO:+0100
TZNAME:CET
DTSTART:20261025T010000
END:STANDARD
END:VTIMEZONE
BEGIN:VEVENT
DTSTART;TZID=Europe/Zurich:20250225T180000
DTEND;TZID=Europe/Zurich:20250225T220000
DTSTAMP:20260422T230442
CREATED:20250123T143132Z
LAST-MODIFIED:20250123T143239Z
UID:4074-1740506400-1740520800@www.saxophonist-live.ch
SUMMARY:Mister Saxr in der Waldhütte Salums Sura
DESCRIPTION:Am 25. Februar 2025 wird die idyllische Waldhütte Salums Sura im Herzen der Bündner Bergwelt Schauplatz einer ganz besonderen Feier. Im privaten Rahmen einer Geburtstagsfeier wird Mister Saxr mit seinen unverwechselbaren Saxophonklängen für musikalische Highlights sorgen und die Gäste in eine einzigartige Stimmung versetzen. Die Kombination aus Musik\, Natur und Atmosphäre verspricht einen Abend\, der noch lange in Erinnerung bleibt. \nEingebettet in die grandiose Landschaft der Surselva\, zählen Flims und Laax zu den beliebtesten Regionen der Schweiz. Bekannt für ihre imposanten Berge\, glasklaren Seen und unvergleichliche Naturschönheit\, ist die Gegend ein Anziehungspunkt für Naturliebhaber und Ruhesuchende. Diese faszinierende Kulisse ist auch für Mister Saxr eine Herzensangelegenheit – bereits mehrfach durfte er in Flims\, Laax und der gesamten Surselva auftreten. Dabei schätzt er nicht nur die atemberaubende Bergwelt\, sondern auch die besondere Verbundenheit\, die seine Musik mit dieser Landschaft schafft. \nDie Waldhütte Salums Sura bietet die perfekte Location für einen Anlass in der Natur. Umgeben von dichten Wäldern und mit einem herrlichen Blick auf die umliegenden Berge\, strahlt die Hütte eine heimelige und gleichzeitig exklusive Atmosphäre aus. Diese Symbiose aus Natur und Gemütlichkeit ist der ideale Rahmen für die Klänge von Mister Saxr\, dessen Musik sich harmonisch in die Stimmung des Ortes einfügt und die Gäste verzaubert. \nFür Mister Saxr\, der schon oft in der Region Flims und Laax aufgetreten ist\, ist die Bergwelt nicht nur Inspiration\, sondern auch ein Ort der Ruhe und Energie. Seine Saxophonklänge spiegeln die Vielfalt der Umgebung wider – mal sanft und melancholisch\, mal kraftvoll und dynamisch. Besonders in einer Umgebung wie der Waldhütte Salums Sura gelingt es ihm\, seine Musik mit der Umgebung in Einklang zu bringen und ein einmaliges Erlebnis zu schaffen. \nDie Kombination aus der rustikalen Gemütlichkeit der Waldhütte\, der einzigartigen Bergwelt und der Musik von Mister Saxr sorgt für eine besondere Atmosphäre. Ob dezent im Hintergrund oder als Highlight des Abends – seine Klänge unterstreichen die Magie des Moments und machen den Geburtstag zu einem unvergesslichen Erlebnis. Die Gäste dürfen sich auf einen Abend freuen\, der die Natur\, die Musik und die Feier perfekt miteinander verbindet.
URL:https://www.saxophonist-live.ch/saxofonist-blog/event/mister-saxr-in-der-waldhuette-salums-sura/
LOCATION:Salums Sura\, die Waldhütte\, Via Principala 60b\, Laax\, 7031
CATEGORIES:MisterSaxr Event
ATTACH;FMTTYPE=image/jpeg:https://www.saxophonist-live.ch/saxofonist-blog/wp-content/uploads/2024/08/X_MisterSaxr_WinterXmas_Event_Saxophonist_Winter_AndreaKuehnis24-e1724670611202.jpg
END:VEVENT
END:VCALENDAR