BEGIN:VCALENDAR
VERSION:2.0
PRODID:-//MisterSaxr.ch | saxophonist-LIVE.ch | Blog | Firmenanlass Hochzeiten Events Saxofonist Musiker Saxophonist Schweiz Z&uuml;rich - ECPv6.15.8//NONSGML v1.0//EN
CALSCALE:GREGORIAN
METHOD:PUBLISH
X-WR-CALNAME:MisterSaxr.ch | saxophonist-LIVE.ch | Blog | Firmenanlass Hochzeiten Events Saxofonist Musiker Saxophonist Schweiz Z&uuml;rich
X-ORIGINAL-URL:https://www.saxophonist-live.ch/saxofonist-blog
X-WR-CALDESC:Veranstaltungen für MisterSaxr.ch | saxophonist-LIVE.ch | Blog | Firmenanlass Hochzeiten Events Saxofonist Musiker Saxophonist Schweiz Z&uuml;rich
REFRESH-INTERVAL;VALUE=DURATION:PT1H
X-Robots-Tag:noindex
X-PUBLISHED-TTL:PT1H
BEGIN:VTIMEZONE
TZID:Europe/Zurich
BEGIN:DAYLIGHT
TZOFFSETFROM:+0100
TZOFFSETTO:+0200
TZNAME:CEST
DTSTART:20200329T010000
END:DAYLIGHT
BEGIN:STANDARD
TZOFFSETFROM:+0200
TZOFFSETTO:+0100
TZNAME:CET
DTSTART:20201025T010000
END:STANDARD
BEGIN:DAYLIGHT
TZOFFSETFROM:+0100
TZOFFSETTO:+0200
TZNAME:CEST
DTSTART:20210328T010000
END:DAYLIGHT
BEGIN:STANDARD
TZOFFSETFROM:+0200
TZOFFSETTO:+0100
TZNAME:CET
DTSTART:20211031T010000
END:STANDARD
BEGIN:DAYLIGHT
TZOFFSETFROM:+0100
TZOFFSETTO:+0200
TZNAME:CEST
DTSTART:20220327T010000
END:DAYLIGHT
BEGIN:STANDARD
TZOFFSETFROM:+0200
TZOFFSETTO:+0100
TZNAME:CET
DTSTART:20221030T010000
END:STANDARD
END:VTIMEZONE
BEGIN:VEVENT
DTSTART;TZID=Europe/Zurich:20210807T180000
DTEND;TZID=Europe/Zurich:20210807T230000
DTSTAMP:20260425T062238
CREATED:20210702T113523Z
LAST-MODIFIED:20211108T150012Z
UID:2880-1628359200-1628377200@www.saxophonist-live.ch
SUMMARY:Mister Saxr & Nyssina @ Golfturnier Zürisee Flag 2021
DESCRIPTION:Zusammen mit der Top-Sängerin Nyssina tritt Mister Saxr am Samstag\, 7. August 2021 am Golfturnier Zürisee Flag in Lenzerheide. Das Repertoire reicht von Smooth-Jazz\, Evergreens\, Bossa Nova\, Pop- und Hitsongs über romantische Balladen bis hin zu Party und Disco-Dance Musik. Smooth Sax (Selmer Mark VI) und die feine weibliche Stimme ergänzen sich perfekt. Mister Saxr und Nyssina sind ein bestens eingespieltes Duo. Bereits zum dritten Mal tritt Mister Saxr für die Veranstalter auf.
URL:https://www.saxophonist-live.ch/saxofonist-blog/event/mister-saxr-nyssina-golfturnier-zuerisee-flag-2021/
LOCATION:Golfclub Lenzerheide\, Lenzerheide\, 7078\, Schweiz
CATEGORIES:MisterSaxr Event
ATTACH;FMTTYPE=image/jpeg:https://www.saxophonist-live.ch/saxofonist-blog/wp-content/uploads/2021/07/MisterSaxr_Nyssina-073.jpg
END:VEVENT
END:VCALENDAR