BEGIN:VCALENDAR
VERSION:2.0
PRODID:-//MisterSaxr.ch | saxophonist-LIVE.ch | Blog | Firmenanlass Hochzeiten Events Saxofonist Musiker Saxophonist Schweiz Z&uuml;rich - ECPv6.15.8//NONSGML v1.0//EN
CALSCALE:GREGORIAN
METHOD:PUBLISH
X-ORIGINAL-URL:https://www.saxophonist-live.ch/saxofonist-blog
X-WR-CALDESC:Veranstaltungen für MisterSaxr.ch | saxophonist-LIVE.ch | Blog | Firmenanlass Hochzeiten Events Saxofonist Musiker Saxophonist Schweiz Z&uuml;rich
REFRESH-INTERVAL;VALUE=DURATION:PT1H
X-Robots-Tag:noindex
X-PUBLISHED-TTL:PT1H
BEGIN:VTIMEZONE
TZID:Europe/Zurich
BEGIN:DAYLIGHT
TZOFFSETFROM:+0100
TZOFFSETTO:+0200
TZNAME:CEST
DTSTART:20230326T010000
END:DAYLIGHT
BEGIN:STANDARD
TZOFFSETFROM:+0200
TZOFFSETTO:+0100
TZNAME:CET
DTSTART:20231029T010000
END:STANDARD
BEGIN:DAYLIGHT
TZOFFSETFROM:+0100
TZOFFSETTO:+0200
TZNAME:CEST
DTSTART:20240331T010000
END:DAYLIGHT
BEGIN:STANDARD
TZOFFSETFROM:+0200
TZOFFSETTO:+0100
TZNAME:CET
DTSTART:20241027T010000
END:STANDARD
BEGIN:DAYLIGHT
TZOFFSETFROM:+0100
TZOFFSETTO:+0200
TZNAME:CEST
DTSTART:20250330T010000
END:DAYLIGHT
BEGIN:STANDARD
TZOFFSETFROM:+0200
TZOFFSETTO:+0100
TZNAME:CET
DTSTART:20251026T010000
END:STANDARD
END:VTIMEZONE
BEGIN:VEVENT
DTSTART;TZID=Europe/Zurich:20240601T180000
DTEND;TZID=Europe/Zurich:20240601T220000
DTSTAMP:20260424T152214
CREATED:20240426T124858Z
LAST-MODIFIED:20240426T124858Z
UID:3811-1717264800-1717279200@www.saxophonist-live.ch
SUMMARY:Mister Saxr verzaubert Geburtstagsfeier im TAK Theater Liechtenstein
DESCRIPTION:Die geladenen Gäste erleben einen unvergesslichen Abend mit Mister Saxr\, dem renommierten Saxophonisten\, der die musikalische Untermalung einer exklusiven 50er Geburtstagsfeier im prächtigen TAK Theater Liechtenstein übernimmt. Das TAK Theater\, bekannt für seine moderne Architektur und seine Rolle als kultureller Treffpunkt in Liechtenstein\, bietet den perfekten Rahmen für solch eine spezielle Veranstaltung. In seinen ansprechend gestalteten Räumlichkeiten kommen Kunst und Kultur zusammen\, um unvergessliche Erlebnisse zu schaffen. \nAm Abend des Events werden die Gäste mit einem eleganten Apéro empfangen. In dieser Zeit sorgt Mister Saxr mit seinem Saxophon für eine warme\, einladende Atmosphäre\, die den Ton für einen festlichen Abend setzt. \nMister Saxr wird mit seiner gekonnten Darbietung den Übergang in den Abend sanft begleiten\, indem er die Gäste mit leisen\, melodischen Saxophonklängen verzaubert\, die perfekt auf das Ambiente und die Stimmung des Saales abgestimmt sind. \nNach der Aufführung setzt sich der Abend mit einem stilvollen Stehdinner fort\, bei dem Mister Saxr weiterhin für eine angenehme musikalische Begleitung sorgt. Seine Musik schafft eine gemütliche Atmosphäre\, die zum Verweilen\, Genießen und Plaudern einlädt. Das Zusammenspiel von köstlichen Gaumenfreuden und sanften Saxophontönen verspricht\, die Sinne zu verwöhnen und den Abend zu einem einzigartigen Erlebnis zu machen. \nDer Abend klingt schliesslich im Foyer des Theaters aus\, wo die Gäste in entspannter Runde den Anlass gemütlich ausklingen lassen können. Mister Saxrs musikalisches Talent sorgt dabei für den perfekten musikalischen Rahmen\, der die Feierlichkeit des Abends unterstreicht und einen bleibenden Eindruck hinterlässt. \nMister Saxr\, der bereits in Liechtenstein aufgetreten ist\, bringt seine umfangreiche Erfahrung und seinen einzigartigen Stil in jede seiner Darbietungen ein. Seine Fähigkeit\, die Atmosphäre eines Raumes intuitiv mit seinem musikalischen Ausdruck zu erfassen und zu bereichern\, macht ihn zu einem gefragten Künstler für hochkarätige Events. \nFür diejenigen\, die einen Hauch von Eleganz und eine unvergleichliche musikalische Darbietung zu ihrem besonderen Anlass hinzufügen möchten\, bietet Mister Saxr mit seiner Erfahrung und seinem Stil eine herausragende Wahl. Lassen Sie sich von den sanften Klängen seines Saxophons verführen und machen Sie Ihre Feier zu einem unvergesslichen Ereignis. Besuchen Sie mistersaxr.ch für weitere Informationen und Buchungsdetails.
URL:https://www.saxophonist-live.ch/saxofonist-blog/event/saxophonist-mister-saxr-verzaubert-geburtstagsfeier-im-tak-theater-liechtenstein/
LOCATION:TAK Theater Liechtenstein\, Reberastrasse 12\, Schaan\, 9494\, Liechtenstein
CATEGORIES:MisterSaxr Event
ATTACH;FMTTYPE=image/jpeg:https://www.saxophonist-live.ch/saxofonist-blog/wp-content/uploads/2023/08/Mister_Saxr_Saxophonist_Sax_Schweiz_Zuerich_Events_Musik.jpg
END:VEVENT
END:VCALENDAR