BEGIN:VCALENDAR
VERSION:2.0
PRODID:-//MisterSaxr.ch | saxophonist-LIVE.ch | Blog | Firmenanlass Hochzeiten Events Saxofonist Musiker Saxophonist Schweiz Z&uuml;rich - ECPv6.15.8//NONSGML v1.0//EN
CALSCALE:GREGORIAN
METHOD:PUBLISH
X-WR-CALNAME:MisterSaxr.ch | saxophonist-LIVE.ch | Blog | Firmenanlass Hochzeiten Events Saxofonist Musiker Saxophonist Schweiz Z&uuml;rich
X-ORIGINAL-URL:https://www.saxophonist-live.ch/saxofonist-blog
X-WR-CALDESC:Veranstaltungen für MisterSaxr.ch | saxophonist-LIVE.ch | Blog | Firmenanlass Hochzeiten Events Saxofonist Musiker Saxophonist Schweiz Z&uuml;rich
REFRESH-INTERVAL;VALUE=DURATION:PT1H
X-Robots-Tag:noindex
X-PUBLISHED-TTL:PT1H
BEGIN:VTIMEZONE
TZID:Europe/Zurich
BEGIN:DAYLIGHT
TZOFFSETFROM:+0100
TZOFFSETTO:+0200
TZNAME:CEST
DTSTART:20230326T010000
END:DAYLIGHT
BEGIN:STANDARD
TZOFFSETFROM:+0200
TZOFFSETTO:+0100
TZNAME:CET
DTSTART:20231029T010000
END:STANDARD
BEGIN:DAYLIGHT
TZOFFSETFROM:+0100
TZOFFSETTO:+0200
TZNAME:CEST
DTSTART:20240331T010000
END:DAYLIGHT
BEGIN:STANDARD
TZOFFSETFROM:+0200
TZOFFSETTO:+0100
TZNAME:CET
DTSTART:20241027T010000
END:STANDARD
BEGIN:DAYLIGHT
TZOFFSETFROM:+0100
TZOFFSETTO:+0200
TZNAME:CEST
DTSTART:20250330T010000
END:DAYLIGHT
BEGIN:STANDARD
TZOFFSETFROM:+0200
TZOFFSETTO:+0100
TZNAME:CET
DTSTART:20251026T010000
END:STANDARD
END:VTIMEZONE
BEGIN:VEVENT
DTSTART;TZID=Europe/Zurich:20240202T143000
DTEND;TZID=Europe/Zurich:20240202T190000
DTSTAMP:20260423T140717
CREATED:20231206T150850Z
LAST-MODIFIED:20231206T150936Z
UID:3735-1706884200-1706900400@www.saxophonist-live.ch
SUMMARY:Trauung City Cristina Sieber & Mister Saxr
DESCRIPTION:Mister Saxr\, der leidenschaftliche Saxophonist und Bürger der Stadt Zürich\, wird in Zusammenarbeit mit der bekannten Schweizer Schlagersängerin Cristina Beck-Sieber eine aussergewöhnliche musikalische Untermalung bei einer exklusiven Hochzeit bieten. Das Saxophon\, renommiert für seine sanften Klänge\, die emotionale Tiefe und Feinheit in jeder Note ausstrahlen\, ist das Instrument besonders geschätzt für seine Fähigkeit\, spezielle Anlässe wie Hochzeiten mit einer atmosphärischen und herzergreifenden musikalischen Kulisse zu bereichern. Die Auswahl Mister Saxrs\, an romantischen Melodien und Liedern\, die speziell für diesen Anlass zusammengestellt werden\, versprechen\, die emotionalen und glücklichen Momente der Hochzeit perfekt einzufangen. \nChristina Beck-Sieber\, mit ihrer ausdrucksstarken und gefühlvollen Stimme\, wird diese musikalische Darbietung ergänzen. Ihre gemeinsame Performance wird nicht nur sanfte und romantische Stücke umfassen\, sondern auch eine lebhafte\, elegante und ansteckende Stimmung schaffen\, die die Hochzeitsgäste zum Tanzen und Feiern animiert. Das Duo verspricht\, eine einzigartige Harmonie zwischen ihren musikalischen Stilen zu erzeugen\, die jede Veranstaltung in ein unvergessliches Erlebnis verwandelt. \nNach der feierlichen Trauung im Stadthaus an der Limmat\, einem Ort voller Eleganz und Geschichte\, wird die Gesellschaft zu einem der prestigeträchtigen Zunfthäuser Zürichs weiterziehen. Ob es sich um das Zunfthaus zur Waag\, Meisen\, Rüden\, Safran\, Schmiden\, Zur Haue\, Zur Schneidern oder Zum Widder handelt\, bleibt ein wohlbehütetes Geheimnis. Diese Überraschung soll ein weiteres Highlight des Tages sein und den Gästen einen unvergesslichen Moment bescheren. \nDer festliche Tag findet seinen Abschluss im traditionsreichen Restaurant Zum Alten Tobelhof. Das denkmalgeschützte Riegelhaus\, ehemals ein Bauernhof und kürzlich liebevoll renoviert\, bietet mit seinen kunstvoll ausgestatteten Innenräumen und der idyllischen Sonnenterrasse eine perfekte Kulisse. Gelegen auf der höchsten Alp von Zürich\, bietet dieser Ort eine friedvolle Oase\, fernab von der Hektik der Stadt\, und ist somit der ideale Ort\, um den Tag in vollen Zügen zu geniessen. \nMister Saxr und Christina Beck-Sieber werden den Abend mit einer vielfältigen und aufregenden musikalischen Mischung bereichern. Ihr Repertoire umfasst elegante Love-Songs\, mitreissende Tanzmusik und zahlreiche weitere Hits. Diese musikalische Vielfalt\, kombiniert mit den kulinarischen Delikatessen des Alten Tobelhofs\, wird die Gäste auf eine besondere Weise verwöhnen und den Tag zu einem unvergleichlichen Erlebnis machen.
URL:https://www.saxophonist-live.ch/saxofonist-blog/event/trauung-city-cristina-sieber-mister-saxr/
LOCATION:Zunfthaus zur Waag\, Münsterhof 8\, Zürich\, ZH\, 8001\, Schweiz
CATEGORIES:MisterSaxr Event
ATTACH;FMTTYPE=image/gif:https://www.saxophonist-live.ch/saxofonist-blog/wp-content/uploads/2017/06/Mister_Saxr_Hochzeit-1.gif
END:VEVENT
END:VCALENDAR