BEGIN:VCALENDAR
VERSION:2.0
PRODID:-//MisterSaxr.ch | saxophonist-LIVE.ch | Blog | Firmenanlass Hochzeiten Events Saxofonist Musiker Saxophonist Schweiz Z&uuml;rich - ECPv6.15.8//NONSGML v1.0//EN
CALSCALE:GREGORIAN
METHOD:PUBLISH
X-ORIGINAL-URL:https://www.saxophonist-live.ch/saxofonist-blog
X-WR-CALDESC:Veranstaltungen für MisterSaxr.ch | saxophonist-LIVE.ch | Blog | Firmenanlass Hochzeiten Events Saxofonist Musiker Saxophonist Schweiz Z&uuml;rich
REFRESH-INTERVAL;VALUE=DURATION:PT1H
X-Robots-Tag:noindex
X-PUBLISHED-TTL:PT1H
BEGIN:VTIMEZONE
TZID:Europe/Zurich
BEGIN:DAYLIGHT
TZOFFSETFROM:+0100
TZOFFSETTO:+0200
TZNAME:CEST
DTSTART:20200329T010000
END:DAYLIGHT
BEGIN:STANDARD
TZOFFSETFROM:+0200
TZOFFSETTO:+0100
TZNAME:CET
DTSTART:20201025T010000
END:STANDARD
BEGIN:DAYLIGHT
TZOFFSETFROM:+0100
TZOFFSETTO:+0200
TZNAME:CEST
DTSTART:20210328T010000
END:DAYLIGHT
BEGIN:STANDARD
TZOFFSETFROM:+0200
TZOFFSETTO:+0100
TZNAME:CET
DTSTART:20211031T010000
END:STANDARD
BEGIN:DAYLIGHT
TZOFFSETFROM:+0100
TZOFFSETTO:+0200
TZNAME:CEST
DTSTART:20220327T010000
END:DAYLIGHT
BEGIN:STANDARD
TZOFFSETFROM:+0200
TZOFFSETTO:+0100
TZNAME:CET
DTSTART:20221030T010000
END:STANDARD
END:VTIMEZONE
BEGIN:VEVENT
DTSTART;TZID=Europe/Zurich:20210903T124500
DTEND;TZID=Europe/Zurich:20210903T153000
DTSTAMP:20260425T224644
CREATED:20210819T074031Z
LAST-MODIFIED:20210826T122701Z
UID:2909-1630673100-1630683000@www.saxophonist-live.ch
SUMMARY:MisterSaxr live in Baar
DESCRIPTION:Mister Saxr begleitet mit Live-Sax ein privates Event in Baar. Der Zürcher Saxophonist unterhält die Gäste vom Gastgeber mit feinsten Saxophon-Klängen. Zum Repertoire des Saxophonisten und Musikers gehören BossaNova\, Smooth-Jazz\, Evergreens\, Pop- und Hitparaden-Songs. Mister Saxr spielt ein Tenor-Saxophon der Marke Selmer (Mark VI). Der Schweizer Saxofonist berührt mit seinen Melodien.
URL:https://www.saxophonist-live.ch/saxofonist-blog/event/mistersaxr-live-in-baar/
LOCATION:Hof-Märcht\, Hotzenhof\, Deinikon 11\, Baar\, 6340\, Schweiz
CATEGORIES:MisterSaxr Event
END:VEVENT
BEGIN:VEVENT
DTSTART;TZID=Europe/Zurich:20210918T190000
DTEND;TZID=Europe/Zurich:20210919T003000
DTSTAMP:20260425T224644
CREATED:20210819T080725Z
LAST-MODIFIED:20210819T115405Z
UID:2914-1631991600-1632011400@www.saxophonist-live.ch
SUMMARY:Geburtstag mit Mister Saxr & Nyssina
DESCRIPTION:Mister Saxr begleitet mit die Sängerin Nyssina eine private Geburtstagsfeier im Chez Fritz\, Kilchberg. Zusammen mit Mister Saxr ist das eingespielte DUO ein perfekter Show-Act für jede Gala. Der Zürcher Saxofonist und die Sängerin Nyssina spielen romantische Balladen\, Smooth-Jazz und natürlich Happy-Birthday Songs. Am Privatanlass können nur geladene Gäste teilnehmen.
URL:https://www.saxophonist-live.ch/saxofonist-blog/event/50-geburtstag-mit-mister-saxr/
LOCATION:Chez Fritz\, Seestrasse 195b\, Kilchberg\, 8802\, Schweiz
CATEGORIES:MisterSaxr Event
END:VEVENT
END:VCALENDAR