BEGIN:VCALENDAR
VERSION:2.0
PRODID:-//MisterSaxr.ch | saxophonist-LIVE.ch | Blog | Firmenanlass Hochzeiten Events Saxofonist Musiker Saxophonist Schweiz Z&uuml;rich - ECPv6.15.8//NONSGML v1.0//EN
CALSCALE:GREGORIAN
METHOD:PUBLISH
X-WR-CALNAME:MisterSaxr.ch | saxophonist-LIVE.ch | Blog | Firmenanlass Hochzeiten Events Saxofonist Musiker Saxophonist Schweiz Z&uuml;rich
X-ORIGINAL-URL:https://www.saxophonist-live.ch/saxofonist-blog
X-WR-CALDESC:Veranstaltungen für MisterSaxr.ch | saxophonist-LIVE.ch | Blog | Firmenanlass Hochzeiten Events Saxofonist Musiker Saxophonist Schweiz Z&uuml;rich
REFRESH-INTERVAL;VALUE=DURATION:PT1H
X-Robots-Tag:noindex
X-PUBLISHED-TTL:PT1H
BEGIN:VTIMEZONE
TZID:Europe/Zurich
BEGIN:DAYLIGHT
TZOFFSETFROM:+0100
TZOFFSETTO:+0200
TZNAME:CEST
DTSTART:20200329T010000
END:DAYLIGHT
BEGIN:STANDARD
TZOFFSETFROM:+0200
TZOFFSETTO:+0100
TZNAME:CET
DTSTART:20201025T010000
END:STANDARD
BEGIN:DAYLIGHT
TZOFFSETFROM:+0100
TZOFFSETTO:+0200
TZNAME:CEST
DTSTART:20210328T010000
END:DAYLIGHT
BEGIN:STANDARD
TZOFFSETFROM:+0200
TZOFFSETTO:+0100
TZNAME:CET
DTSTART:20211031T010000
END:STANDARD
BEGIN:DAYLIGHT
TZOFFSETFROM:+0100
TZOFFSETTO:+0200
TZNAME:CEST
DTSTART:20220327T010000
END:DAYLIGHT
BEGIN:STANDARD
TZOFFSETFROM:+0200
TZOFFSETTO:+0100
TZNAME:CET
DTSTART:20221030T010000
END:STANDARD
END:VTIMEZONE
BEGIN:VEVENT
DTSTART;TZID=Europe/Zurich:20211204T180000
DTEND;TZID=Europe/Zurich:20211204T220000
DTSTAMP:20260425T185624
CREATED:20211108T144510Z
LAST-MODIFIED:20211108T144510Z
UID:2970-1638640800-1638655200@www.saxophonist-live.ch
SUMMARY:Mister Saxr live im 8304
DESCRIPTION:Mister Saxr\, der unverkennbare Saxofonist aus Leidenschaft. Zusammen mit seinem Tenorsaxofon Typ Mark VI\, der Marke Selmer kreiert er eine einzigartige musikalische Atmosphäre aus verschiedenen Genres und Musik-Epochen. Zu seinem breiten Programm gehört sanfter Smooth\, Evergreens aus verschiedenen Jahrzehnten\, berührende Love-Songs\, Partylieder zum Feiern und natürlich aktuelle Hits\, die jeder kennt. \nIm liebevoll renovierten und mit viel Geschmack eingerichteten\, ehemaligen Feuerwehrgebäude in Wallisellen\, was heute als Gastronomiebetrieb und Eventplatz dient\, wird Mister Saxr an einem Privaten Anlass vor den Gästen stehen. Die idealen Räumlichkeiten vor Ort bieten zusammen mit dem Solo-Künstler und seinem Instrument eine ideale Bühne für eine stimmige Party.
URL:https://www.saxophonist-live.ch/saxofonist-blog/event/mister-saxr-live-im-8304/
LOCATION:8304 | Altes Feuerwehrgebäu\, Zentralstrasse 4\, Wallisellen\, 8304\, Schweiz
CATEGORIES:MisterSaxr Event
ATTACH;FMTTYPE=image/jpeg:https://www.saxophonist-live.ch/saxofonist-blog/wp-content/uploads/2018/09/MISTERSAXR_7409.jpg
END:VEVENT
END:VCALENDAR