BEGIN:VCALENDAR
VERSION:2.0
PRODID:-//MisterSaxr.ch | saxophonist-LIVE.ch | Blog | Firmenanlass Hochzeiten Events Saxofonist Musiker Saxophonist Schweiz Z&uuml;rich - ECPv6.15.8//NONSGML v1.0//EN
CALSCALE:GREGORIAN
METHOD:PUBLISH
X-WR-CALNAME:MisterSaxr.ch | saxophonist-LIVE.ch | Blog | Firmenanlass Hochzeiten Events Saxofonist Musiker Saxophonist Schweiz Z&uuml;rich
X-ORIGINAL-URL:https://www.saxophonist-live.ch/saxofonist-blog
X-WR-CALDESC:Veranstaltungen für MisterSaxr.ch | saxophonist-LIVE.ch | Blog | Firmenanlass Hochzeiten Events Saxofonist Musiker Saxophonist Schweiz Z&uuml;rich
REFRESH-INTERVAL;VALUE=DURATION:PT1H
X-Robots-Tag:noindex
X-PUBLISHED-TTL:PT1H
BEGIN:VTIMEZONE
TZID:Europe/Zurich
BEGIN:DAYLIGHT
TZOFFSETFROM:+0100
TZOFFSETTO:+0200
TZNAME:CEST
DTSTART:20200329T010000
END:DAYLIGHT
BEGIN:STANDARD
TZOFFSETFROM:+0200
TZOFFSETTO:+0100
TZNAME:CET
DTSTART:20201025T010000
END:STANDARD
BEGIN:DAYLIGHT
TZOFFSETFROM:+0100
TZOFFSETTO:+0200
TZNAME:CEST
DTSTART:20210328T010000
END:DAYLIGHT
BEGIN:STANDARD
TZOFFSETFROM:+0200
TZOFFSETTO:+0100
TZNAME:CET
DTSTART:20211031T010000
END:STANDARD
BEGIN:DAYLIGHT
TZOFFSETFROM:+0100
TZOFFSETTO:+0200
TZNAME:CEST
DTSTART:20220327T010000
END:DAYLIGHT
BEGIN:STANDARD
TZOFFSETFROM:+0200
TZOFFSETTO:+0100
TZNAME:CET
DTSTART:20221030T010000
END:STANDARD
END:VTIMEZONE
BEGIN:VEVENT
DTSTART;TZID=Europe/Zurich:20210807T170000
DTEND;TZID=Europe/Zurich:20210807T230000
DTSTAMP:20260423T130743
CREATED:20200124T091347Z
LAST-MODIFIED:20210611T084531Z
UID:2580-1628355600-1628377200@www.saxophonist-live.ch
SUMMARY:Hochzeit mit MisterSaxr
DESCRIPTION:Die Veranstaltung wurde aufgrund des Coronavirus abgesagt.\nMister Saxr begleitet eine Hochzeit in Münchenbuchsee. Der Zürcher Saxofonist unterhält die Gäste mit feinsten Saxophon-Klängen. Neben Apéromusik spielt er aber auch romantische Balladen\, Smooth-Jazz und vor allem Lovesongs. \nDas Restaurant Moospinte definiert sich mit den neuen Pächtern über ein frisches Konzept zwischen musikalischer\, kulinarischer und bayerisch angehauchter Philosophie. Dieses altehrwürdige Haus fügt seiner langen Geschichte ein neues Kapitel an. Erstmals wurde 1840 ein Wirtepatent für die heutige Moospinte beantragt\, und seither wurde sie als Restaurant genutzt.
URL:https://www.saxophonist-live.ch/saxofonist-blog/event/hochzeit-mit-mistersaxr/
LOCATION:Restaurant Moospinte\, Lyssstrasse 39\, Münchenbuchsee\, 3053\, Schweiz
CATEGORIES:MisterSaxr Event
ATTACH;FMTTYPE=image/gif:https://www.saxophonist-live.ch/saxofonist-blog/wp-content/uploads/2017/06/Mister_Saxr_Hochzeit-1.gif
END:VEVENT
END:VCALENDAR