BEGIN:VCALENDAR
VERSION:2.0
PRODID:-//MisterSaxr.ch | saxophonist-LIVE.ch | Blog | Firmenanlass Hochzeiten Events Saxofonist Musiker Saxophonist Schweiz Z&uuml;rich - ECPv6.15.8//NONSGML v1.0//EN
CALSCALE:GREGORIAN
METHOD:PUBLISH
X-ORIGINAL-URL:https://www.saxophonist-live.ch/saxofonist-blog
X-WR-CALDESC:Veranstaltungen für MisterSaxr.ch | saxophonist-LIVE.ch | Blog | Firmenanlass Hochzeiten Events Saxofonist Musiker Saxophonist Schweiz Z&uuml;rich
REFRESH-INTERVAL;VALUE=DURATION:PT1H
X-Robots-Tag:noindex
X-PUBLISHED-TTL:PT1H
BEGIN:VTIMEZONE
TZID:Europe/Zurich
BEGIN:DAYLIGHT
TZOFFSETFROM:+0100
TZOFFSETTO:+0200
TZNAME:CEST
DTSTART:20250330T010000
END:DAYLIGHT
BEGIN:STANDARD
TZOFFSETFROM:+0200
TZOFFSETTO:+0100
TZNAME:CET
DTSTART:20251026T010000
END:STANDARD
BEGIN:DAYLIGHT
TZOFFSETFROM:+0100
TZOFFSETTO:+0200
TZNAME:CEST
DTSTART:20260329T010000
END:DAYLIGHT
BEGIN:STANDARD
TZOFFSETFROM:+0200
TZOFFSETTO:+0100
TZNAME:CET
DTSTART:20261025T010000
END:STANDARD
BEGIN:DAYLIGHT
TZOFFSETFROM:+0100
TZOFFSETTO:+0200
TZNAME:CEST
DTSTART:20270328T010000
END:DAYLIGHT
BEGIN:STANDARD
TZOFFSETFROM:+0200
TZOFFSETTO:+0100
TZNAME:CET
DTSTART:20271031T010000
END:STANDARD
END:VTIMEZONE
BEGIN:VEVENT
DTSTART;TZID=Europe/Zurich:20260109T170000
DTEND;TZID=Europe/Zurich:20260109T200000
DTSTAMP:20260426T061552
CREATED:20251025T213559Z
LAST-MODIFIED:20251025T213559Z
UID:4361-1767978000-1767988800@www.saxophonist-live.ch
SUMMARY:Neujahrsempfang 2026 bei der Garage Bühlmann AG mit Mister Saxr
DESCRIPTION:Ein neues Jahr ist stets ein Neuanfang – voller Hoffnungen\, Erwartungen und dem Wunsch\, besondere Momente zu erleben. Genau diese Gelegenheit bietet die Garage Bühlmann AG in Winterthur Töss am 6. Januar 2026 mit einem exklusiven Neujahrsempfang. Dieser Event wird nicht nur eine Begegnung mit faszinierenden Automobilen ermöglichen\, sondern durch einen aussergewöhnlichen musikalischen Gast zu einem kulturellen Highlight: Mister Saxr. \nFür Mister Saxr ist das Saxophon mehr als ein Musikinstrument – es ist ein Sprachrohr seiner Leidenschaft. Sein virtuoses Spiel basiert nicht auf dem Streben nach Ruhm\, sondern auf seiner tiefen Liebe zur Musik. Der Klang seines Saxophons berührt\, erzählt Geschichten und schafft eine stimmungsvolle Atmosphäre\, die perfekt zum Anlass passt. \nDie Garage Bühlmann unterstreicht mit diesem Empfang einmal mehr ihre Philosophie\, nicht nur erstklassige Fahrzeuge und Dienstleistungen anzubieten\, sondern auch unvergessliche Erlebnisse für ihre Kunden und Freunde zu schaffen. Inmitten der neuesten Modelle der Marken HONDA\, JEEP und CITROËN können die Gäste flanieren und sich dabei von den melodischen bis kraftvollen Klängen von Mister Saxrs Saxophon verzaubern lassen. Sein vielseitiges Repertoire umfasst über fünf Jahrzehnte Musikgeschichte und reicht quer durch die verschiedensten Genres.\nDer diesjährige Neujahrsempfang steht ganz im Zeichen des Dreikönigstags – einem Tag\, der für viele Menschen traditionell den Abschluss der weihnachtlichen Festtage markiert und mit der Symbolik der drei Weisen aus dem Morgenland verbunden ist. Ganz in diesem Sinne lädt die Bühlmann Garage ihre Gäste ein\, diesen besonderen Tag gebührend zu feiern. \nDie Veranstaltung wird mit kleinen\, aber feinen Details die Atmosphäre des Dreikönigstags einfangen. Die Gäste können sich auf frisch gebackene Dreikönigskuchen freuen – und vielleicht zieht ja jemand den König und erhält eine kleine Überraschung! Neben den kulinarischen Genüssen erinnert das Motto auch daran\, dass die drei Könige sich einst auf eine Reise voller Hoffnungen und Erwartungen begaben – so wie wir es zu Beginn eines neuen Jahres tun. Die Kombination aus königlicher Symbolik\, herausragender Musik und beeindruckenden Automobilen schafft einen Rahmen\, der diesem besonderen Tag mehr als gerecht wird. \nFür Mister Saxr ist dieser Auftritt ein ganz besonderer Moment\, denn er startet das Jahr erneut im Zusammenspiel mit seinem treuen Begleiter\, dem Selmer Supreme Saxophon. Bereits an Silvester 2024 hatte er mit seinen Klängen die Gäste begeistert – und nun kehrt er\, mit der gleichen Leidenschaft und musikalischen Exzellenz\, erneut zur Bühlmann Garage zurück. Ein Anlass\, der den Jahresbeginn königlich macht!
URL:https://www.saxophonist-live.ch/saxofonist-blog/event/neujahrsempfang-2026-bei-der-garage-buehlmann-ag-mit-mister-saxr/
LOCATION:Garage H. Bühlmann\, Steigstrasse 8\, Winterthur\, Zürich\, 8406\, Schweiz
CATEGORIES:MisterSaxr Event
ATTACH;FMTTYPE=image/jpeg:https://www.saxophonist-live.ch/saxofonist-blog/wp-content/uploads/2023/06/MisterSAXR_Saxofonist_Saxophonist_Schweiz_Zuerich_Event2.jpg
END:VEVENT
BEGIN:VEVENT
DTSTART;TZID=Europe/Zurich:20260121T170000
DTEND;TZID=Europe/Zurich:20260121T200000
DTSTAMP:20260426T061552
CREATED:20260122T090854Z
LAST-MODIFIED:20260122T090854Z
UID:4391-1769014800-1769025600@www.saxophonist-live.ch
SUMMARY:Mister Saxr bei Schwarzkopf Professional – Musik trifft auf Stil\, Kreativität und Lifestyle
DESCRIPTION:Eine private Feier der Marke Schwarzkopf Professional ist weit mehr als ein klassischer Firmenanlass. Sie ist Ausdruck eines Lifestyles\, der Kreativität\, Individualität und höchste ästhetische Ansprüche vereint. Genau in diesem Umfeld durfte Mister Saxr mit seinem Saxophon auftreten und den Abend musikalisch begleiten. Die Verbindung zwischen hochwertiger Musik und einer globalen Premiummarke für Haarpflege erwies sich dabei als besonders stimmig und inspirierend. \nSchwarzkopf Professional steht seit Jahrzehnten für Innovation\, Qualität und Trends im Bereich Haar\, Styling und Beauty. Die Marke prägt den internationalen Hair- und Fashion-Lifestyle und setzt immer wieder neue Massstäbe in Salons\, auf Runways und bei exklusiven Events. Mister Saxr fügte sich mit seinem eleganten Saxophonsound perfekt in dieses Umfeld ein. Seine Musik steht ebenso für Stilbewusstsein\, Individualität und Emotion – Werte\, die auch Schwarzkopf Professional verkörpert. \nDer Anlass fand an der Leutschenbachstrasse in Zürich statt\, unmittelbar neben den bekannten Fernsehstudios. Diese urbane Lage\, geprägt von Medien\, Kreativität und moderner Architektur\, bildete den idealen Rahmen für den Auftritt von Mister Saxr. Während draussen das pulsierende Stadtleben spürbar war\, schuf er drinnen mit seinem Saxophon eine Atmosphäre\, die zugleich entspannt\, exklusiv und inspirierend wirkte. Seine Musik verband die Dynamik des Ortes mit der Eleganz des Events. \nEin zentrales Thema des Abends war der Lifestyle rund um Haare\, Styling und Persönlichkeit. Schwarzkopf Professional steht für die Überzeugung\, dass Haare mehr sind als nur ein Detail – sie sind Ausdruck von Identität und Individualität. Genau diesen Gedanken greift Mister Saxr mit seiner Musik auf. Sein Spiel ist nie aufdringlich\, sondern unterstreicht Stimmungen\, begleitet Gespräche und verleiht Momenten Tiefe. So wie ein perfektes Styling den Menschen unterstreicht\, ergänzt sein Saxophonsound den Charakter eines Anlasses. \nWährend sich die Gäste austauschten\, lachten und den Abend genossen\, war Mister Saxr ein konstanter musikalischer Begleiter. Er reagierte sensibel auf die Atmosphäre im Raum\, passte Tempo und Intensität seinem Publikum an und schuf damit ein Klangbild\, das sich harmonisch in das Gesamterlebnis einfügte. Gerade bei einer Marke wie Schwarzkopf Professional\, die für Präzision und Feingefühl steht\, ist diese musikalische Flexibilität ein entscheidender Mehrwert. \nDer Auftritt an der privaten Feier von Schwarzkopf Professional zeigte einmal mehr\, wie vielseitig Mister Saxr einsetzbar ist. Ob exklusive Firmenevents\, private Feiern oder stilvolle Anlässe im urbanen Umfeld – seine Musik verbindet Menschen\, Marken und Momente. In Kombination mit dem kreativen Spirit von Schwarzkopf Professional entstand an der Leutschenbachstrasse ein Abend\, der noch lange in Erinnerung bleiben wird: stilvoll\, modern und voller Ausdruckskraft.
URL:https://www.saxophonist-live.ch/saxofonist-blog/event/mister-saxr-bei-schwarzkopf-professional-musik-trifft-auf-stil-kreativitaet-und-lifestyle/
LOCATION:Schwarzkopf Professional\, Leutschenbachstrasse 95\, Zürich\, 8052
CATEGORIES:MisterSaxr Event
ATTACH;FMTTYPE=image/jpeg:https://www.saxophonist-live.ch/saxofonist-blog/wp-content/uploads/2019/03/Mister_Saxr_magicMonday_LiveSaxofon_Zürich_11.jpg
END:VEVENT
BEGIN:VEVENT
DTSTART;TZID=Europe/Zurich:20260123T173000
DTEND;TZID=Europe/Zurich:20260123T220000
DTSTAMP:20260426T061552
CREATED:20250930T205800Z
LAST-MODIFIED:20250930T205800Z
UID:4339-1769189400-1769205600@www.saxophonist-live.ch
SUMMARY:Neujahresessen 2026 der Lienhardt & Partner Privatbank mit Mister Saxr
DESCRIPTION:Der Beginn eines neuen Jahres ist ein besonderer Moment – ein Augenblick\, in dem man zurückschaut\, Bilanz zieht und mit Zuversicht nach vorne blickt. Genau in diesem Geist veranstaltet die Lienhardt & Partner Privatbank ihr traditionelles Neujahresessen. Am 2026 wird die Feier durch ein musikalisches Highlight bereichert: Mister Saxr\, Saxophonist aus Zürich\, begleitet den Anlass mit seinem unverwechselbaren Klang und verleiht dem Abend eine festliche wie zugleich persönliche Note. \nDie Lienhardt & Partner Privatbank ist seit über 150 Jahren in Zürich verwurzelt. Sie steht für Stabilität\, Vertrauen und Nähe zu ihren Kundinnen und Kunden. Werte wie Kontinuität\, Verlässlichkeit und persönliche Beratung prägen das Handeln der Bank – und genau diese Haltung spiegelt sich im Neujahresessen wider. Es ist kein reiner Festakt\, sondern ein Moment der Begegnung\, des Austauschs und des Dankes. In stilvollem Rahmen kommen Mitarbeitende\, Partner und Gäste zusammen\, um gemeinsam ins neue Jahr zu starten. \nMister Saxr verkörpert mit seiner Musik viele dieser Werte auf künstlerische Weise. Mit seinem Selmer Supreme Saxophon schafft er Klänge\, die gleichzeitig zeitlos und modern sind. Er verbindet Leidenschaft mit Präzision\, Emotion mit Struktur. So wie die Bank eine Brücke zwischen Tradition und Zukunft schlägt\, so baut auch Mister Saxr in seiner Musik Brücken zwischen Vergangenheit und Gegenwart\, zwischen klassischen Melodien und modernen Einflüssen. \nWährend des Neujahresessens begleitet er die Gäste mit einem Repertoire\, das festlich und dennoch feinfühlig ist. Dezente Töne zum Apéro\, kraftvolle Melodien während des Essens\, stimmungsvolle Passagen zum Ausklang des Abends – Mister Saxr versteht es\, den Rhythmus einer Veranstaltung aufzugreifen und in Klang zu übersetzen. Seine Musik strukturiert den Abend\, ohne sich in den Vordergrund zu drängen\, und schafft eine Atmosphäre\, die Eleganz und Wärme miteinander verbindet. \nDie Parallelen zwischen Kunst und Bankwesen werden an diesem Abend spürbar. Lienhardt & Partner zeichnet sich durch Beständigkeit und Menschlichkeit aus – Werte\, die auch in Mister Saxrs Auftritten präsent sind. Er nimmt sich Zeit für jede Phrase\, setzt Pausen bewusst ein und lässt so Raum für Reflexion. Genau das entspricht dem Anspruch einer Privatbank\, die langfristig denkt\, zuhört und individuell auf ihre Kundinnen und Kunden eingeht. \nDas Neujahresessen 2026 wird damit zu mehr als einer Feier. Es wird zu einem Moment\, in dem Werte hörbar werden: Vertrauen\, Verlässlichkeit\, Leidenschaft und Freude am gemeinsamen Weg in die Zukunft. Mit Mister Saxr erhält die Veranstaltung eine musikalische Dimension\, die Herz und Verstand gleichermassen anspricht. \nEin neues Jahr beginnt – und mit der Musik von Mister Saxr sowie den Werten der Lienhardt & Partner Privatbank entsteht ein Abend\, der Zuversicht schenkt und das Fundament für 2026 legt.
URL:https://www.saxophonist-live.ch/saxofonist-blog/event/neujahresessen-2026-der-lienhardt-partner-privatbank-mit-mister-saxr/
LOCATION:LASALLE RESTAURANT\, Schiffbaustrasse 4\, Zürich\, 8005
CATEGORIES:MisterSaxr Event
ATTACH;FMTTYPE=image/jpeg:https://www.saxophonist-live.ch/saxofonist-blog/wp-content/uploads/2022/12/Mister-SAXR-Razzia.jpg
END:VEVENT
BEGIN:VEVENT
DTSTART;TZID=Europe/Zurich:20260124T180000
DTEND;TZID=Europe/Zurich:20260125T000000
DTSTAMP:20260426T061552
CREATED:20251025T221732Z
LAST-MODIFIED:20251025T221732Z
UID:4363-1769277600-1769299200@www.saxophonist-live.ch
SUMMARY:Mister Saxr live im Hotel Hof Weissbad – Ein musikalischer Geburtstag im Appenzellerland
DESCRIPTION:Ein besonderer Geburtstag verdient einen besonderen Rahmen – und genau diesen bietet das Hotel Hof Weissbad im Herzen des Appenzellerlands. Eingebettet in sanfte Hügel\, umgeben von Wiesen\, Wäldern und dem beeindruckenden Säntis\, wird hier Natur\, Gastfreundschaft und Genuss zu einem Gesamterlebnis. Für den musikalischen Teil des Abends sorgt Mister Saxr\, der den gesamten Geburtstag live begleitet und mit seinem Saxophon jeden Moment veredelt. \nBereits beim Eintreffen der Gäste erfüllt Mister Saxr den Raum mit den ersten Klängen seines Selmer Supreme Saxophons. Seine Musik begrüsst\, ohne aufdringlich zu sein – sie schafft Wärme\, Atmosphäre und Eleganz. Ob beim Apéro auf der Terrasse oder im festlich geschmückten Saal: Die Töne von Mister Saxr fügen sich nahtlos in die Umgebung ein. Er versteht es\, die besondere Stimmung eines privaten Anlasses zu spüren und sie in Musik zu übersetzen. \nDas Hotel Hof Weissbad steht seit vielen Jahren für Qualität\, Achtsamkeit und eine tiefe Verbundenheit mit der Natur. Bekannt als eines der führenden Häuser der Ostschweiz verbindet es moderne Gastlichkeit mit der Ursprünglichkeit der Appenzeller Kultur. Die Architektur ist geprägt von klaren Linien\, natürlichen Materialien und viel Licht. Hier trifft alpiner Charme auf zeitlose Eleganz – ein Ort\, an dem Körper und Geist zur Ruhe kommen. Genau in diese Atmosphäre fügt sich Mister Saxr mit seiner Musik ein. Seine Melodien spiegeln die Gelassenheit der Umgebung wider und machen die Verbindung zwischen Natur\, Mensch und Klang spürbar. \nWährend des Dinners begleitet Mister Saxr die Gäste live – dezent\, aber stets präsent. Seine Musik unterstreicht Gespräche\, betont Emotionen und schafft Übergänge zwischen den einzelnen Momenten des Abends. Ob sanfte Balladen oder rhythmische Grooves\, jeder Ton ist bewusst gesetzt und verleiht dem Fest eine individuelle Note. Die Gäste spüren\, dass Musik hier nicht im Hintergrund bleibt\, sondern Teil der Feier ist. \nWenn später am Abend getanzt\, gelacht und gefeiert wird\, sorgt Mister Saxr dafür\, dass die Energie stimmt. Seine Improvisationen\, sein Gespür für den Moment und die Dynamik seines Spiels verwandeln den Geburtstag in ein Erlebnis\, das in Erinnerung bleibt. Seine Musik verbindet Menschen\, füllt Räume mit Leben und begleitet Emotionen\, ohne sie zu übertönen. \nDas Hotel Hof Weissbad und Mister Saxr stehen beide für Werte\, die zusammenpassen: Authentizität\, Qualität und Harmonie. Inmitten der Appenzeller Berglandschaft entsteht so ein Abend\, der weit über eine Feier hinausgeht – ein Fest für alle Sinne\, getragen von Klang\, Natur und echter Gastfreundschaft.
URL:https://www.saxophonist-live.ch/saxofonist-blog/event/mister-saxr-live-im-hotel-hof-weissbad-ein-musikalischer-geburtstag-im-appenzellerland/
LOCATION:Hotel Hofweissbad\, Im Park 1\, Weissbad\, 9057
CATEGORIES:MisterSaxr Event
ATTACH;FMTTYPE=image/jpeg:https://www.saxophonist-live.ch/saxofonist-blog/wp-content/uploads/2020/10/MisterSaxr_Saxophonistlive_Zürich_6.jpeg
END:VEVENT
BEGIN:VEVENT
DTSTART;TZID=Europe/Zurich:20260126T100000
DTEND;TZID=Europe/Zurich:20260126T113000
DTSTAMP:20260426T061552
CREATED:20260122T091158Z
LAST-MODIFIED:20260122T091158Z
UID:4395-1769421600-1769427000@www.saxophonist-live.ch
SUMMARY:Wenn Musik trägt - ein würdevoller Abschied mit Mister Saxr
DESCRIPTION:Es gibt Augenblicke\, in denen Musik eine Sprache spricht\, wo Worte an ihre Grenzen stossen. In Momenten des Abschieds\, wenn Emotionen schwer wiegen und Stille den Raum füllt\, kann ein einzelner Klang Halt geben\, Nähe schaffen und Erinnerungen sanft begleiten. Musik wird dann zu einem stillen Träger von Gefühlen\, die sich nicht aussprechen lassen. \nAuf dem Friedhof Schwamendingen in Zürich\, einem Ort der Besinnung und der stillen Würde\, begleitet Mister Saxr eine Urnenbeisetzung mit feinfühliger\, zurückhaltender Trauermusik\, die speziell für Beerdigungen geeignet ist. Die ruhige Umgebung\, geprägt von altem Baumbestand\, sorgfältig angelegten Wegen und einer natürlichen Gelassenheit\, bildet den passenden Rahmen für eine musikalische Begleitung\, die nicht im Vordergrund steht\, sondern trägt und verbindet. \nDie musikalische Gestaltung des Gottesdienstes ist bewusst reduziert und klar gewählt. Zum Beginn erklingt ein sanftes Klavierstück wie „Can’t Help Falling in Love“ oder „Yesterday“. Diese Melodien sind vielen Menschen vertraut und wecken Erinnerungen an Nähe\, Dankbarkeit und gemeinsam erlebte Momente. Sie öffnen einen Raum des Innehaltens und bereiten behutsam auf den eigentlichen Abschied vor. \nWährend der Urnenbeisetzung selbst begleitet Mister Saxr den Moment mit „My Way“ in einer schlichten\, gefühlvollen Klavierversion. Das Lied steht sinnbildlich für ein selbstbestimmtes Leben\, für individuelle Wege und persönliche Entscheidungen. In dieser reduzierten Interpretation wirkt es nicht pathetisch\, sondern ehrlich und still – als respektvolle Würdigung eines einzigartigen Lebensweges. \nZum Abschluss erklingt „What a Wonderful World“\, bekannt durch Louis Armstrong. Dieses Stück begleitet die Trauergemeinde zurück in den Alltag und schenkt einen Hauch von Zuversicht. Auf dem Saxophon gespielt entfaltet die Melodie eine besondere Wärme: leise\, tröstend und versöhnlich. Sie erinnert daran\, dass trotz Verlust und Trauer auch Dankbarkeit und Licht ihren Platz haben dürfen. \nMister Saxr begegnet solchen Anlässen mit grosser Achtsamkeit und Zurückhaltung. Es geht nicht um einen Auftritt\, nicht um Präsenz\, sondern um ein sensibles Begleiten. Um das Wahrnehmen der Stimmung\, das bewusste Zurücknehmen und das respektvolle Einfügen der Musik in einen sehr persönlichen Moment. \nDurch seine langjährige Erfahrung in der musikalischen Begleitung von Trauerfeiern\, Abschiedszeremonien und Urnenbeisetzungen bringt Mister Saxr neben musikalischer Qualität vor allem Feingefühl und Ruhe mit. Jede Melodie ist bewusst gewählt\, jeder Ton trägt Bedeutung. \nMusik kann den Abschied nicht aufheben. Doch sie kann ihm Würde verleihen\, Erinnerungen Raum geben und für einen Moment Trost spenden.\nEin leiser Abschied – getragen von Musik\, die berührt.
URL:https://www.saxophonist-live.ch/saxofonist-blog/event/wenn-musik-traegt-ein-wuerdevoller-abschied-mit-mister-saxr/
LOCATION:Friedhof Schwamendingen\, Stettbachstrasse 70\, Zürich\, 8051
CATEGORIES:MisterSaxr Event
ATTACH;FMTTYPE=image/jpeg:https://www.saxophonist-live.ch/saxofonist-blog/wp-content/uploads/2024/10/MisterSaxr_Portrait_Fotoshooting_Kirche_RoniSolo_083-e1769073114787.jpg
END:VEVENT
END:VCALENDAR