BEGIN:VCALENDAR
VERSION:2.0
PRODID:-//MisterSaxr.ch | saxophonist-LIVE.ch | Blog | Firmenanlass Hochzeiten Events Saxofonist Musiker Saxophonist Schweiz Z&uuml;rich - ECPv6.15.8//NONSGML v1.0//EN
CALSCALE:GREGORIAN
METHOD:PUBLISH
X-WR-CALNAME:MisterSaxr.ch | saxophonist-LIVE.ch | Blog | Firmenanlass Hochzeiten Events Saxofonist Musiker Saxophonist Schweiz Z&uuml;rich
X-ORIGINAL-URL:https://www.saxophonist-live.ch/saxofonist-blog
X-WR-CALDESC:Veranstaltungen für MisterSaxr.ch | saxophonist-LIVE.ch | Blog | Firmenanlass Hochzeiten Events Saxofonist Musiker Saxophonist Schweiz Z&uuml;rich
REFRESH-INTERVAL;VALUE=DURATION:PT1H
X-Robots-Tag:noindex
X-PUBLISHED-TTL:PT1H
BEGIN:VTIMEZONE
TZID:Europe/Zurich
BEGIN:DAYLIGHT
TZOFFSETFROM:+0100
TZOFFSETTO:+0200
TZNAME:CEST
DTSTART:20250330T010000
END:DAYLIGHT
BEGIN:STANDARD
TZOFFSETFROM:+0200
TZOFFSETTO:+0100
TZNAME:CET
DTSTART:20251026T010000
END:STANDARD
BEGIN:DAYLIGHT
TZOFFSETFROM:+0100
TZOFFSETTO:+0200
TZNAME:CEST
DTSTART:20260329T010000
END:DAYLIGHT
BEGIN:STANDARD
TZOFFSETFROM:+0200
TZOFFSETTO:+0100
TZNAME:CET
DTSTART:20261025T010000
END:STANDARD
BEGIN:DAYLIGHT
TZOFFSETFROM:+0100
TZOFFSETTO:+0200
TZNAME:CEST
DTSTART:20270328T010000
END:DAYLIGHT
BEGIN:STANDARD
TZOFFSETFROM:+0200
TZOFFSETTO:+0100
TZNAME:CET
DTSTART:20271031T010000
END:STANDARD
END:VTIMEZONE
BEGIN:VEVENT
DTSTART;TZID=Europe/Zurich:20260506T160000
DTEND;TZID=Europe/Zurich:20260506T193000
DTSTAMP:20260426T032734
CREATED:20260122T092937Z
LAST-MODIFIED:20260122T092937Z
UID:4405-1778083200-1778095800@www.saxophonist-live.ch
SUMMARY:Musik als feiner Begleiter - Mister Saxr bei einer exklusiven Geburtstagsfeier
DESCRIPTION:Mister Saxr spielt an einer exklusiven Geburtstagsfeier im Kanton Thurgau und begleitet den Anlass mit seinen charakteristischen\, stilvollen Saxophonklängen. In einem privaten und ausgewählten Rahmen schafft er eine Atmosphäre\, die Eleganz\, Nähe und Leichtigkeit miteinander verbindet. Seine Musik steht dabei bewusst nicht im Vordergrund\, sondern trägt den Abend auf subtile Weise und verleiht ihm eine persönliche\, hochwertige Note. \nDer Kanton Thurgau bietet für diesen besonderen Anlass eine eindrucksvolle Kulisse. Sanfte Hügel\, weitläufige Landschaften\, Obstgärten und offene Horizonte prägen das Bild der Region. Diese Ruhe und Grosszügigkeit wirkt entschleunigend und schafft ideale Voraussetzungen für eine exklusive private Feier. Mister Saxr greift diese Stimmung musikalisch auf und lässt sie in sein Spiel einfliessen – ruhig\, fliessend und stets mit Feingefühl. \nIn der Ferne erhebt sich der Säntis als markantes Wahrzeichen der Ostschweiz. Seine Präsenz verleiht der Landschaft Tiefe und Charakter und erinnert an die Kraft und Beständigkeit der Natur. Diese Mischung aus Weite\, Bodenständigkeit und alpiner Eleganz spiegelt sich auch in der Musik von Mister Saxr wider. Sein Saxophonspiel ist klar und ausdrucksstark\, gleichzeitig aber zurückhaltend und sensibel – perfekt abgestimmt auf eine exklusive Geburtstagsfeier in dieser Umgebung. \nPrivate Geburtstagsfeiern leben von Begegnungen\, Gesprächen und gemeinsamen Momenten. Mister Saxr versteht es\, diese Elemente musikalisch zu begleiten\, ohne sie zu überlagern. Mit ausgewählten Jazz-\, Lounge- und modernen Popklängen schafft er einen Klangrahmen\, der sich harmonisch in den Ablauf des Abends einfügt. Seine Musik verbindet die Gäste\, unterstützt die Atmosphäre und verleiht dem Anlass eine elegante Struktur. \nDer Thurgau steht für Genuss\, Qualität und eine gewisse zeitlose Gelassenheit. Diese Werte passen hervorragend zur musikalischen Handschrift von Mister Saxr. Seine Auftritte zeichnen sich durch Präzision\, Stilbewusstsein und ein ausgeprägtes Gespür für Atmosphäre aus. Er liest den Raum\, reagiert auf Stimmungen und passt Dynamik sowie Intensität seines Spiels laufend an. \nGerade bei exklusiven privaten Feiern zeigt sich die besondere Stärke von Mister Saxr. Seine Musik wird Teil des Erlebnisses\, so selbstverständlich wie der Blick über die Landschaft oder das gemeinsame Anstossen im Kreis von Familie und Freunden. Sie schafft emotionale Akzente\, ohne sich aufzudrängen\, und verleiht dem Abend Tiefe und Charakter. \nDiese exklusive Geburtstagsfeier im Kanton Thurgau zeigt eindrücklich\, wie Musik und Ort miteinander verschmelzen können. Mister Saxr gelingt es\, Landschaft\, Stimmung und Menschen musikalisch zu verbinden und so Erinnerungen zu schaffen\, die bleiben. \nEin persönlicher Anlass\, ein besonderer Ort und Musik als feiner Begleiter.
URL:https://www.saxophonist-live.ch/saxofonist-blog/event/musik-als-feiner-begleiter-mister-saxr-bei-einer-exklusiven-geburtstagsfeier-2/
CATEGORIES:MisterSaxr Event
ATTACH;FMTTYPE=image/jpeg:https://www.saxophonist-live.ch/saxofonist-blog/wp-content/uploads/2016/10/Saxophonist-Musiker-Schiff-Boot-Sempachersee-Hallwilersee.jpg
END:VEVENT
BEGIN:VEVENT
DTSTART;TZID=Europe/Zurich:20260507T120000
DTEND;TZID=Europe/Zurich:20260507T160000
DTSTAMP:20260426T032734
CREATED:20260410T132539Z
LAST-MODIFIED:20260410T132539Z
UID:4483-1778155200-1778169600@www.saxophonist-live.ch
SUMMARY:Mister Saxr spielt Hochzeitsapéro im Fischers Fritz
DESCRIPTION:Mister Saxr steht für stilvolle Live-Musik mit Feingefühl – genau das macht ihn zur idealen Begleitung für einen Hochzeitsapéro im Fischers Fritz in Zürich-Wollishofen. Mit seinem Selmer Supreme Saxophon verleiht er dem Anlass von Beginn an eine elegante\, warme Klangfarbe und schafft eine Atmosphäre\, die Emotionen trägt\, ohne sich in den Vordergrund zu drängen. Seine Musik ist dezent\, aber präsent – und macht den Moment für das Brautpaar und seine Gäste auf besondere Weise spürbar. \nDirekt am Wasser gelegen\, bietet das Fischers Fritz die ideale Kulisse für einen Hochzeitsapéro unter freiem Himmel. Der Blick über den Zürichsee\, die entspannte Stimmung und das sanfte Licht verleihen dem Anlass eine natürliche Eleganz. Zwischen Apérohäppchen\, Gesprächen und ersten gemeinsamen Momenten als Ehepaar entsteht eine Atmosphäre\, die zugleich festlich und ungezwungen ist. \nMister Saxr fügt sich mit seinem Saxophonspiel harmonisch in dieses Setting ein. Mit seinem Selmer Supreme Saxophon interpretiert er eine fein abgestimmte Auswahl an stilvoller Hintergrundmusik – von sanften Bossa-Nova-Klängen über elegante Balladen bis hin zu bekannten Popmelodien. Seine Musik bleibt im Hintergrund und prägt doch spürbar die Stimmung des Apéros. Sie begleitet Gespräche\, unterstreicht Emotionen und verleiht dem Anlass eine besondere Tiefe. \nGerade bei einem Hochzeitsapéro ist die musikalische Begleitung entscheidend. Sie schafft Verbindung\, ohne im Vordergrund zu stehen\, und sorgt dafür\, dass sich Gäste wohlfühlen und der Moment bewusst erlebt wird. Mister Saxr versteht es\, diese Balance zu halten – mit viel Feingefühl für die Situation und einem sicheren Gespür für den richtigen Ton zur richtigen Zeit. \nAuch kulinarisch bietet das Fischers Fritz den passenden Rahmen. Die bekannten Fischknusperli\, frisch zubereitet und mit raffinierten Beilagen serviert\, gehören zu den Highlights des Hauses und ergänzen das Erlebnis perfekt. Zusammen mit der entspannten See-Atmosphäre entsteht ein Apéro\, der alle Sinne anspricht. \nFür Mister Saxr ist ein solcher Auftritt mehr als nur musikalische Begleitung. Es ist die Möglichkeit\, Teil eines einzigartigen Moments zu sein und diesen mit seiner Musik zu bereichern. Seine Klänge schaffen Erinnerungen – leise\, stilvoll und nachhaltig. \nSo wird der Hochzeitsapéro im Fischers Fritz zu einem rundum stimmigen Erlebnis: geprägt von Emotionen\, getragen von Musik und eingebettet in die besondere Kulisse des Zürichsees.
URL:https://www.saxophonist-live.ch/saxofonist-blog/event/mister-saxr-spielt-hochzeitsapero-im-fischers-fritz/
LOCATION:Fischer‘s Fritz\, Seestrasse 557\, Zürich\, 8038\, Schweiz
CATEGORIES:MisterSaxr Event
ATTACH;FMTTYPE=image/jpeg:https://www.saxophonist-live.ch/saxofonist-blog/wp-content/uploads/2026/04/Mister-SAxr-Golf-in-Kyburg.jpg
END:VEVENT
BEGIN:VEVENT
DTSTART;TZID=Europe/Zurich:20260508T170000
DTEND;TZID=Europe/Zurich:20260508T220000
DTSTAMP:20260426T032734
CREATED:20260327T131504Z
LAST-MODIFIED:20260327T131504Z
UID:4455-1778259600-1778277600@www.saxophonist-live.ch
SUMMARY:Mister Saxr live am Saison Opening für VIP-Gäste am Zürichsee
DESCRIPTION:Mister Saxr sorgt beim exklusiven Saison Opening am Zürichsee für die passende musikalische Atmosphäre – stilvoll\, elegant und perfekt abgestimmt auf das maritime Umfeld von Yachten und Booten. Zwischen glänzenden Decks und dem weiten Blick über den See entfaltet seine Musik eine besondere Wirkung und wird zum prägenden Element dieses besonderen Anlasses. \nDer Zürichsee zeigt sich dabei von seiner schönsten Seite: Das Licht spiegelt sich im Wasser\, eine leichte Brise zieht über die Stege und verleiht dem Event eine fast mediterrane Note – mitten im Herzen von Zürich. Orte wie dieser haben ihren ganz eigenen Rhythmus. Es ist kein hektisches Treiben\, sondern ein ruhiges\, bewusstes Geniessen. Genau hier setzt Mister Saxr an. \nMit seinem Saxophon schafft er Klangwelten\, die sich perfekt in die Umgebung einfügen. Seine Musik wirkt nie aufdringlich\, sondern begleitet den Moment – sie trägt\, verbindet und unterstreicht die besondere Stimmung dieses exklusiven Settings. Ob elegante Lounge-Klänge\, sanfte Bossa Nova oder fein interpretierte Klassiker: Mister Saxr versteht es\, den Charakter des Ortes musikalisch einzufangen. \nGerade im Umfeld von Yachten und Booten entsteht eine ganz eigene Dynamik. Es geht um Stil\, Präzision und Ästhetik – Werte\, die sich auch in der Musik von Mister Saxr widerspiegeln. Wie eine Yacht ruhig und kontrolliert über das Wasser gleitet\, so entfalten sich auch seine Melodien: fliessend\, elegant und mit einem klaren Gespür für Timing und Atmosphäre. \nSein Spiel auf dem edlen Selmer Supreme Saxophon verleiht dem Ganzen zusätzlich eine besondere Tiefe. Der warme\, volle Klang trägt über das Wasser\, vermischt sich mit den Geräuschen des Hafens und schafft eine Klangkulisse\, die in Erinnerung bleibt. Es sind genau diese feinen Nuancen\, die einen solchen Anlass besonders machen. \nMit der Ganz Yachting AG steht hinter diesem Anlass ein Anbieter\, der für höchste Qualität\, Erfahrung und Leidenschaft rund um das Thema Yachting steht. Ob exklusive Motorboote\, individuelle Beratung oder massgeschneiderte Erlebnisse auf dem Wasser – Ganz Yachting verkörpert die Faszination des Zürichsees in ihrer elegantesten Form. Das Saison Opening ist dabei mehr als nur ein Event: Es ist ein Ausdruck dieser Lebensart\, bei der Genuss\, Stil und maritimes Flair im Mittelpunkt stehen. \nZürich selbst bildet die perfekte Kulisse. Die Kombination aus urbaner Eleganz und natürlicher Schönheit ist einzigartig. Der Zürichsee als Treffpunkt für Geniesser\, Unternehmer und Liebhaber des Besonderen steht sinnbildlich für Lebensqualität auf höchstem Niveau – und genau diese Qualität spiegelt sich auch in der musikalischen Begleitung wider. \nMister Saxr ist an diesem Anlass weit mehr als nur ein Musiker. Er ist Teil des Gesamterlebnisses. Seine Musik begleitet nicht nur den Moment\, sondern prägt ihn. Sie schafft Erinnerungen\, die bleiben – so wie ein perfekter Sommertag am Zürichsee oder der Blick auf eine elegante Yacht im Abendlicht. \nEin solcher Event lebt von Details\, von Atmosphäre und von Emotionen. Und genau hier entfaltet Mister Saxr seine Stärke: Er macht den Moment hörbar – stilvoll\, authentisch und mit einem feinen Gespür für das Besondere.
URL:https://www.saxophonist-live.ch/saxofonist-blog/event/mister-saxr-live-am-saison-opening-fuer-vip-gaeste-am-zuerichsee/
LOCATION:Ganz Yachting AG\, Bellerivstrasse 264\, Zürich\, Zürich\, 8008\, Switzerland
CATEGORIES:MisterSaxr Event
ATTACH;FMTTYPE=image/jpeg:https://www.saxophonist-live.ch/saxofonist-blog/wp-content/uploads/2024/09/MisterSaxr_BestOf_Event_Saxophonist_FischersFritz_162726-e1725975020564.jpg
END:VEVENT
BEGIN:VEVENT
DTSTART;TZID=Europe/Zurich:20260519T160000
DTEND;TZID=Europe/Zurich:20260519T220000
DTSTAMP:20260426T032734
CREATED:20260324T160920Z
LAST-MODIFIED:20260324T160920Z
UID:4449-1779206400-1779228000@www.saxophonist-live.ch
SUMMARY:Mister Saxr am Gästeturnier des Dolder Golfclubs
DESCRIPTION:Der Dolder Golfclub am Zürichberg wird einmal mehr zum Treffpunkt für Golfbegeisterte\, wenn auf dem traditionsreichen Platz ein exklusives Turnier ausgetragen wird. In diesem besonderen Umfeld treffen sportlicher Ehrgeiz\, Präzision und Leidenschaft aufeinander. Gleichzeitig entsteht ein Anlass\, der weit über den reinen Wettkampf hinausgeht. Genau hier setzt Mister Saxr an: Mit seinem Saxophon begleitet er das Turnier musikalisch und schafft eine Atmosphäre\, die den gesamten Tag trägt und abrundet.\nDer Dolder Golfclub zählt zu den renommiertesten Golfanlagen der Schweiz und steht seit jeher für Qualität\, Tradition und anspruchsvolle Turniere. Spielerinnen und Spieler aus verschiedenen Regionen kommen zusammen\, um ihr Können unter Beweis zu stellen und sich gleichzeitig in einem stilvollen Rahmen auszutauschen. Neben der sportlichen Leistung steht auch das Miteinander im Fokus. Mister Saxr versteht es\, diese besondere Kombination aufzugreifen. Mit seinem feinen Gespür für Timing und Dynamik ergänzt er das Geschehen auf natürliche Weise und verbindet sportliche Höchstleistung mit entspannter\, stilvoller Unterhaltung.\nDie Lage des Clubs am Zürichberg verleiht dem Anlass eine zusätzliche Dimension. Eingebettet in eine grüne\, ruhige Umgebung und mit Blick auf die Stadt Zürich entsteht eine Kulisse\, die sowohl beeindruckend als auch beruhigend wirkt. Diese Verbindung aus Natur und Exklusivität spiegelt sich auch in der musikalischen Begleitung von Mister Saxr wider. Sein Spiel ist klar\, zurückhaltend und dennoch präsent – genau abgestimmt auf die Umgebung und die Stimmung des Moments. Mister Saxr nutzt die Gegebenheiten des Ortes bewusst und schafft so eine harmonische Verbindung zwischen Landschaft\, Anlass und Musik.\nGerade bei einem Golfturnier zeigt sich\, wie gut sich Musik in ein solches Setting integrieren lässt. Während sich die Spieler konzentriert über den Platz bewegen und jede Bewegung zählt\, sorgt Mister Saxr im Hintergrund für eine angenehme Klangkulisse. Seine Musik wirkt nie störend\, sondern unterstützt die Ruhe und Konzentration\, die der Sport verlangt. Gleichzeitig schafft sie Raum für Entspannung und Leichtigkeit – sowohl für die Spieler als auch für die Gäste.\nNach den gespielten Runden verlagert sich der Fokus zunehmend auf Begegnungen\, Gespräche und das gemeinsame Ausklingen des Tages. Auch hier bleibt Mister Saxr ein zentraler Bestandteil des Anlasses. Mit seinem Saxophon begleitet er diese Momente und sorgt dafür\, dass sich eine lockere\, angenehme Stimmung entwickelt. Seine Musik verbindet Menschen\, schafft Gesprächsanlässe und verleiht dem Event eine durchgehend hochwertige Note.\nWas Mister Saxr auszeichnet\, ist seine Fähigkeit\, sich in unterschiedlichste Kontexte einzufügen und dennoch seinen eigenen Stil beizubehalten. Auch in einem Umfeld wie dem Dolder Golfclub bleibt seine musikalische Handschrift klar erkennbar. Er versteht es\, Präsenz zu zeigen\, ohne sich aufzudrängen\, und schafft damit genau die Balance\, die ein solcher Anlass verlangt.\nSo entsteht ein Turnier\, das nicht nur durch sportliche Leistungen überzeugt\, sondern auch durch Atmosphäre\, Begegnung und ein durchdachtes Gesamterlebnis. Mister Saxr trägt mit seiner Musik entscheidend dazu bei\, dass dieser Anlass in Erinnerung bleibt – als gelungene Verbindung von Golf\, Natur und stilvoller musikalischer Begleitung.
URL:https://www.saxophonist-live.ch/saxofonist-blog/event/mister-saxr-am-gaesteturnier-des-dolder-golfclubs-2/
LOCATION:Dolder Golfclub Zürich\, Kurhausstrasse 66\, Zürich\, Zürich\, 8032\, Schweiz
CATEGORIES:MisterSaxr Event
ATTACH;FMTTYPE=image/jpeg:https://www.saxophonist-live.ch/saxofonist-blog/wp-content/uploads/2018/10/MISTERSAXR_Saxophonist_Zu__rich_Ape__romusik_Saxofon_Haug72dpi002-1.jpg
END:VEVENT
BEGIN:VEVENT
DTSTART;TZID=Europe/Zurich:20260521T173000
DTEND;TZID=Europe/Zurich:20260521T220000
DTSTAMP:20260426T032734
CREATED:20250826T100157Z
LAST-MODIFIED:20250826T100157Z
UID:4272-1779384600-1779400800@www.saxophonist-live.ch
SUMMARY:Mister Saxr spielt in THE HALL Dübendorf
DESCRIPTION:Bei der Generalversammlung der GEWO Züri Ost in THE HALL Dübendorf steht nicht nur der Anlass selbst im Mittelpunkt – sondern auch die Atmosphäre\, die ihn umgibt. Für den passenden musikalischen Rahmen sorgt Mister Saxr – live\, dezent und mit viel Gefühl für Raum\, Timing und Menschen. \nWährend der Eingangskontrolle und dem Flying Dinner begleitet der Zürcher Künstler die Gäste mit fein abgestimmter Saxophon-Musik\, die sich elegant in den Ablauf einfügt. Keine Show\, kein Aufdrängen – sondern stilvolle Hintergrundmusik\, die genau dann wirkt\, wenn sie einfach da ist. \nBei Events wie diesem geht es um viel mehr als Programmpunkte. Es geht um Atmosphäre\, um Gastlichkeit\, um ein Erlebnis\, das bleibt. Genau hier liegt die Stärke von Mister Saxr: Mit seinem warmen\, klaren Saxophonklang schafft er einen musikalischen Rahmen\, der verbindet – Menschen\, Gespräche und Momente. \nAls professioneller Saxophonist mit langjähriger Event-Erfahrung weiss Mister Saxr genau\, wie er mit seiner Musik Räume gestaltet\, ohne sie zu überladen. Er ist präsent\, aber nie aufdringlich – stilvoll\, aber nie distanziert. Seine Leidenschaft für Musik ist spürbar in jeder Note – und gerade deshalb ist er der ideale Musiker für hochwertige Anlässe und Unternehmens-Events. \nTHE HALL in Dübendorf\, unweit von Zürich\, bietet den perfekten Rahmen für eine Veranstaltung dieser Grösse – modern\, offen\, repräsentativ. Die Saxophonklänge von Mister Saxr ergänzen diese Kulisse mit Eleganz und Tiefe. Während die Gäste ankommen\, sich austauschen oder das Flying Dinner geniessen\, sorgt seine Musik für Ruhe\, Verbindung und eine angenehme Grundstimmung. \nWer auf der Suche nach einem Künstler ist\, der Events nicht einfach begleitet\, sondern mitgestaltet – der Atmosphäre schafft\, ohne sich aufzudrängen – findet in Mister Saxr die perfekte Wahl. Mit seinem Saxophon bringt er nicht nur Klang in den Raum\, sondern auch Charakter und Haltung. \nMister Saxr steht für echte Leidenschaft\, musikalisches Feingefühl und professionelles Auftreten – und macht damit jeden Anlass zu einem stimmigen Erlebnis. Auch bei der Generalversammlung der GEWO Züri Ost zeigt sich: Die richtige Musik ist oft das\, was den Unterschied macht – und Mister Saxr versteht es\, genau diesen Unterschied hörbar zu machen.
URL:https://www.saxophonist-live.ch/saxofonist-blog/event/mister-saxr-spielt-in-the-hall-duebendorf/
LOCATION:THE HALL\, Hoffnigstrasse 1\, Dübendorf\, 8600
CATEGORIES:MisterSaxr Event
ATTACH;FMTTYPE=image/jpeg:https://www.saxophonist-live.ch/saxofonist-blog/wp-content/uploads/2023/08/Mister_Saxr_Saxophonist_Sax_Schweiz_Zuerich_Events_Musik.jpg
END:VEVENT
BEGIN:VEVENT
DTSTART;TZID=Europe/Zurich:20260526T180000
DTEND;TZID=Europe/Zurich:20260526T220000
DTSTAMP:20260426T032734
CREATED:20260122T092039Z
LAST-MODIFIED:20260122T092039Z
UID:4401-1779818400-1779832800@www.saxophonist-live.ch
SUMMARY:Musik als feiner Begleiter - Mister Saxr bei einer exklusiven Geburtstagsfeier
DESCRIPTION:Die Dachterrasse zum Wiedehopf bei der Brauerei Haldengut in Winterthur bietet den exklusiven Rahmen für eine private Geburtstagsfeier\, die durch die Musik von Mister Saxr eine ganz besondere Note erhält. In diesem persönlichen Umfeld begleitet er den Anlass mit seinen charakteristischen Saxophonklängen und schafft eine Atmosphäre\, die zugleich elegant\, entspannt und emotional ist. \nPrivate Geburtstagsfeiern leben von Individualität\, Nähe und besonderen Momenten. Genau hier setzt Mister Saxr musikalisch an. Mit viel Feingefühl versteht er es\, den Anlass nicht nur zu begleiten\, sondern ihn klanglich zu veredeln. Die Musik tritt nicht in den Vordergrund\, sondern fügt sich harmonisch in das Zusammenspiel aus Gesprächen\, Begegnungen und gemeinsamer Zeit ein. So entsteht ein Erlebnis\, das den Gästen in Erinnerung bleibt. \nDie Brauerei Haldengut\, gegründet im Jahr 1843 durch Johann Ulrich Haldengut\, ist fest in der Geschichte Winterthurs verankert. Sie steht für Tradition\, Qualität und regionale Verbundenheit. Für Mister Saxr ist ein Auftritt auf diesem geschichtsträchtigen Gelände stets mit besonderer Wertschätzung verbunden. Musik trifft hier auf Geschichte und verleiht dem Anlass eine zusätzliche Tiefe und Bedeutung. \nDie Dachterrasse zum Wiedehopf erhebt sich über dem Areal der Brauerei und eröffnet einen eindrucksvollen Blick über die Stadt. Dieser Ort verbindet auf einzigartige Weise historisches Ambiente mit zeitgemässer Eleganz. Für eine private Geburtstagsfeier bietet er einen exklusiven Rahmen\, der Intimität und Grosszügigkeit vereint. Mister Saxrs Saxophonklänge fügen sich nahtlos in diese Umgebung ein und unterstreichen die besondere Stimmung des Abends. \nMusikalisch bewegt sich Mister Saxr zwischen Jazz\, Lounge\, Soul sowie ausgewählten modernen Popklängen. Seine Musik passt sich dem Verlauf der Feier an\, begleitet Gespräche dezent und schafft in besonderen Momenten emotionale Akzente. Gerade bei privaten Anlässen entsteht so ein musikalischer Rahmen\, der Nähe schafft und den Charakter der Feier widerspiegelt. \nWas Mister Saxr auszeichnet\, ist seine Fähigkeit\, sich auf Menschen und Situationen einzulassen. Jede Geburtstagsfeier ist einzigartig\, jede Stimmung individuell. Mit grosser Aufmerksamkeit passt er Dynamik\, Lautstärke und Musikauswahl dem Moment an. Dadurch entsteht ein stimmiges Gesamtbild\, bei dem sich Musik und Anlass gegenseitig ergänzen. \nDiese private Geburtstagsfeier auf der Dachterrasse zum Wiedehopf wird nicht nur durch den besonderen Ort geprägt\, sondern auch durch die Musik\, die sie begleitet. Mister Saxr schafft es\, Erinnerungen musikalisch festzuhalten und einem persönlichen Anlass Tiefe und Stil zu verleihen. \nEin exklusiver Ort\, ein besonderer Anlass und Musik\, die verbindet.
URL:https://www.saxophonist-live.ch/saxofonist-blog/event/musik-als-feiner-begleiter-mister-saxr-bei-einer-exklusiven-geburtstagsfeier/
LOCATION:Restaurant Wiedehopf\, Haldenstrasse 69\, Winterthur\, 8400
CATEGORIES:MisterSaxr Event
ATTACH;FMTTYPE=image/jpeg:https://www.saxophonist-live.ch/saxofonist-blog/wp-content/uploads/2026/01/2016_MisterSaxr__solo_037.jpeg
END:VEVENT
END:VCALENDAR