BEGIN:VCALENDAR
VERSION:2.0
PRODID:-//MisterSaxr.ch | saxophonist-LIVE.ch | Blog | Firmenanlass Hochzeiten Events Saxofonist Musiker Saxophonist Schweiz Z&uuml;rich - ECPv6.15.8//NONSGML v1.0//EN
CALSCALE:GREGORIAN
METHOD:PUBLISH
X-ORIGINAL-URL:https://www.saxophonist-live.ch/saxofonist-blog
X-WR-CALDESC:Veranstaltungen für MisterSaxr.ch | saxophonist-LIVE.ch | Blog | Firmenanlass Hochzeiten Events Saxofonist Musiker Saxophonist Schweiz Z&uuml;rich
REFRESH-INTERVAL;VALUE=DURATION:PT1H
X-Robots-Tag:noindex
X-PUBLISHED-TTL:PT1H
BEGIN:VTIMEZONE
TZID:Europe/Zurich
BEGIN:DAYLIGHT
TZOFFSETFROM:+0100
TZOFFSETTO:+0200
TZNAME:CEST
DTSTART:20250330T010000
END:DAYLIGHT
BEGIN:STANDARD
TZOFFSETFROM:+0200
TZOFFSETTO:+0100
TZNAME:CET
DTSTART:20251026T010000
END:STANDARD
BEGIN:DAYLIGHT
TZOFFSETFROM:+0100
TZOFFSETTO:+0200
TZNAME:CEST
DTSTART:20260329T010000
END:DAYLIGHT
BEGIN:STANDARD
TZOFFSETFROM:+0200
TZOFFSETTO:+0100
TZNAME:CET
DTSTART:20261025T010000
END:STANDARD
BEGIN:DAYLIGHT
TZOFFSETFROM:+0100
TZOFFSETTO:+0200
TZNAME:CEST
DTSTART:20270328T010000
END:DAYLIGHT
BEGIN:STANDARD
TZOFFSETFROM:+0200
TZOFFSETTO:+0100
TZNAME:CET
DTSTART:20271031T010000
END:STANDARD
END:VTIMEZONE
BEGIN:VEVENT
DTSTART;TZID=Europe/Zurich:20260610T170000
DTEND;TZID=Europe/Zurich:20260610T220000
DTSTAMP:20260426T044740
CREATED:20250709T151113Z
LAST-MODIFIED:20250709T151113Z
UID:4253-1781110800-1781128800@www.saxophonist-live.ch
SUMMARY:Knusperli\, Klänge und Kulisse: Kundenanlass mit Mister Saxr im Fischers Fritz
DESCRIPTION:Auch 2026 lädt die Rolf Schlagenhauf AG ihre Kundschaft zu einem stilvollen Sommerabend am Zürichsee ein. Im beliebten Fischers Fritz sorgt Mister Saxr mit seiner Musik erneut für eine besondere Atmosphäre – kulinarisch begleitet von den legendären Fischknusperli. \nDie Rolf Schlagenhauf AG organisiert auch im Jahr 2026 wieder einen exklusiven Kundenanlass im Fischers Fritz in Zürich-Wollishofen – und setzt dabei auf bewährte Highlights: ein traumhaftes Seepanorama\, erstklassige Gastronomie und die musikalische Begleitung von Mister Saxr\, dem charismatischen Saxophonisten und Solo-Künstler. \nUnter freiem Himmel spielt Mister Saxr auf seinem Selmer Mark VI Saxophon eine sommerliche Auswahl aus seinem breiten Repertoire. Mit viel Gespür für die Stimmung interpretiert er Klassiker und aktuelle Hits aus Smooth Jazz\, Bossa Nova\, Pop\, Rock und Partymusik – perfekt abgestimmt auf den Sonnenuntergang über dem Zürichsee. \nDas Fischers Fritz\, Teil der Pumpwerk Gastro Group von Michél Peclard\, bietet die perfekte Kulisse für diesen besonderen Anlass. Direkt am See gelegen\, besticht die Location durch ihre entspannte Atmosphäre mit Lounge\, Bar und Terrasse sowie einem einzigartigen Blick aufs Wasser. Der hauseigene Fischer und ein beeindruckender Raritäten-Weinkeller unterstreichen den exklusiven Charakter des Abends. \nEin kulinarisches Highlight sind wie jedes Jahr die frisch zubereiteten Fischknusperli – knusprig\, goldbraun und mit raffinierten Beilagen serviert. Sie zählen zu den beliebtesten Spezialitäten des Hauses und sorgen zusammen mit der musikalischen Begleitung für ein Genusserlebnis der besonderen Art. \nMister Saxr\, der bereits bei verschiedenen Events der Pumpwerk-Gruppe – darunter in der Inselwirtschaft Ufenau\, dem L’O in Horgen oder der Seebadi Richterswil – für musikalische Highlights gesorgt hat\, bringt auch 2026 wieder seine Leidenschaft auf die Bühne. Seine Live-Performance schafft eine entspannte und gleichzeitig belebende Stimmung\, die dem Abend eine persönliche Note verleiht. \nFreuen Sie sich auf einen Sommerabend voller Musik\, Genuss und guter Gesellschaft – mit Mister Saxr und den legendären Fischknusperli am Ufer des Zürichsees.
URL:https://www.saxophonist-live.ch/saxofonist-blog/event/knusperli-klaenge-und-kulisse-sommerabend-mit-mister-saxr-im-fischers-fritz/
LOCATION:Fischer‘s Fritz\, Seestrasse 557\, Zürich\, 8038\, Schweiz
CATEGORIES:MisterSaxr Event
ATTACH;FMTTYPE=image/jpeg:https://www.saxophonist-live.ch/saxofonist-blog/wp-content/uploads/2024/09/MisterSaxr_BestOf_Event_Saxophonist_FischersFritz_162726-e1725975020564.jpg
END:VEVENT
BEGIN:VEVENT
DTSTART;TZID=Europe/Zurich:20260613T170000
DTEND;TZID=Europe/Zurich:20260613T230000
DTSTAMP:20260426T044740
CREATED:20260216T092008Z
LAST-MODIFIED:20260216T092008Z
UID:4429-1781370000-1781391600@www.saxophonist-live.ch
SUMMARY:30 Jahre Golfclub Bubikon – ein Jubiläum begleitet von Bella C & Mister Saxr
DESCRIPTION:Zum 30-jährigen Jubiläum des Golfclub Bubikon spielen Bella C und Mister Saxr und verleihen diesem besonderen Anlass eine musikalische Note voller Eleganz und Gefühl. Umgeben von weitläufigen Fairways\, altem Baumbestand und der ruhigen Schönheit der Zürcher Oberländer Landschaft entsteht ein Abend\, der die Geschichte des Clubs würdigt und seine lebendige Gemeinschaft feiert. Die Musik wird dabei zum feinen Begleiter eines Jubiläums\, das von Begegnung\, Wertschätzung und gemeinsamen Erinnerungen geprägt ist. \nSeit drei Jahrzehnten steht der Golfclub Bubikon für die Faszination des Golfsports in seiner reinsten Form. Golf bedeutet hier nicht nur sportliche Präzision\, sondern auch Ruhe\, Konzentration und die bewusste Wahrnehmung der Natur. Jeder Schritt über das gepflegte Grün\, jeder Blick über die offenen Flächen und jeder Schlag ist Teil eines harmonischen Zusammenspiels zwischen Mensch und Umgebung. Diese besondere Atmosphäre macht den Club zu einem Ort der Erholung und der Verbundenheit. \nMit ihrer warmen und ausdrucksstarken Stimme verleiht Bella C dem Abend eine emotionale Tiefe. Mister Saxr ergänzt ihre Interpretationen mit seinem charakteristischen Saxophonklang – weich\, getragen und voller Ausdruck. Gemeinsam schaffen sie eine musikalische Begleitung\, die sich harmonisch in die Umgebung einfügt. Ihre Klänge begleiten Gespräche auf der Clubterrasse\, schaffen Momente des Innehaltens und verleihen dem Jubiläum eine stilvolle Leichtigkeit. \nGerade in den Abendstunden entfaltet der Golfclub Bubikon seine besondere Wirkung. Wenn das Licht sanfter wird und die Landschaft in warme Farben taucht\, entsteht eine ruhige\, fast zeitlose Stimmung. In dieser Umgebung wird die Musik von Bella C und Mister Saxr zu einem verbindenden Element. Sie trägt den Moment\, ohne ihn zu dominieren\, und verleiht dem Anlass eine würdige und zugleich persönliche Note. \nDas 30-jährige Bestehen des Golfclub Bubikon ist ein Ausdruck von Beständigkeit\, Leidenschaft und gelebter Gemeinschaft. Generationen von Mitgliedern und Gästen haben diesen Ort geprägt und zu dem gemacht\, was er heute ist. Die musikalische Begleitung durch Bella C und Mister Saxr unterstreicht die Bedeutung dieses Jubiläums und schafft eine Atmosphäre\, die in Erinnerung bleibt.\nEin Abend voller Klang\, Natur und Begegnung – im Zeichen von 30 Jahren Golfclub Bubikon und begleitet von Musik\, die den Moment auf besondere Weise spürbar macht.
URL:https://www.saxophonist-live.ch/saxofonist-blog/event/30-jahre-golfclub-bubikon-ein-jubilaeum-begleitet-von-bella-c-mister-saxr/
LOCATION:Swiss Golf Bubikon\, Kämmoos 2\, Bubikon\, 8608
CATEGORIES:MisterSaxr Event
ATTACH;FMTTYPE=image/jpeg:https://www.saxophonist-live.ch/saxofonist-blog/wp-content/uploads/2025/09/MisterSaxr_BellaC_TEST_ROMAN_BELLAAPP1ee-2.jpg
END:VEVENT
BEGIN:VEVENT
DTSTART;TZID=Europe/Zurich:20260621T160000
DTEND;TZID=Europe/Zurich:20260621T180000
DTSTAMP:20260426T044740
CREATED:20251026T203727Z
LAST-MODIFIED:20251026T203727Z
UID:4371-1782057600-1782064800@www.saxophonist-live.ch
SUMMARY:Haug-Cup Trophy 2026: Ein persönliches Highlight für Mister Saxr
DESCRIPTION:Am 21. Juni 2026 ist es wieder so weit: Die Haug-Cup Trophy findet im exklusiven Dolder Golfclub Zürich statt. Golf\, Musik und Gastfreundschaft verschmelzen zu einem besonderen Erlebnis – und mittendrin steht Mister Saxr\, der bekannte Zürcher Saxophonist\, der mit seinem unverwechselbaren Stil für die musikalische Note dieses Tages sorgt. \nBereits in den vergangenen Jahren hat Mister Saxr den Haug Cup mit seinem Saxophon begleitet und dabei für jene besondere Atmosphäre gesorgt\, die das Event so einzigartig macht. 2026 erhält der Anlass für ihn jedoch eine besonders persönliche Bedeutung: Die Veranstaltung wird erneut von seiner Familie organisiert\, was der Trophy einen warmen\, privaten Charakter verleiht. Musik\, Familie und Leidenschaft treffen hier aufeinander – ein Zusammenspiel\, das den Tag prägt. \nMit seinem Selmer Supreme Saxophon schafft Mister Saxr es\, Eleganz und Leichtigkeit in Einklang zu bringen. Seine Musik begleitet die Gäste während des gesamten Tages – dezent im Hintergrund während des Turniers und später mit ausdrucksstarken Melodien beim Apéro oder Dinner. Er versteht es\, die Stimmung des Augenblicks einzufangen und mit seinen Tönen zu verstärken. Für die Spielerinnen und Spieler ist seine Musik eine willkommene Ergänzung zur sportlichen Konzentration; für die Gäste am Rande des Turniers ist sie der klangvolle Rahmen für Begegnung\, Freude und Austausch. \nDer Dolder Golfclub bietet dafür die ideale Kulisse. Nur wenige Minuten von der Stadt Zürich entfernt liegt er inmitten einer malerischen Landschaft mit Blick auf Wälder\, sanfte Hügel und die Alpen. Die perfekt gepflegten Fairways und Greens spiegeln dieselbe Sorgfalt wider\, die auch in der Organisation des Haug Cups steckt. Im stilvollen Clubhaus wird der Tag mit kulinarischen Highlights und erlesenen Weinen abgerundet – begleitet von den warmen Klängen des Saxophons\, das wie geschaffen scheint für diesen Ort. \nDer Haug Cup gilt längst als eines der besonderen gesellschaftlichen Highlights im Kalender des Dolder Golfclubs. Er verbindet sportlichen Ehrgeiz mit Lebensfreude\, Gemeinschaft und Stil – Werte\, die auch Mister Saxr in seiner Musik verkörpert. \nSo wird die Haug-Cup Trophy 2026 zu einem Ereignis\, das weit über den Sport hinausgeht. Es ist ein Tag voller Begegnungen\, Emotionen und Musik – ein Fest\, das zeigt\, dass wahre Eleganz nicht laut sein muss\, sondern spürbar ist. Und Mister Saxr sorgt dafür\, dass sie klingt.
URL:https://www.saxophonist-live.ch/saxofonist-blog/event/haug-cup-trophy-2026-ein-persoenliches-highlight-fuer-mister-saxr/
LOCATION:Dolder Golfclub Zürich\, Kurhausstrasse 66\, Zürich\, Zürich\, 8032\, Schweiz
CATEGORIES:MisterSaxr Event
ATTACH;FMTTYPE=image/jpeg:https://www.saxophonist-live.ch/saxofonist-blog/wp-content/uploads/2022/07/Wedding_MisterSaxr_Saxophonist.jpg
END:VEVENT
BEGIN:VEVENT
DTSTART;TZID=Europe/Zurich:20260626T163000
DTEND;TZID=Europe/Zurich:20260626T220000
DTSTAMP:20260426T044740
CREATED:20260324T154430Z
LAST-MODIFIED:20260324T154430Z
UID:4440-1782491400-1782511200@www.saxophonist-live.ch
SUMMARY:Mister Saxr live am Familienanlass der Zunft Hard
DESCRIPTION:Mister Saxr begleitet den Familienanlass der Zunft Hard musikalisch und sorgt für eine stimmige Atmosphäre in einem vertrauten\, geselligen Rahmen. Der Anlass bringt Mitglieder\, Familien und Freunde zusammen und schafft Raum für Austausch\, Begegnungen und gemeinsame Erlebnisse. Mister Saxr fügt sich mit seinem Saxophon bewusst in dieses Umfeld ein und unterstützt den Anlass mit einer passenden\, unaufdringlichen musikalischen Begleitung. \nDer Veranstaltungsort am Mythenquai beim Ruderclub Zürich bietet dafür ideale Voraussetzungen. Direkt am Wasser gelegen\, verbindet die Location eine ruhige\, naturnahe Umgebung mit der Nähe zur Stadt. Die offene Lage\, das Lichtspiel am See und die entspannte Stimmung prägen den Anlass. Mister Saxr greift diese Atmosphäre auf und passt sein Spiel entsprechend an. Sein Sound bleibt angenehm im Hintergrund\, schafft aber gleichzeitig eine klare musikalische Präsenz im Raum. \nDie Zunft Hard steht für Tradition\, Gemeinschaft und gelebte Werte. Gerade an einem Familienanlass zeigt sich diese Seite besonders deutlich. Verschiedene Generationen kommen zusammen\, Gespräche entstehen\, und der Anlass lebt von seiner persönlichen Note. Mister Saxr versteht es\, diese Dynamik musikalisch zu begleiten\, ohne sich in den Vordergrund zu drängen. Seine Musik unterstützt die Begegnungen und trägt dazu bei\, dass sich Gäste wohlfühlen. \nFür Mister Saxr ist dieser Anlass besonders persönlich\, da er selbst Zünfter der Zunft Hard ist. Genau deshalb hat dieser Auftritt für Mister Saxr eine besondere Bedeutung. Es geht nicht nur um Musik\, sondern auch um Verbundenheit\, Zugehörigkeit und das gemeinsame Erleben innerhalb der eigenen Zunft. Mister Saxr kennt die Traditionen\, die Werte und die Menschen – und genau dieses Verständnis spiegelt sich in seiner musikalischen Begleitung wider. \nFür Mister Saxr ist ein solcher Anlass eine besondere Bühne. Anders als bei klassischen Business-Events steht hier nicht die Struktur im Vordergrund\, sondern das Miteinander. Mister Saxr passt Lautstärke\, Tempo und Stil flexibel an die Situation an – sei es während des Apéros\, beim Essen oder in ruhigeren Momenten. Dadurch entsteht ein fliessender musikalischer Rahmen\, der sich organisch in den Anlass einfügt. \nAuch die Umgebung rund um den Mythenquai spielt eine wichtige Rolle. Die Nähe zum Zürichsee\, die Weite des Wassers und die lockere\, sommerliche Stimmung prägen das Gesamtbild. Mister Saxr nimmt diese Eindrücke auf und lässt sie in sein Spiel einfliessen. So entsteht eine Verbindung zwischen Ort\, Anlass und Musik\, die den Charakter des Events unterstreicht. \nWas Mister Saxr auszeichnet\, ist seine Fähigkeit\, sich auf unterschiedliche Anlässe einzustellen und dennoch seinen eigenen Stil beizubehalten. Auch bei einem familiären Rahmen wie diesem bleibt seine musikalische Handschrift erkennbar. Mister Saxr schafft es\, eine angenehme Balance zwischen Präsenz und Zurückhaltung zu finden.\nMister Saxr zeigt damit\, wie Live-Musik auch bei privaten und halbprivaten Anlässen einen echten Mehrwert bieten kann. Nicht als Show\, sondern als Teil des Gesamterlebnisses. Genau dieser Ansatz macht ihn zur passenden Wahl für einen Anlass wie den Familienanlass der Zunft Hard am Mythenquai in Zürich.
URL:https://www.saxophonist-live.ch/saxofonist-blog/event/mister-saxr-live-am-familienanlass-der-zunft-hard/
LOCATION:Ruderclub Zürich\, Mythenquai 87\, Zürich\, Zürich\, 8002\, Switzerland
CATEGORIES:MisterSaxr Event
ATTACH;FMTTYPE=image/jpeg:https://www.saxophonist-live.ch/saxofonist-blog/wp-content/uploads/2024/08/MisterSaxr_BestOf_Event_Saxophonist_FischersFritz_162916.jpg
END:VEVENT
BEGIN:VEVENT
DTSTART;TZID=Europe/Zurich:20260627T180000
DTEND;TZID=Europe/Zurich:20260627T210000
DTSTAMP:20260426T044740
CREATED:20250930T091529Z
LAST-MODIFIED:20250930T091529Z
UID:4303-1782583200-1782594000@www.saxophonist-live.ch
SUMMARY:Caumasee und Crestasee im Klang von Mister Saxr
DESCRIPTION:Wer den Tag am Caumasee oder Crestasee verbringt\, findet am Abend im Signina Hotel in Laax die perfekte Fortsetzung – begleitet von Mister Saxr im Restaurant Camino. Diese beiden Seen sind wahre Wahrzeichen der Region und ziehen im Sommer Menschen aus aller Welt an. Der Caumasee begeistert mit seinem türkisblauen Wasser\, das in der Sonne fast mediterran wirkt. Er ist ein lebendiger Treffpunkt\, an dem Familien baden\, Jugendliche Beachvolleyball spielen und Besucher Boote über die glitzernde Oberfläche ziehen. Der Crestasee hingegen liegt versteckt im Wald\, ein stiller\, fast geheimnisvoller Ort. Er lädt ein zum Innehalten\, Spazieren und Staunen über die Spiegelung der Bäume auf dem ruhigen Wasser. Zwei Seen\, zwei völlig unterschiedliche Atmosphären – und Mister Saxr versteht es\, beide in seiner Musik hörbar zu machen. \nMit seinem Selmer Supreme Saxophon gestaltet er Klangfarben\, die die Eigenheiten der Seen einfangen. Für den Caumasee wählt er helle\, leichte Töne\, die klar und funkelnd wirken. Sie erinnern an Sonnenstrahlen auf der Wasseroberfläche\, an das Lachen der Kinder und an die unbeschwerte Freude\, die man dort empfindet. Für den Crestasee dagegen setzt er auf tiefere\, getragenere Linien. Diese spiegeln die Ruhe wider\, die man erlebt\, wenn man am Ufer steht und nur das Rascheln der Blätter hört. Es ist Musik\, die Stille nicht füllt\, sondern verstärkt. \nIm Restaurant Camino und im Hotelgarten fügt sich diese musikalische Übersetzung nahtlos in den Abend ein. Während das BBQ serviert wird\, steigt der Duft von frisch Gegrilltem auf\, Gläser klingen beim Anstossen\, Gespräche vermischen sich. Über all dem schwebt die Musik von Mister Saxr. Viele Gäste\, die tagsüber an einem der Seen waren\, erkennen ihre Eindrücke sofort wieder. Sie hören das Funkeln des Caumasees oder die Gelassenheit des Crestasees in den Melodien und fühlen sich unmittelbar angesprochen. So wird der Abend zu einer Verlängerung des Tages\, nur in einer neuen\, musikalischen Form. \nDie beiden Seen stehen auch für ein grundlegendes Gleichgewicht: Lebendigkeit und Ruhe\, Begegnung und Rückzug. Mister Saxr versteht es meisterhaft\, diese Balance hörbar zu machen. Er steigert die Energie\, wenn der Abend lebhafter wird\, wenn Gäste lachen oder die Gespräche intensiver werden. Dann wechselt er zu ruhigeren Linien\, sobald der Abend sich entspannt\, die Stimmen leiser werden und die Stimmung gelassener ist. Jeder Gast findet in dieser Musik seinen eigenen Platz – ob voller Energie oder in stiller Nachdenklichkeit. \nZum Abschluss fasst Mister Saxr beide Stimmungen in einer letzten Melodie zusammen. Erst hell und klar\, wie ein Gruss des Caumasees\, dann tief und getragen\, wie ein Echo des Crestasees. Der Ton steht im Raum wie ein musikalisches Spiegelbild der beiden Orte. Wer das Signina Hotel verlässt\, nimmt deshalb nicht nur die Erinnerung an das Essen oder die Gemeinschaft mit – sondern auch den Klang zweier Seen\, die Mister Saxr an diesem Abend in Musik verwandelt hat.
URL:https://www.saxophonist-live.ch/saxofonist-blog/event/caumasee-und-crestasee-im-klang-von-mister-saxr/
LOCATION:signina hotel\, Via Murschetg 15\, Laax\, 7032\, Schweiz
CATEGORIES:MisterSaxr Event
ATTACH;FMTTYPE=image/png:https://www.saxophonist-live.ch/saxofonist-blog/wp-content/uploads/2024/08/20240821-Mister-Saxr_Signina-hotel-Laax.png
END:VEVENT
BEGIN:VEVENT
DTSTART;TZID=Europe/Zurich:20260630T180000
DTEND;TZID=Europe/Zurich:20260630T210000
DTSTAMP:20260426T044740
CREATED:20250930T091929Z
LAST-MODIFIED:20250930T091929Z
UID:4305-1782842400-1782853200@www.saxophonist-live.ch
SUMMARY:Sommerabend mit Mister Saxr in Laax
DESCRIPTION:Ein Sommerabend in Laax ist immer etwas Besonderes. Zwischen den imposanten Gipfeln der Surselva und der modernen Architektur des Rocks Resorts entsteht eine Atmosphäre\, die zum Verweilen einlädt. Mitten in diesem Ambiente liegt das Signina Hotel\, wo Mister Saxr mit seinem Saxophon den Gästen unvergessliche Abende schenkt. \nIm Restaurant Camino oder draussen im Hotelgarten entfaltet sich sein Spiel. Schon die ersten Töne seines Selmer Supreme Saxophons füllen den Raum und schaffen eine Stimmung\, die gleichzeitig entspannt und inspirierend wirkt. Das Instrument ist für seine Vielseitigkeit bekannt\, und Mister Saxr nutzt diese Eigenschaften meisterhaft. Mal sind es weiche Melodien\, die leise im Hintergrund schweben\, mal kräftige Passagen\, die die Aufmerksamkeit auf sich ziehen. \nWährend die Gäste das BBQ geniessen\, vermischen sich Gerüche\, Gespräche und Musik zu einem harmonischen Ganzen. Der Duft von frisch gegrilltem Fleisch\, die Gläser\, die beim Anstossen klingen\, und das leise Lachen der Menschen fügen sich mit den Saxophonklängen von Mister Saxr zu einer einzigartigen Atmosphäre. Viele Gäste spüren\, dass die Musik nicht einfach nur nebenbei gespielt wird\, sondern Teil des Gesamterlebnisses ist. \nLaax bietet tagsüber viele Möglichkeiten: Wanderungen auf Bergwegen\, Spaziergänge durch Wälder oder Ausflüge zu den Seen der Region. Am Abend sind es die Klänge von Mister Saxr\, die diese Eindrücke aufgreifen und vertiefen. Seine Musik wirkt wie eine Brücke zwischen der Natur und den Gästen. Man schliesst die Augen und erkennt in den Melodien das Rauschen eines Baches\, die Stille der Berge oder die Lebendigkeit eines Sommerabends. \nWenn die Sonne langsam verschwindet und die Berge in sanftes Licht getaucht sind\, klingen auch die Melodien von Mister Saxr leiser. Es bleibt ein Gefühl von Zufriedenheit und das Wissen\, dass man einen Moment erlebt hat\, der alle Sinne angesprochen hat. Ein Abend im Signina Hotel mit Mister Saxr ist kein gewöhnliches Konzert – es ist ein Erlebnis\, das den Sommer in Laax unvergesslich macht.
URL:https://www.saxophonist-live.ch/saxofonist-blog/event/sommerabend-mit-mister-saxr-in-laax/
LOCATION:signina hotel\, Via Murschetg 15\, Laax\, 7032\, Schweiz
CATEGORIES:MisterSaxr Event
ATTACH;FMTTYPE=image/png:https://www.saxophonist-live.ch/saxofonist-blog/wp-content/uploads/2024/08/20240821-Mister-Saxr_Signina-hotel-Laax_Saxophonist.png
END:VEVENT
END:VCALENDAR