BEGIN:VCALENDAR
VERSION:2.0
PRODID:-//MisterSaxr.ch | saxophonist-LIVE.ch | Blog | Firmenanlass Hochzeiten Events Saxofonist Musiker Saxophonist Schweiz Z&uuml;rich - ECPv6.15.8//NONSGML v1.0//EN
CALSCALE:GREGORIAN
METHOD:PUBLISH
X-ORIGINAL-URL:https://www.saxophonist-live.ch/saxofonist-blog
X-WR-CALDESC:Veranstaltungen für MisterSaxr.ch | saxophonist-LIVE.ch | Blog | Firmenanlass Hochzeiten Events Saxofonist Musiker Saxophonist Schweiz Z&uuml;rich
REFRESH-INTERVAL;VALUE=DURATION:PT1H
X-Robots-Tag:noindex
X-PUBLISHED-TTL:PT1H
BEGIN:VTIMEZONE
TZID:Europe/Zurich
BEGIN:DAYLIGHT
TZOFFSETFROM:+0100
TZOFFSETTO:+0200
TZNAME:CEST
DTSTART:20250330T010000
END:DAYLIGHT
BEGIN:STANDARD
TZOFFSETFROM:+0200
TZOFFSETTO:+0100
TZNAME:CET
DTSTART:20251026T010000
END:STANDARD
BEGIN:DAYLIGHT
TZOFFSETFROM:+0100
TZOFFSETTO:+0200
TZNAME:CEST
DTSTART:20260329T010000
END:DAYLIGHT
BEGIN:STANDARD
TZOFFSETFROM:+0200
TZOFFSETTO:+0100
TZNAME:CET
DTSTART:20261025T010000
END:STANDARD
BEGIN:DAYLIGHT
TZOFFSETFROM:+0100
TZOFFSETTO:+0200
TZNAME:CEST
DTSTART:20270328T010000
END:DAYLIGHT
BEGIN:STANDARD
TZOFFSETFROM:+0200
TZOFFSETTO:+0100
TZNAME:CET
DTSTART:20271031T010000
END:STANDARD
END:VTIMEZONE
BEGIN:VEVENT
DTSTART;TZID=Europe/Zurich:20260707T180000
DTEND;TZID=Europe/Zurich:20260707T210000
DTSTAMP:20260426T061552
CREATED:20250930T105607Z
LAST-MODIFIED:20250930T105607Z
UID:4307-1783447200-1783458000@www.saxophonist-live.ch
SUMMARY:Mister Saxr live im Restaurant Camino
DESCRIPTION:Mister Saxr spielt im Signina Hotel in Laax\, im Restaurant Camino\, mitten im Rocks Resort. Wer hier ankommt\, merkt schnell\, dass Musik\, Gastfreundschaft und Bergwelt zusammengehoeren. Mister Saxr begruesst die Gaeste mit einem warmen Ton und setzt damit den Rahmen fuer einen Abend\, der Ruhe und Lebendigkeit verbindet. Schon die ersten Klaenge zeigen\, wie praegend sein Spiel fuer die Atmosphaere ist: nicht laut\, nicht aufdringlich\, sondern praezise und praegnant. Die Gaeste finden ihren Platz\, die Gespraeche fliessen an\, und Mister Saxr fuegt dem Raum Struktur hinzu. Jede Phrase ist bewusst gesetzt\, jede Pause gibt Luft zum Atmen\, und doch bleibt der Fluss der Musik staendig spuerbar. \nIm Fokus steht bei Mister Saxr sein Selmer Supreme Saxophon. Dieses Instrument erlaubt ihm eine grosse dynamische Bandbreite und saubere Intonation\, sodass Mister Saxr von leisen Linien zu tragfaehigen Toenen wechseln kann\, ohne an Geschlossenheit zu verlieren. Man hoert\, dass Mister Saxr technisches Koennen mit einem klaren musikalischen Konzept verbindet. Er nimmt Motive auf\, variiert sie\, laesst sie neu entstehen. So wirkt nichts zufaellig\, sondern wie ein Gespraech mit dem Raum\, mit den Gaesten\, mit Laax. \nDie Lage des Signina Hotels traegt entscheidend zur Wirkung bei. Draussen rahmen die Berge der Surselva das Rocks Resort\, drinnen setzt das Team vom Restaurant Camino durch aufmerksamen Service und transparente Kuche die richtigen Akzente. Mister Saxr nimmt diese Signale auf und passt sein Spiel an: vor einem Hauptgang eher ruhige\, fokussierte Toene\, nach dem Essen etwas mehr Weite\, kleine rhythmische Akzente\, die Energie geben\, ohne zu dominieren. So koennen die Gaeste entscheiden\, ob sie sich auf die Musik konzentrieren oder sie als gelassenen roten Faden des Abends nutzen. \nWenn der Abend fortschreitet\, zeigt Mister Saxr sein gutes Gespuer fuer Dramaturgie. Kurze Solo-Momente eroeffnen Hoerfenster\, dann fuehrt er wieder in bekannte Melodien zurueck. Die Zeit vergeht unauffaellig\, doch die Wirkung bleibt. Am Schluss rundet Mister Saxr mit einem klaren\, warmen Klang ab\, der den Raum zusammenbringt. Wer das Signina Hotel in Laax verlaesst\, nimmt ein stimmiges Gesamtbild mit: Ein Ort\, an dem Mister Saxr mit Musik Orientierung bietet\, an dem das Restaurant Camino Kulinarik praezise umsetzt und an dem die Bergwelt nicht Kulisse\, sondern Konstante ist.
URL:https://www.saxophonist-live.ch/saxofonist-blog/event/mister-saxr-live-im-restaurant-camino/
LOCATION:signina hotel\, Via Murschetg 15\, Laax\, 7032\, Schweiz
CATEGORIES:MisterSaxr Event
ATTACH;FMTTYPE=image/png:https://www.saxophonist-live.ch/saxofonist-blog/wp-content/uploads/2024/08/20240821-Mister-Saxr_Signina-hotel-Laax_Flims.png
END:VEVENT
BEGIN:VEVENT
DTSTART;TZID=Europe/Zurich:20260710T150000
DTEND;TZID=Europe/Zurich:20260710T180000
DTSTAMP:20260426T061552
CREATED:20250304T143434Z
LAST-MODIFIED:20260218T151932Z
UID:4136-1783695600-1783706400@www.saxophonist-live.ch
SUMMARY:Mister Saxr – Saxophonklänge im exklusiven Golfclub Breitenloo
DESCRIPTION:Beim exklusiven Golfturnier im Golfclub Breitenloo sorgt der renommierte Saxophonist Mister Saxr für musikalische Highlights.Die eleganten Klänge seines Saxophons werden die edle Atmosphäre des Turniers perfekt untermalen und den Teilnehmern ein unvergessliches Erlebnis bieten. \nDer Golfclub Breitenloo\, eine der prestigeträchtigsten Golfanlagen der Schweiz\, liegt eingebettet in eine wunderschöne Landschaft. Gelegen in der Nähe von Zürich\, bietet er nicht nur eine anspruchsvolle 18-Loch-Anlage\, sondern auch eine eindrucksvolle Kulisse mit sanften Hügeln\, gepflegten Fairways und atemberaubender Natur. Diese edle Umgebung ist wie geschaffen für den einzigartigen Sound von Mister Saxr\, dessen Musik die Eleganz und Ruhe des Golfplatzes perfekt ergänzt. Während die Golfer ihr Spiel geniessen\, sorgt er mit seinen Melodien für eine entspannte und stilvolle Atmosphäre. \nFür Mister Saxr ist der Golfclub Breitenloo kein unbekanntes Terrain. Bereits mehrfach durfte er auf exklusiven Golfplätzen sein Können unter Beweis stellen. Seine Musik hat bereits zahlreiche Golfer bei Turnieren und privaten Events begleitet\, wodurch er zu einem gefragten Künstler in der Golf-Community geworden ist. Seine Fähigkeit\, sich mit seinen Klängen harmonisch in die Umgebung eines Golfplatzes einzufügen\, macht ihn zu einer beliebten Wahl für Events dieser Art. \nNeben dem Golfclub Breitenloo durfte Mister Saxr bereits in anderen hochkarätigen Golfclubs auftreten. Er hat beispielsweise in den renommierten Clubs Schönenberg\, Lipperswil\, Otelfingen und Dolder gespielt und mit seinen Saxophonklängen für unvergessliche Momente gesorgt. Die Kombination aus hochklassigem Golfsport und exzellenter Musik macht jedes Event zu einem besonderen Erlebnis\, bei dem nicht nur das Spiel\, sondern auch die Atmosphäre im Mittelpunkt steht. \nGolf ist ein Sport\, der Präzision\, Konzentration und ein feines Gespür für Timing erfordert – genau wie das Spiel auf dem Saxophon. Mister Saxr versteht es meisterhaft\, mit seinem Instrument eine Stimmung zu erzeugen\, die genau diese Eigenschaften widerspiegelt. Seine Musik fliesst harmonisch in die ruhige und stilvolle Welt des Golfsports ein\, begleitet die Spieler und sorgt für einen unvergleichlichen Genussmoment zwischen den einzelnen Schlägen. \nDas Golfturnier im Golfclub Breitenloo ist ein nicht-öffentlicher Anlass\, der den Teilnehmern ein ganz besonderes Erlebnis bietet. Mit der musikalischen Untermalung von Mister Saxr wird das Event zu einem stilvollen und genussvollen Erlebnis\, das lange in Erinnerung bleibt. Während die Golfer ihr Spiel perfektionieren\, sorgt Mister Saxr für den passenden Klangteppich\, der sich harmonisch in die Atmosphäre des exklusiven Golfclubs einfügt. \nMit seiner Musik bringt Mister Saxr nicht nur Klang\, sondern auch Emotion auf den Platz – eine perfekte Ergänzung für einen unvergesslichen Tag im Golfclub Breitenloo.
URL:https://www.saxophonist-live.ch/saxofonist-blog/event/mister-saxr-saxophonklaenge-im-exklusiven-golfclub-breitenloo/
LOCATION:Golfclub Breitenloo\, Breitenloo 16\, Nürensdorf\, 8309
CATEGORIES:MisterSaxr Event
ATTACH;FMTTYPE=image/jpeg:https://www.saxophonist-live.ch/saxofonist-blog/wp-content/uploads/2022/07/Wedding_MisterSaxr_Saxophonist.jpg
END:VEVENT
BEGIN:VEVENT
DTSTART;TZID=Europe/Zurich:20260711T170000
DTEND;TZID=Europe/Zurich:20260712T010000
DTSTAMP:20260426T061552
CREATED:20251215T171546Z
LAST-MODIFIED:20251215T171546Z
UID:4383-1783789200-1783818000@www.saxophonist-live.ch
SUMMARY:Bella C & Mister Saxr – ein stilvolles Duo im Zunfthaus zur Waag
DESCRIPTION:Wenn sich die Türen des Zunfthauses zur Waag für eine geschlossene Gesellschaft öffnen\, beginnt ein Abend voller Atmosphäre\, Geschichte und feiner Klänge. Für die passende musikalische Begleitung sorgt an diesem exklusiven Anlass das Duo Bella C & Mister Saxr – eine musikalische Verbindung\, die mit Stil\, Feingefühl und Charme überzeugt. \nDer ganze Abend bleibt den geladenen Gästen vorbehalten – ein Privatanlass\, der durch das Zusammenspiel von gehobener Kulinarik\, geschichtsträchtiger Kulisse und eleganter Live-Musik zu einem besonderen Erlebnis wird. Bella C und Mister Saxr fügen sich mit ihrer Musik nahtlos in diesen Rahmen ein – nie aufdringlich\, aber stets präsent. Ihre Musik veredelt den Moment. \nDirekt am Münsterhof\, einem der historisch bedeutendsten Plätze Zürichs\, liegt das traditionsreiche Zunfthaus zur Waag. Seit dem 14. Jahrhundert ist es Treffpunkt für Gesellschaft\, Kultur und Gastfreundschaft – ein Ort\, an dem Vergangenheit und Gegenwart in stilvollem Einklang stehen. \nMister Saxr ist mit dieser Welt bestens vertraut: Als Zürcher Musiker mit einer tiefen Verbindung zur Zunftkultur durfte er bereits bei zahlreichen Anlässen in Zürcher Zunfthäusern spielen – sei es im Zunfthaus zur Meisen\, zur Schmiden\, zur Saffran oder eben zur Waag. Ein fester Bestandteil seines Jahresprogramms ist zudem der Moischterhofball am Samstag vor dem Sechseläuten\, bei dem Mister Saxr seit vielen Jahren als musikalischer Fixpunkt auftritt. \nGerade deshalb trägt ein Abend wie dieser für ihn auch persönliche Bedeutung: Es ist ein Heimspiel – musikalisch wie kulturell.\nBella C bringt eine Stimme auf die Bühne\, die direkt ins Herz geht: warm\, klar und voller Ausdruck. Ihre Interpretationen reichen von gefühlvollen Balladen bis hin zu modernen Klassikern\, die sie mit einer Leichtigkeit und Tiefe zugleich präsentiert. \nMister Saxr ergänzt sie mit seinem samtweichen Saxophonspiel\, das sich nie in den Vordergrund drängt und dennoch Räume mit Klang erfüllt. Sein Spiel lebt von Nuancen\, von der richtigen Note im richtigen Moment – mal zurückhaltend im Hintergrund\, mal bewegend und präsent. \nZusammen formen sie ein Duo\, das nicht nur musikalisch harmoniert\, sondern auch menschlich. Ihre Auftritte leben von Authentizität und gegenseitigem Vertrauen – und genau das überträgt sich auf das Publikum. Ob zwischen den Gängen eines feinen Dinners oder als stimmungsvolle Begleitung eines Empfangs: Ihre Musik schafft Nähe\, Eleganz und eine Atmosphäre\, die den Abend unvergesslich macht.\nEin Abend im Zunfthaus zur Waag ist nie gewöhnlich – und mit Bella C & Mister Saxr wird er erst recht zu etwas Besonderem. \nFür Mister Saxr ist es immer wieder eine Ehre\, in den geschichtsträchtigen Sälen Zürcher Zunfthäuser zu spielen. Und gemeinsam mit Bella C bringt er eine Klangfarbe mit\, die perfekt zu dieser Kulisse passt: stilvoll\, emotional\, unaufdringlich – und immer mit dem richtigen Gespür für den Moment.
URL:https://www.saxophonist-live.ch/saxofonist-blog/event/bella-c-mister-saxr-ein-stilvolles-duo-im-zunfthaus-zur-waag/
LOCATION:Zunfthaus zur Waag\, Münsterhof 8\, Zürich\, ZH\, 8001\, Schweiz
CATEGORIES:MisterSaxr Event
ATTACH;FMTTYPE=image/jpeg:https://www.saxophonist-live.ch/saxofonist-blog/wp-content/uploads/2025/12/MisterSaxr_BellaC_2025_DaveBiedert-6.jpg
END:VEVENT
BEGIN:VEVENT
DTSTART;TZID=Europe/Zurich:20260714T180000
DTEND;TZID=Europe/Zurich:20260714T210000
DTSTAMP:20260426T061552
CREATED:20250930T105919Z
LAST-MODIFIED:20250930T105919Z
UID:4309-1784052000-1784062800@www.saxophonist-live.ch
SUMMARY:Mister Saxr live in Laax
DESCRIPTION:Im Signina Hotel in Laax\, mitten im Rocks Resort\, sorgt Mister Saxr im Restaurant Camino für Musik\, die Sommerabende prägt. Gäste\, die durch die moderne Anlage schlendern oder im Hotelgarten Platz nehmen\, merken schnell\, dass hier mehr als nur ein Abendessen auf sie wartet. Die Atmosphäre ist geprägt von Bergen\, Gastfreundschaft und der Musik von Mister Saxr\, die den Raum strukturiert und bereichert. \nMit seinem Selmer Supreme Saxophon bringt Mister Saxr einen Klang in den Abend\, der sofort auffällt. Das Instrument bietet eine aussergewöhnliche Vielseitigkeit\, die er virtuos nutzt. Mal füllt er den Raum mit sanften\, fliessenden Melodien\, die Ruhe ausstrahlen\, mal setzt er auf klare\, kräftige Passagen\, die Energie geben. Es entsteht ein Wechselspiel\, das nie zufällig wirkt\, sondern immer präzise an den Moment angepasst ist. \nWährenddessen geniessen die Gäste im Restaurant Camino und im Hotelgarten kulinarische Highlights. Besonders das BBQ im Sommer zieht viele an: frisches Gemüse\, Fleisch\, Fisch und regionale Kräuter werden sorgfältig zubereitet. Der Duft verbindet sich mit den Saxophonklängen\, sodass ein sinnliches Gesamterlebnis entsteht. Gespräche fliessen leichter\, Kinder lachen\, Paare lehnen sich zurück – und immer wieder richtet sich die Aufmerksamkeit unbewusst auf Mister Saxr\, der die Stimmung leitet. \nAuch die Umgebung trägt dazu bei. Die Gipfel der Surselva bilden die Kulisse\, die Abendsonne taucht die Berge in warmes Licht. Mister Saxr versteht es\, diese Eindrücke aufzugreifen und musikalisch umzusetzen. Wer zuhört\, kann im Klang die Weite der Täler\, die Kraft der Berge oder die Leichtigkeit einer Sommerbrise erkennen. Es ist\, als würde die Natur selbst hörbar gemacht. \nWenn der Abend langsam zu Ende geht\, reduziert Mister Saxr die Intensität seiner Musik. Er lässt die Töne länger ausklingen\, spielt ruhiger\, beinahe meditativ. Gäste schliessen die Augen\, atmen tief durch und spüren\, wie sich ein Gefühl der Vollkommenheit einstellt. Dann endet sein Spiel mit einem klaren Ton\, der stehenbleibt wie ein letztes Sonnenlicht. \nSo bleibt ein Abend im Signina Hotel mehr als nur eine Erinnerung an gutes Essen. Er wird zu einem Erlebnis\, das alle Sinne anspricht. Mister Saxr zeigt\, dass Musik ein Raumöffner ist – für Gespräche\, Genuss und Natur. Wer das Rocks Resort verlässt\, nimmt diesen Klang mit nach Hause.
URL:https://www.saxophonist-live.ch/saxofonist-blog/event/mister-saxr-live-in-laax/
LOCATION:Signinahotel\, Via Murschetg 15\, Laax\, 7032
CATEGORIES:MisterSaxr Event
ATTACH;FMTTYPE=image/jpeg:https://www.saxophonist-live.ch/saxofonist-blog/wp-content/uploads/2024/08/MisterSaxr_BestOf_Event_Saxophonist_FischersFritz_163313-e1730383266352.jpg
END:VEVENT
BEGIN:VEVENT
DTSTART;TZID=Europe/Zurich:20260716T180000
DTEND;TZID=Europe/Zurich:20260716T210000
DTSTAMP:20260426T061552
CREATED:20260410T141935Z
LAST-MODIFIED:20260410T141935Z
UID:4489-1784224800-1784235600@www.saxophonist-live.ch
SUMMARY:Mister Saxr am Sommer-PopUp Winterthur
DESCRIPTION:Erleben Sie einen stimmungsvollen Sommerabend voller Summer Songs und karibischem Flair mit Mister Saxr\, dem leidenschaftlichen Saxophonisten\, live am Sommer Pop-Up in Winterthur. Inmitten einer entspannten Lounge-Atmosphäre entfaltet sich der warme Klang seines Saxophons im idyllischen Garten des Schulhauses St. Georgen – nur wenige Schritte vom Hauptbahnhof entfernt. \nMit seinem Selmer Supreme Saxophon schafft Mister Saxr eine musikalische Stimmung\, die Leichtigkeit und Eleganz verbindet. Seine Interpretationen reichen von mitreissenden Pop- und Dance-Hits über sanften Smooth Jazz bis hin zu zeitlosen Evergreens. Dabei entsteht ein unverwechselbares Caribbean Feeling\, das den Abend in eine klangvolle Reise durch verschiedene Stilrichtungen verwandelt. \nDie besondere Kulisse des Schulareals verleiht dem Anlass zusätzlichen Charme. Umgeben von Grün und unter freiem Himmel entsteht eine lockere\, sommerliche Atmosphäre\, in der sich Musik und Umgebung harmonisch verbinden. Die Klänge des Saxophons fügen sich nahtlos in diese Szenerie ein und schaffen einen Ort\, an dem man den Alltag hinter sich lassen und den Moment geniessen kann. \nAuch kulinarisch hat der Abend einiges zu bieten. Die Best-Catering GmbH verwöhnt die Gäste mit einer sorgfältig zusammengestellten Auswahl an Speisen und Getränken. Frische Snacks und erfrischende Drinks ergänzen das Erlebnis und laden dazu ein\, den Abend in entspannter Gesellschaft ausklingen zu lassen. \nMister Saxr überzeugt bei seinen Auftritten durch sein feines Gespür für Stimmung und Dynamik. Mit seiner musikalischen Vielseitigkeit und seiner Nähe zum Publikum gelingt es ihm\, jedem Anlass eine persönliche Note zu verleihen. Seine Musik wirkt unaufdringlich und präsent zugleich – sie begleitet den Abend und macht ihn auf subtile Weise besonders. \nDas Sommer Pop-Up in Winterthur ist damit der ideale Treffpunkt für alle\, die nach Feierabend eine Kombination aus Musik\, Genuss und sommerlicher Leichtigkeit suchen. Dank der zentralen Lage ist der Anlass bequem erreichbar und lädt dazu ein\, spontan vorbeizuschauen oder den Abend in vollen Zügen zu geniessen. \nWinterthur zeigt sich einmal mehr als lebendige Kulturstadt und erweitert mit diesem Anlass ihr vielfältiges Sommerangebot. Ein Abend mit Mister Saxr verspricht entspannte Stimmung\, stilvolle Musik und unvergessliche Momente in einer einzigartigen Umgebung.
URL:https://www.saxophonist-live.ch/saxofonist-blog/event/mister-saxr-am-sommer-popup-winterthur/
LOCATION:Schulhaus St. Georgen\, Winterthur\, 8400\, Schweiz
CATEGORIES:MisterSaxr Event
ATTACH;FMTTYPE=image/jpeg:https://www.saxophonist-live.ch/saxofonist-blog/wp-content/uploads/2019/04/Oldtimer-Saxophonist.jpg
END:VEVENT
BEGIN:VEVENT
DTSTART;TZID=Europe/Zurich:20260721T180000
DTEND;TZID=Europe/Zurich:20260721T210000
DTSTAMP:20260426T061552
CREATED:20250930T110204Z
LAST-MODIFIED:20250930T110204Z
UID:4311-1784656800-1784667600@www.saxophonist-live.ch
SUMMARY:Flims\, Laax\, Falera – Mister Saxr mittendrin
DESCRIPTION:Zwischen Flims\, Laax und Falera liegt das Rocks Resort. Dort\, im Signina Hotel\, begleitet Mister Saxr die Gäste im Restaurant Camino mit seinem Saxophon. Seine Musik macht die Vielfalt dieser drei Orte erlebbar – jeder mit seinem eigenen Charakter\, doch alle vereint durch Klang. \nFlims ist berühmt für seine Seen. Der Caumasee mit seinem türkisblauen Wasser zieht Besucher an\, die dort baden\, paddeln oder einfach die Ruhe geniessen. Mister Saxr greift diese Leichtigkeit auf. Mit hellen\, klaren Tönen seines Selmer Supreme Saxophons erinnert er an das Glitzern des Wassers in der Sonne. Die Gäste schliessen die Augen und spüren die Verbindung zwischen Klang und Natur. \nLaax steht für Bewegung und Sport. Im Sommer sind es die Wanderer und Biker\, im Winter die Skifahrer und Snowboarder. Hier setzt Mister Saxr auf rhythmische Elemente\, kurze Akzente und lebendige Passagen\, die die Energie des Ortes aufgreifen. Ohne laut zu werden\, vermittelt er Dynamik – wie ein musikalisches Abbild der Trails und Pisten. \nFalera wiederum ist geprägt von Geschichte und Ruhe. Das Observatorium und der alte Dorfkern strahlen Beständigkeit aus. Mister Saxr spiegelt das mit tieferen Tönen\, getragenen Melodien und langsamen Bögen. Es entsteht eine Atmosphäre\, die das Gefühl von Zeitlosigkeit vermittelt. \nIm Restaurant Camino geniessen die Gäste währenddessen kulinarische Vielfalt. Besonders das BBQ im Hotelgarten fügt sich harmonisch ein: frische Zutaten\, regionale Produkte und die Saxophonklänge von Mister Saxr ergeben ein Gesamtbild\, das Flims\, Laax und Falera gerecht wird. \nAm Ende des Abends verbindet Mister Saxr die Themen. Ein helles Motiv für Flims\, ein rhythmischer Akzent für Laax\, eine ruhige Linie für Falera. Kein Medley\, sondern eine konzentrierte Zusammenfassung\, die die Vielfalt der Region spürbar macht. So bleibt den Gästen nicht nur die Landschaft in Erinnerung\, sondern auch die Musik\, die sie akustisch erlebbar gemacht hat. Erleben Sie Mister Saxr live im Hotel Signina in Laax.
URL:https://www.saxophonist-live.ch/saxofonist-blog/event/flims-laax-falera-mister-saxr-mittendrin/
LOCATION:signina hotel\, Via Murschetg 15\, Laax\, 7032\, Schweiz
CATEGORIES:MisterSaxr Event
ATTACH;FMTTYPE=image/jpeg:https://www.saxophonist-live.ch/saxofonist-blog/wp-content/uploads/2024/08/MisterSaxr_BestOf_Event_Saxophonist_BAND_SummerParty_190207-e1724245035150.jpg
END:VEVENT
BEGIN:VEVENT
DTSTART;TZID=Europe/Zurich:20260728T180000
DTEND;TZID=Europe/Zurich:20260728T210000
DTSTAMP:20260426T061552
CREATED:20250930T151535Z
LAST-MODIFIED:20250930T151622Z
UID:4313-1785261600-1785272400@www.saxophonist-live.ch
SUMMARY:Ein Berg\, ein Klang\, ein Abend: Mister Saxr in Laax
DESCRIPTION:Mit Blick auf den Grap Sion Gion wird im Signina Hotel in Laax jeder Abend besonders – nicht zuletzt dank Mister Saxr im Restaurant Camino. Der markante Berg erhebt sich über die Region\, er ist Orientierungspunkt und Symbol zugleich. Schon am Nachmittag wirft er lange Schatten ins Tal\, und wenn die Sonne langsam verschwindet\, wirkt er wie ein stiller Wächter über dem Rocks Resort. Für die Gäste des Signina Hotels ist dieser Anblick beeindruckend\, und die Musik von Mister Saxr fügt sich nahtlos in dieses Bild ein. \nZu Beginn des Abends entscheidet sich Mister Saxr bewusst für kurze\, präzise Töne. Es klingt\, als würde er erste Schritte auf einem Bergpfad setzen. Jeder Ton ist klar\, fokussiert und trägt die Gäste langsam hinein in den Abend. Nach und nach erweitert er die Phrasen\, fügt kleine Pausen ein\, die Raum lassen. Diese Pausen sind nicht leer\, sondern gefüllt mit Erwartung – wie Momente des Atemholens auf einem Aufstieg. Sein Selmer Supreme Saxophon gibt ihm dabei die notwendige Kontrolle. Es reagiert exakt auf jede Nuance\, sodass Mister Saxr jeden Ton bewusst formen kann. \nIm Verlauf des Abends öffnet er seinen Klang. Die Linien werden länger\, voller\, weitreichender – wie der Blick vom Gipfel des Grap Sion Gion\, wenn sich das Tal in seiner ganzen Weite zeigt. Die Gäste spüren\, dass die Musik hier nicht nur Unterhaltung ist\, sondern eine Art akustisches Abbild der Natur. Sie erkennen die Strukturen wieder: den Rhythmus des Schrittes\, die Stille in der Höhe\, die klare Luft\, die weit trägt. Keine Effekte\, kein Pathos – nur eine ehrliche Darstellung dessen\, was die Landschaft vorgibt. \nWährenddessen geniessen die Gäste im Hotelgarten das BBQ oder wählen im Restaurant Camino feine Gerichte aus. Der Duft von frisch gegrilltem Fleisch und Gemüse mischt sich mit Stimmen und Lachen. Über allem liegt die Musik von Mister Saxr\, die den Abend zusammenhält. Manche Gäste heben den Blick zum Grap Sion Gion\, während sie zuhören\, und viele haben das Gefühl\, dass der Berg selbst Teil des Konzerts ist. Es ist diese Verbindung von Natur\, Kulinarik und Klang\, die den Abend unverwechselbar macht. \nZum Ende reduziert Mister Saxr die Intensität. Er greift Motive vom Anfang wieder auf\, diesmal kürzer\, ruhiger\, wie den Rückweg ins Tal nach einer langen Tour. Sein Spiel wirkt gesammelt und klar. Der letzte Ton steht fest im Raum\, ohne sich aufzulösen\, wie ein Moment des Ankommens. So bleibt der Grap Sion Gion nicht nur als Bild im Gedächtnis\, sondern auch als Klang\, den Mister Saxr im Signina Hotel hörbar gemacht hat.
URL:https://www.saxophonist-live.ch/saxofonist-blog/event/ein-berg-ein-klang-ein-abend-mister-saxr-in-laax/
LOCATION:Signinahotel\, Via Murschetg 15\, Laax\, 7032
CATEGORIES:MisterSaxr Event
ATTACH;FMTTYPE=image/jpeg:https://www.saxophonist-live.ch/saxofonist-blog/wp-content/uploads/2024/08/MisterSaxr_BestOf_Event_Saxophonist_FischersFritz_162916.jpg
END:VEVENT
END:VCALENDAR