BEGIN:VCALENDAR
VERSION:2.0
PRODID:-//MisterSaxr.ch | saxophonist-LIVE.ch | Blog | Firmenanlass Hochzeiten Events Saxofonist Musiker Saxophonist Schweiz Z&uuml;rich - ECPv6.15.8//NONSGML v1.0//EN
CALSCALE:GREGORIAN
METHOD:PUBLISH
X-WR-CALNAME:MisterSaxr.ch | saxophonist-LIVE.ch | Blog | Firmenanlass Hochzeiten Events Saxofonist Musiker Saxophonist Schweiz Z&uuml;rich
X-ORIGINAL-URL:https://www.saxophonist-live.ch/saxofonist-blog
X-WR-CALDESC:Veranstaltungen für MisterSaxr.ch | saxophonist-LIVE.ch | Blog | Firmenanlass Hochzeiten Events Saxofonist Musiker Saxophonist Schweiz Z&uuml;rich
REFRESH-INTERVAL;VALUE=DURATION:PT1H
X-Robots-Tag:noindex
X-PUBLISHED-TTL:PT1H
BEGIN:VTIMEZONE
TZID:Europe/Zurich
BEGIN:DAYLIGHT
TZOFFSETFROM:+0100
TZOFFSETTO:+0200
TZNAME:CEST
DTSTART:20220327T010000
END:DAYLIGHT
BEGIN:STANDARD
TZOFFSETFROM:+0200
TZOFFSETTO:+0100
TZNAME:CET
DTSTART:20221030T010000
END:STANDARD
BEGIN:DAYLIGHT
TZOFFSETFROM:+0100
TZOFFSETTO:+0200
TZNAME:CEST
DTSTART:20230326T010000
END:DAYLIGHT
BEGIN:STANDARD
TZOFFSETFROM:+0200
TZOFFSETTO:+0100
TZNAME:CET
DTSTART:20231029T010000
END:STANDARD
BEGIN:DAYLIGHT
TZOFFSETFROM:+0100
TZOFFSETTO:+0200
TZNAME:CEST
DTSTART:20240331T010000
END:DAYLIGHT
BEGIN:STANDARD
TZOFFSETFROM:+0200
TZOFFSETTO:+0100
TZNAME:CET
DTSTART:20241027T010000
END:STANDARD
END:VTIMEZONE
BEGIN:VEVENT
DTSTART;TZID=Europe/Zurich:20230930T133000
DTEND;TZID=Europe/Zurich:20230930T163000
DTSTAMP:20260423T204037
CREATED:20230830T073050Z
LAST-MODIFIED:20250410T080628Z
UID:3623-1696080600-1696091400@www.saxophonist-live.ch
SUMMARY:Mister Saxr @ Modeshow im Zentrum Witikon
DESCRIPTION:Der renommierte Zürcher Saxophonist\, bekannt unter dem Namen Mister Saxr\, wird erneut eine faszinierende Modeshow begleiten. Diese aufregende Veranstaltung findet im Zentrum von Zürich-Witikon statt und wird von talentierten und aufstrebenden Models präsentiert. Mister Saxr\, der bereits in der Vergangenheit mehrere Modenschauen mit seinem einzigartigen Sound begleitet hat\, wird während der Präsentation der exklusiven Herbst-Winterkollektion der Zürcher Modeboutique auftreten. \nMit seinem aussergewöhnlich warmen und feinen Saxophonsound schafft Mister Saxr eine Atmosphäre\, die perfekt zur Eleganz der präsentierten Kleidungsstücke passt. Das Instrument seiner Wahl ist das Selmer Supreme\, ein innovatives Tenorsaxophon\, das die Welt des Saxophons revolutioniert hat. Mit seinem musikalischen Talent hat Mister Saxr nicht nur den Soundtrack für zahlreiche Modenschauen geliefert\, sondern auch das visuelle Erlebnis der Modedurchgänge bereichert. \nMister Saxr ist kein Unbekannter im Witikon-Viertel\, da er dort seinen Wohnsitz hat und bereits mehrfach im Zentrum aufgetreten ist. Sein vielfältiges musikalisches Repertoire hat bereits Kunden und Publikum weltweit begeistert. Neben seinen Auftritten in Zürich ist der leidenschaftliche Musiker auch in Städten wie München\, Spanien und Italien aufgetreten\, wodurch er eine internationale Fangemeinde gewonnen hat. \nDie bevorstehende Modeshow verspricht eine unvergessliche Veranstaltung zu werden. Die Verbindung von Musik und Mode wird zweifellos eine eindrucksvolle Darbietung schaffen\, die die Gäste in eine Welt der Eleganz und Kreativität entführt.
URL:https://www.saxophonist-live.ch/saxofonist-blog/event/mister-saxr-modeshow-im-zentrum-witikon/
LOCATION:Zentrum Witikon\, Witikonerstrasse 279-299\, Zürich\, 8053
CATEGORIES:MisterSaxr Event
ATTACH;FMTTYPE=image/jpeg:https://www.saxophonist-live.ch/saxofonist-blog/wp-content/uploads/2016/05/Event_Saxofonist.jpg
END:VEVENT
END:VCALENDAR