BEGIN:VCALENDAR
VERSION:2.0
PRODID:-//MisterSaxr.ch | saxophonist-LIVE.ch | Blog | Firmenanlass Hochzeiten Events Saxofonist Musiker Saxophonist Schweiz Z&uuml;rich - ECPv6.15.8//NONSGML v1.0//EN
CALSCALE:GREGORIAN
METHOD:PUBLISH
X-WR-CALNAME:MisterSaxr.ch | saxophonist-LIVE.ch | Blog | Firmenanlass Hochzeiten Events Saxofonist Musiker Saxophonist Schweiz Z&uuml;rich
X-ORIGINAL-URL:https://www.saxophonist-live.ch/saxofonist-blog
X-WR-CALDESC:Veranstaltungen für MisterSaxr.ch | saxophonist-LIVE.ch | Blog | Firmenanlass Hochzeiten Events Saxofonist Musiker Saxophonist Schweiz Z&uuml;rich
REFRESH-INTERVAL;VALUE=DURATION:PT1H
X-Robots-Tag:noindex
X-PUBLISHED-TTL:PT1H
BEGIN:VTIMEZONE
TZID:Europe/Zurich
BEGIN:DAYLIGHT
TZOFFSETFROM:+0100
TZOFFSETTO:+0200
TZNAME:CEST
DTSTART:20230326T010000
END:DAYLIGHT
BEGIN:STANDARD
TZOFFSETFROM:+0200
TZOFFSETTO:+0100
TZNAME:CET
DTSTART:20231029T010000
END:STANDARD
BEGIN:DAYLIGHT
TZOFFSETFROM:+0100
TZOFFSETTO:+0200
TZNAME:CEST
DTSTART:20240331T010000
END:DAYLIGHT
BEGIN:STANDARD
TZOFFSETFROM:+0200
TZOFFSETTO:+0100
TZNAME:CET
DTSTART:20241027T010000
END:STANDARD
BEGIN:DAYLIGHT
TZOFFSETFROM:+0100
TZOFFSETTO:+0200
TZNAME:CEST
DTSTART:20250330T010000
END:DAYLIGHT
BEGIN:STANDARD
TZOFFSETFROM:+0200
TZOFFSETTO:+0100
TZNAME:CET
DTSTART:20251026T010000
END:STANDARD
END:VTIMEZONE
BEGIN:VEVENT
DTSTART;TZID=Europe/Zurich:20240405T170000
DTEND;TZID=Europe/Zurich:20240405T193000
DTSTAMP:20260423T103647
CREATED:20240313T155115Z
LAST-MODIFIED:20250410T080053Z
UID:3794-1712336400-1712345400@www.saxophonist-live.ch
SUMMARY:VIP-Apéro Modeshow mit Mister Saxr
DESCRIPTION:Am Vorabend der Modenschau\, die am Samstag\, dem 6. April\, in Begleitung von Mister Saxr stattfinden wird\, laden wir Sie herzlich zu einem exklusiven VIP-Apéro ein. \nIn einem harmonischen Zusammenspiel von Musik und Mode wird Mister Saxrs einzigartiges Saxophonspiel die Präsentation der Frühjahrskollektion auf eine neue Ebene heben. \nDie Veranstaltung findet im Herzen von Zürich-Witikon statt und wird von talentierten Models präsentiert\, die die neuesten Trends der Saison vorführen. Mister Saxrs leidenschaftliche Interpretationen und sein musikalisches Talent werden die Atmosphäre der Modenschau mit einer unverwechselbaren Note bereichern. \nAls renommierter Zürcher Saxophonist hat Mister Saxr bereits zahlreiche Bühnen mit seinem einzigartigen Sound bereichert und wird auch diesmal das Publikum mit seinem Auftritt begeistern. Seine Performance wird die visuelle Präsentation der Frühjahrskollektion von ergänzen und zu einem unvergesslichen Erlebnis für alle Gäste machen.
URL:https://www.saxophonist-live.ch/saxofonist-blog/event/vip-apero-modeshow-mit-mister-saxr/
LOCATION:Zentrum Witikon\, Witikonerstrasse 293\, Zürich\, ZH\, 805\, Schweiz
CATEGORIES:MisterSaxr Event
ATTACH;FMTTYPE=image/jpeg:https://www.saxophonist-live.ch/saxofonist-blog/wp-content/uploads/2023/07/Saxofonist_SelmerSupreme_MisterSAXR_Zuerich-e1715778949112.jpg
END:VEVENT
END:VCALENDAR