BEGIN:VCALENDAR
VERSION:2.0
PRODID:-//MisterSaxr.ch | saxophonist-LIVE.ch | Blog | Firmenanlass Hochzeiten Events Saxofonist Musiker Saxophonist Schweiz Z&uuml;rich - ECPv6.15.8//NONSGML v1.0//EN
CALSCALE:GREGORIAN
METHOD:PUBLISH
X-WR-CALNAME:MisterSaxr.ch | saxophonist-LIVE.ch | Blog | Firmenanlass Hochzeiten Events Saxofonist Musiker Saxophonist Schweiz Z&uuml;rich
X-ORIGINAL-URL:https://www.saxophonist-live.ch/saxofonist-blog
X-WR-CALDESC:Veranstaltungen für MisterSaxr.ch | saxophonist-LIVE.ch | Blog | Firmenanlass Hochzeiten Events Saxofonist Musiker Saxophonist Schweiz Z&uuml;rich
REFRESH-INTERVAL;VALUE=DURATION:PT1H
X-Robots-Tag:noindex
X-PUBLISHED-TTL:PT1H
BEGIN:VTIMEZONE
TZID:Europe/Zurich
BEGIN:DAYLIGHT
TZOFFSETFROM:+0100
TZOFFSETTO:+0200
TZNAME:CEST
DTSTART:20210328T010000
END:DAYLIGHT
BEGIN:STANDARD
TZOFFSETFROM:+0200
TZOFFSETTO:+0100
TZNAME:CET
DTSTART:20211031T010000
END:STANDARD
BEGIN:DAYLIGHT
TZOFFSETFROM:+0100
TZOFFSETTO:+0200
TZNAME:CEST
DTSTART:20220327T010000
END:DAYLIGHT
BEGIN:STANDARD
TZOFFSETFROM:+0200
TZOFFSETTO:+0100
TZNAME:CET
DTSTART:20221030T010000
END:STANDARD
BEGIN:DAYLIGHT
TZOFFSETFROM:+0100
TZOFFSETTO:+0200
TZNAME:CEST
DTSTART:20230326T010000
END:DAYLIGHT
BEGIN:STANDARD
TZOFFSETFROM:+0200
TZOFFSETTO:+0100
TZNAME:CET
DTSTART:20231029T010000
END:STANDARD
END:VTIMEZONE
BEGIN:VEVENT
DTSTART;TZID=Europe/Zurich:20220804T180000
DTEND;TZID=Europe/Zurich:20220804T220000
DTSTAMP:20260424T190041
CREATED:20220624T092739Z
LAST-MODIFIED:20220624T092739Z
UID:3220-1659636000-1659650400@www.saxophonist-live.ch
SUMMARY:Culture Thursday @ Schweizerhof Flims
DESCRIPTION:Mister Saxr der leidenschaftliche Saxophonist zaubert auf seinem Tenor-Sax\, einem Selmer Mark VI\, die sanftesten Melodien. Seinen eleganten Stil überträgt er auf seine Musik. Ganz der avantgardistischen Art seines Instruments entsprechend. Spielt Mister Saxr nicht nur klassischen Jazz oder Bozza-Nova\, er folgt auch gerne aktuellen Musikrichtungen und Liedern\, welche er dann mit einer individuellen Note versehen wiedergibt. Die feinen Klänge des Saxophons eigenen sich ausserdem hervorragend für sowohl klassische als auch feine Musik im Hintergrund. Die Vielseitigkeit des Instruments und der Kreativität seines Spielers sind keine Grenzen auferlegt. Mister Saxr ist ideal dafür\, einen ganzen Anlass\, stets passend\, musikalisch zu umrahmen. \nIm 4-Sterne Romantik-Hotel in Flims ist Mister Saxr bereits ein bekannter und gern gesehener Künstler. Mit seiner Musik schafft er ein jedes Mal ein besonderes Ambiente. \nAm «Culture Thursday» lädt das Hotel seine Gäste zu einem entspannten Abendessen inklusive Apéro und Schlummertrunk. Das einzigartige Bergkulisse der Bündner Alpen und die feine Küche des Schweizerhofs bieten eine wunderbare Oase des Genusses. Mister Saxr währenddessen unterhält die Kulinariker mit seinen schönsten Melodien und Liedern\, so kommen alle Anwesenden in den Genuss eines unbeschwerten Abends\, der zum Verweilen einlädt. Ein Moment Ferienstimmung mitten in den Schweizer Bergen.
URL:https://www.saxophonist-live.ch/saxofonist-blog/event/culture-thursday-schweizerhof-flims/
LOCATION:Hotel Schweizerhof Flims\, Rudi Dadens 1\, Flims Waldhaus\, Graubünden\, 7018\, Schweiz
CATEGORIES:MisterSaxr Event
ATTACH;FMTTYPE=image/jpeg:https://www.saxophonist-live.ch/saxofonist-blog/wp-content/uploads/2016/10/saxophon.jpg
END:VEVENT
BEGIN:VEVENT
DTSTART;TZID=Europe/Zurich:20220819T173000
DTEND;TZID=Europe/Zurich:20220819T233000
DTSTAMP:20260424T190041
CREATED:20220715T115408Z
LAST-MODIFIED:20220715T115639Z
UID:3262-1660930200-1660951800@www.saxophonist-live.ch
SUMMARY:Hochzeit mit Mister Saxr
DESCRIPTION:Mister Saxr\, der leidenschaftliche und elegante Saxophonist\, verleiht jedem Anlass einen Hauch von Noblesse. \nSein Tenor-Saxophon\, aus dem Hause Selmer\, ist geradezu prädestiniert für romantische Anlässe wie eine Hochzeit. Die feinen Töne kommen gerade bei Love-Songs besonders zur Geltung und verstärken deren romantische Wirkung. Mister Saxr beherrscht jedoch auch alle anderen\, gängigen Genres wie Pop\, Rock\, Disco/Dance und natürlich aktuellen Hits sowie Klassikern aus vergangenen Jahrzenten. Seine Leidenschaft für die Musik ist spürbar und überträgt sich auf seine Zuhörer\, was jedes Lied zu einem speziellen Erlebnis für alle macht. \nDie Isole di Brissago auf dem Lago Maggiore\, als Hochzeits-Location verbindet ein Natur-Spektakel mit Luxus. Die gesamte Insel steht den Gästen zur Verfügung. Der botanische Garten wie auch das subtropische Klima verleihen der Feier das Prädikat eines wahrhaftigen VIP-Anlasses. \nEine kleine Oase bringt sowohl mediterranische Düfte als auch die Farben Südafrikas ins Tessin. \nDie feine Musik Misters Saxr und sein eleganter Stil werden unter diesen Bedingungen bestens zur Geltung kommen.
URL:https://www.saxophonist-live.ch/saxofonist-blog/event/hochzeit-mit-mister-saxr-6/
LOCATION:Isole di Brissago\, Tessin
CATEGORIES:MisterSaxr Event
ATTACH;FMTTYPE=image/jpeg:https://www.saxophonist-live.ch/saxofonist-blog/wp-content/uploads/2019/03/Saxophonist-Musiker-Schiff-Boot-Walensee-Murtensee-1-e1686304064556.jpg
END:VEVENT
BEGIN:VEVENT
DTSTART;TZID=Europe/Zurich:20220825T193000
DTEND;TZID=Europe/Zurich:20220825T220000
DTSTAMP:20260424T190041
CREATED:20220713T084715Z
LAST-MODIFIED:20220713T084715Z
UID:3239-1661455800-1661464800@www.saxophonist-live.ch
SUMMARY:Duftaward
DESCRIPTION:Mister Saxr\, der leidenschaftliche Saxophonist\, zeigt sein Können an den diesjährigen Duftawards in Zürcher Hyatt Park. Mister Saxr beweist eindrücklich\, dass ein Saxophon viel mehr kann als bloss Smoth Jazz oder sanfte Musik im Hintergrund. Mister Saxr steht live auf der Hauptbühne und begeistert sein Publikum mit aktuellen Hits aber auch geliebten Evergreens\, die er auf seinem Instrument mit einem wunderbaren Hauch Individualität verseht. Mister Saxrs Stücke sind somit auf ihre Weise einzigartig und unterhaltsam. Die Leidenschaft dahinter macht jeden Song zu einem Highlight. Begleitet wird der Künstler von einer Überraschungs-Sängerin. Diese einzigartige Kombination verspricht beste Unterhaltung und ein noch nie dagewesenes Musik-Erlebnis. \nDas Park Hyatt im Herzen der Stadt Zürich verspricht Luxus und Gelassenheit und Kunst. Eine herausragende Küche\, Fitness\, Spa sowie wunderschöne Zimmer und Suiten aber auch geschmacksvolle Eventlocations bieten ein einmaliges Erlebnis mittig zwischen dem Zürichsee und der Altstadt. \nDie Duftawards\, der Parfümerie-Branche zeichnen die Höhepunkte des vergangenen Jahres aus. Die Veranstalter und Gäste erwartet einen wunderschönen Abend mit in einer stillvollen und zeitgemäss eingerichteten Location und natürlich bester musikalischer Unterhaltung. So erfährt neben dem Geruchssinn auch das Gehör ein Verwöhn-Erlebnis der Sonderklasse.
URL:https://www.saxophonist-live.ch/saxofonist-blog/event/duftaward/
LOCATION:Park Hyatt Zürich\, Beethovenstrasse 21\, Zürich\, 8002\, Schweiz
CATEGORIES:MisterSaxr Event
ATTACH;FMTTYPE=image/jpeg:https://www.saxophonist-live.ch/saxofonist-blog/wp-content/uploads/2016/10/saxophon.jpg
END:VEVENT
END:VCALENDAR