BEGIN:VCALENDAR
VERSION:2.0
PRODID:-//MisterSaxr.ch | saxophonist-LIVE.ch | Blog | Firmenanlass Hochzeiten Events Saxofonist Musiker Saxophonist Schweiz Z&uuml;rich - ECPv6.15.8//NONSGML v1.0//EN
CALSCALE:GREGORIAN
METHOD:PUBLISH
X-ORIGINAL-URL:https://www.saxophonist-live.ch/saxofonist-blog
X-WR-CALDESC:Veranstaltungen für MisterSaxr.ch | saxophonist-LIVE.ch | Blog | Firmenanlass Hochzeiten Events Saxofonist Musiker Saxophonist Schweiz Z&uuml;rich
REFRESH-INTERVAL;VALUE=DURATION:PT1H
X-Robots-Tag:noindex
X-PUBLISHED-TTL:PT1H
BEGIN:VTIMEZONE
TZID:Europe/Zurich
BEGIN:DAYLIGHT
TZOFFSETFROM:+0100
TZOFFSETTO:+0200
TZNAME:CEST
DTSTART:20220327T010000
END:DAYLIGHT
BEGIN:STANDARD
TZOFFSETFROM:+0200
TZOFFSETTO:+0100
TZNAME:CET
DTSTART:20221030T010000
END:STANDARD
BEGIN:DAYLIGHT
TZOFFSETFROM:+0100
TZOFFSETTO:+0200
TZNAME:CEST
DTSTART:20230326T010000
END:DAYLIGHT
BEGIN:STANDARD
TZOFFSETFROM:+0200
TZOFFSETTO:+0100
TZNAME:CET
DTSTART:20231029T010000
END:STANDARD
BEGIN:DAYLIGHT
TZOFFSETFROM:+0100
TZOFFSETTO:+0200
TZNAME:CEST
DTSTART:20240331T010000
END:DAYLIGHT
BEGIN:STANDARD
TZOFFSETFROM:+0200
TZOFFSETTO:+0100
TZNAME:CET
DTSTART:20241027T010000
END:STANDARD
END:VTIMEZONE
BEGIN:VEVENT
DTSTART;TZID=Europe/Zurich:20230404T190000
DTEND;TZID=Europe/Zurich:20230404T210000
DTSTAMP:20260424T084921
CREATED:20230317T102324Z
LAST-MODIFIED:20230317T102324Z
UID:3440-1680634800-1680642000@www.saxophonist-live.ch
SUMMARY:Vernissage
DESCRIPTION:Mister Saxr\, der leidenschaftliche Saxophonist aus Zürich\, wird bald einen besonderen Auftritt in der historischen Wasserkirche haben. Mit seinem talentierten Spiel auf dem Selmer Tenorsaxophon wird er die besondere Atmosphäre des Kirchenraums mit seiner Musik bereichern. \nSein breitgefächertes Repertoire reicht von klassischem Jazz bis hin zu modernen Pop- und Funk-Songs\, die er in seinem eigenen\, unverwechselbaren Stil interpretiert. Egal\, ob Sie auf der Suche nach einer sanften\, entspannten Atmosphäre oder nach einem energiegeladenen Auftritt mit aktuellen Hits oder RnB sind\, Mister Saxr wird seine Musik perfekt auf die besondere Umgebung und den Anlass abstimmen. \nDank seiner langjährigen Erfahrung und seiner Fähigkeit\, sich auf jedes Publikum einzustellen\, wird Mister Saxr die Gäste in der Wasserkirche begeistern und für eine unvergessliche musikalische Erfahrung sorgen. \nDie Wasserkirche in Zürich ist bekannt für ihre einzigartige Atmosphäre und ihren historischen Charme. Mit seiner Musik wird Mister Saxr dazu beitragen\, diese besondere Umgebung zu einem unvergesslichen Erlebnis zu machen. \nUnvergesslich\, sogar rekordverdächtig soll dieser Dienstag werden. Das vom Blumen-Krämer aus Zürich\, gefertigte Osterei soll nämlich zum grössten seiner Art werden\, inklusive einem Eintrag in Guinnessbuch der Rekorde! Ein Geschichtsträchtiger Moment im Zentrum der Stadt Zürich.
URL:https://www.saxophonist-live.ch/saxofonist-blog/event/vernissage/
LOCATION:Wasserkirche Zürich\, Limmatquai 31\, Zürich\, 8001
CATEGORIES:MisterSaxr Event
ATTACH;FMTTYPE=image/jpeg:https://www.saxophonist-live.ch/saxofonist-blog/wp-content/uploads/2016/10/saxophon.jpg
END:VEVENT
BEGIN:VEVENT
DTSTART;TZID=Europe/Zurich:20230413T180000
DTEND;TZID=Europe/Zurich:20230413T193000
DTSTAMP:20260424T084921
CREATED:20230227T114646Z
LAST-MODIFIED:20230427T113838Z
UID:3377-1681408800-1681414200@www.saxophonist-live.ch
SUMMARY:Corporate Event Baden
DESCRIPTION:Mister Saxr der leidenschaftliche Saxophonist zaubert auf seinem Tenor-Sax\, einem Selmer Mark VI\, die sanftesten Melodien. Seinen eleganten Stil überträgt er auf seine Musik. Ganz der avantgardistischen Art seines Instruments entsprechend. Spielt Mister Saxr nicht nur klassischen Jazz oder Bozza-Nova\, er folgt auch gerne aktuellen Musikrichtungen und Liedern\, welche er dann mit einer individuellen Note versehen wiedergibt. Die feinen Klänge des Saxophons eigenen sich ausserdem hervorragend für sowohl klassische als auch feine Musik im Hintergrund. Die Vielseitigkeit des Instruments und der Kreativität seines Spielers sind keine Grenzen auferlegt. Mister Saxr ist ideal dafür\, einen ganzen Anlass\, stets passend\, musikalisch zu umrahmen\, so ist stets für die perfekte Atmosphäre gesorgt. \nDer Corporate Event einer Firma in der Baubranche\, dieses Jahr ein der Aargauischen Stadt Baden\, soll den Gästen einige Höhepunkte bieten. Stattfinden wird der Anlass im beliebten Freizeitziel\, dem Historischen Museum Baden. \nDas Museum befindet sich im historischen Landvogteischloss\, direkt an der Limmat. Bis Ende des 18. Jahrhunderts\, beherbergte das Schloss die Landvögte der Stadt. Danach ging es in den Besitz des Kanton Aargaus über und diente sowohl als Schule\, wie zeitweilig auch als Gefängnis. In den 1910er wurde das Schloss vom Schweizer Architekten\, Otto Dorer restauriert und umgebaut und dient seither als Museum mit mittlerweile über 2000 Ausstellungsstücken. \nDie Stadt Baden verbindet viel mit ihrer Tradition als Bäderstadt und so ist die Region auch heute noch dafür bekannt. Das Historische Museum ist der ideale Ort die Tradition mit der Gegenwart des heutigen Schwimmbadbaus zu verbinden. \nNeben diversen Angeboten dürfen die geladenen Gäste an einem feinen Apéro riche mit entspannender und sogleich Aufregender Sax-Musik im Hintergrund erfreuen.
URL:https://www.saxophonist-live.ch/saxofonist-blog/event/corporate-event-baden/
LOCATION:Terrassenbad Baden\, Pfisterstrasse 1\, Baden\, 5400\, Schweiz
CATEGORIES:MisterSaxr Event
ATTACH;FMTTYPE=image/jpeg:https://www.saxophonist-live.ch/saxofonist-blog/wp-content/uploads/2016/10/saxophon.jpg
END:VEVENT
END:VCALENDAR