BEGIN:VCALENDAR
VERSION:2.0
PRODID:-//MisterSaxr.ch | saxophonist-LIVE.ch | Blog | Firmenanlass Hochzeiten Events Saxofonist Musiker Saxophonist Schweiz Z&uuml;rich - ECPv6.15.8//NONSGML v1.0//EN
CALSCALE:GREGORIAN
METHOD:PUBLISH
X-ORIGINAL-URL:https://www.saxophonist-live.ch/saxofonist-blog
X-WR-CALDESC:Veranstaltungen für MisterSaxr.ch | saxophonist-LIVE.ch | Blog | Firmenanlass Hochzeiten Events Saxofonist Musiker Saxophonist Schweiz Z&uuml;rich
REFRESH-INTERVAL;VALUE=DURATION:PT1H
X-Robots-Tag:noindex
X-PUBLISHED-TTL:PT1H
BEGIN:VTIMEZONE
TZID:Europe/Zurich
BEGIN:DAYLIGHT
TZOFFSETFROM:+0100
TZOFFSETTO:+0200
TZNAME:CEST
DTSTART:20220327T010000
END:DAYLIGHT
BEGIN:STANDARD
TZOFFSETFROM:+0200
TZOFFSETTO:+0100
TZNAME:CET
DTSTART:20221030T010000
END:STANDARD
BEGIN:DAYLIGHT
TZOFFSETFROM:+0100
TZOFFSETTO:+0200
TZNAME:CEST
DTSTART:20230326T010000
END:DAYLIGHT
BEGIN:STANDARD
TZOFFSETFROM:+0200
TZOFFSETTO:+0100
TZNAME:CET
DTSTART:20231029T010000
END:STANDARD
BEGIN:DAYLIGHT
TZOFFSETFROM:+0100
TZOFFSETTO:+0200
TZNAME:CEST
DTSTART:20240331T010000
END:DAYLIGHT
BEGIN:STANDARD
TZOFFSETFROM:+0200
TZOFFSETTO:+0100
TZNAME:CET
DTSTART:20241027T010000
END:STANDARD
END:VTIMEZONE
BEGIN:VEVENT
DTSTART;TZID=Europe/Zurich:20231103T203000
DTEND;TZID=Europe/Zurich:20231103T210000
DTSTAMP:20260424T000523
CREATED:20230829T101956Z
LAST-MODIFIED:20230829T102107Z
UID:3615-1699043400-1699045200@www.saxophonist-live.ch
SUMMARY:MisterSaxr: Der leidenschaftliche Saxophonist aus Zürich
DESCRIPTION:Mit den sanften Klängen seines Saxophons verzaubert MisterSaxr die Musikszene Zürichs und darüber hinaus. Seine Liebe zur Musik und seine Virtuosität auf dem Saxophon machen ihn zu einem aussergewöhnlichen Künstler\, der die Herzen der Zuhörer im Sturm erobert. \nIn Kürze tritt Mister Saxr bei einem exklusiven Corporate Event der Armin Hunziker AG auf\, das im angesagten Zürcher Kreis 4 stattfindet. Das Saxophonspiel von Mister Saxr verleiht dem Abend eine unvergleichliche Atmosphäre und trägt zur Eleganz des Events bei. Mit seinem bemerkenswerten Talent und seinem Selmer Supreme Saxophon entführt er die Gäste in eine Welt der Musik\, die Emotionen weckt und die Sinne berührt. \nUm für eine lockere Stimmung und ein angenehmes Ambiente zu sorgen\, hält Mister Saxr eine breite Palette an Liedern bereit. Von klassischem Smooth-Jazz über Pop bis hin zu Dance und Disco. Zusätzlich wird sein Programm von aktuellen Hits sowie denn schönsten Evergreens aller Zeiten ergänzt. Ein abwechslungsreicher und unterhaltsamer Auftritt\, passend zu diesem aufstrebenden und spannenden Zürcher-Viertel. \nDer Zürcher Kreis 4\, bekannt für seine lebendige Ausgehkultur\, hat sich in den letzten Jahren zu einem trendigen Quartier gewandelt. Hier treffen Tradition und Moderne aufeinander\, und genau in diesem pulsierenden Umfeld setzte Mister Saxr seine Melodien ein. Seine Musik fügte sich nahtlos in die aufstrebende Atmosphäre des Viertels ein\, während er die Gäste mit seinen klangvollen Improvisationen und eleganten Saxophontönen begeisterte. \nMister Saxr ist nicht nur ein begnadeter Musiker\, sondern auch ein Geschichtenerzähler. Seine Melodien erzählen von Leidenschaft\, Sehnsucht und Freude und schaffen so eine Verbindung zwischen ihm und seinem Publikum. Sein Auftritt bei der Armin Hunziker AG verdeutlichte seine Fähigkeit\, die Stimmung einer Veranstaltung zu beeinflussen und ihr eine besondere Note zu verleihen. \nWenn Mister Saxr sein Saxophon zum Leben erweckt\, entfaltet sich eine magische Welt aus Tönen und Emotionen. Seine Musik geht unter die Haut und hinterlässt einen bleibenden Eindruck. Egal\, ob auf der Bühne eines Unternehmensevents oder in den belebten Strassen Asconas\, Mister Saxr verbindet Menschen mit seiner Musik und lässt sie den Moment in vollen Zügen geniessen.
URL:https://www.saxophonist-live.ch/saxofonist-blog/event/mister-saxr-der-leidenschaftliche-saxophonist-aus/
LOCATION:Armin Hunziker AG\, Kanzleistrasse 112\, Zürich\, 8004\, Schweiz
CATEGORIES:MisterSaxr Event
ATTACH;FMTTYPE=image/jpeg:https://www.saxophonist-live.ch/saxofonist-blog/wp-content/uploads/2023/03/Mister-Saxr_Zürich.jpg
END:VEVENT
BEGIN:VEVENT
DTSTART;TZID=Europe/Zurich:20231115T180000
DTEND;TZID=Europe/Zurich:20231115T200000
DTSTAMP:20260424T000523
CREATED:20230317T115328Z
LAST-MODIFIED:20230406T091405Z
UID:3443-1700071200-1700078400@www.saxophonist-live.ch
SUMMARY:Dinetainment die neue Musikshow
DESCRIPTION:Erleben Sie einen unvergesslichen Abend im Zunfthaus zur Hard mit dem neuen und einzigartigen Format “Dinetainment”. Dieses Event bietet eine perfekte Kombination aus Unterhaltung\, Musik und kulinarischen Köstlichkeiten und ist somit sowohl für private als auch als Corporate-Anlass die ideale Gelegenheit\, einen ganz besonderen Abend zu geniessen. \nDer Abend beginnt mit einem feinen 3-Gänge-Menü aus der fantastischen Küche des Hauses\, das Ihnen den Gaumen verwöhnen wird. Während des Abends werden Sie von packender Unterhaltung und mitreißender Musik begleitet. Der Moderationsprofi Hugo Bigi führt mit ansprechenden Themen und mitreißenden Geschichten durch den gesamten Abend. Begleitet wird er von den Sängerinnen Gery Ninaus und Isabel Florido\, dem Pianisten Gino Todesco und dem passionierten Saxophonisten Mister Saxr. Beste Unterhaltung auf informativer und musikalischer Ebene erwartet Sie – ein einzigartiges und mitreissendes Kultur-Erlebnis. \nMister Saxr begeistert mit seiner Leidenschaft und seinem Talent am Tenor-Saxophon. Sein Repertoire reicht von gemütlichem Smooth-Jazz und Bossa-Nova bis hin zu aktuellen Hits aus den Genres RNB\, Hip-Hop oder Dance-Musik. Ob als gemütlicher Hintergrund oder als Hauptakt auf der Bühne – Mister Saxr schafft eine musikalische Atmosphäre der Extraklasse. \nHugo Bigi\, Dr. phil.\, ist nicht nur ein Hochschuldozent und Kommunikationsexperte sowie Spezialist für Auftrittskompetenz und Medientraining\, sondern auch ein begnadeter Musiker und Sänger. Gery Ninaus\, mit über 15-jähriger Erfahrung als Frontfrau der Band Ninaus und über 600 Auftritten in den letzten 5 Jahren\, verfügt über eine wandelbare Stimme\, die vom vielseitigen Tenor-Saxophon ideal begleitet wird. Isabel Florido\, die bekannte TV-Moderatorin\, Schauspielerin und ausgebildete Sängerin\, beeindruckt mit ihrer ausdrucksstarken und mitreissenden Stimme. Gino Todesco\, Meister auf den Tasten\, ist als Pianist\, Keyboarder und Arrangeur in den verschiedensten Stilrichtungen zuhause und begeistert mit seinem ungewöhnlich weitreichenden Repertoire\, das auch Lieder aus den 20er und 30er Jahren des letzten Jahrhunderts umfasst. \nDas Restaurant Werdguet ist ein fester Bestandteil der Zürcher Gastronomie-Szene und bietet eine traditionelle sowie internationale Küche auf höchstem Niveau. Die gemütliche Atmosphäre des Hauses und die herausragende Qualität der Küche machen das Restaurant zu einem beliebten Ziel für Genießer. Mit fünf Sternen bewertet auf Lunchgate\, einem der führenden Bewertungsportale in der Schweiz\, ist das Restaurant ein Garant für einen unvergesslichen kulinarischen Genuss. \nLassen Sie sich von diesem einzigartigen Erlebnis begeistern und geniessen Sie einen Abend voller Unterhaltung\, Musik und kulinarischer Köstlichkeiten im Zunfthaus zur Hard. Ob als Paar oder mit Freunden\, hier erwartet Sie eine unvergessliche Nacht. \nANMELDUNG
URL:https://www.saxophonist-live.ch/saxofonist-blog/event/dinetainment-2/
LOCATION:Restaurant Werdguet\, Morgartenstrasse 30\, Zürich\, 8004
CATEGORIES:MisterSaxr Event
ATTACH;FMTTYPE=image/jpeg:https://www.saxophonist-live.ch/saxofonist-blog/wp-content/uploads/2023/03/Dinetainment_Mister-Saxr-e1719581503510.jpg
END:VEVENT
BEGIN:VEVENT
DTSTART;TZID=Europe/Zurich:20231118T183000
DTEND;TZID=Europe/Zurich:20231118T223000
DTSTAMP:20260424T000523
CREATED:20231108T091653Z
LAST-MODIFIED:20231108T091653Z
UID:3707-1700332200-1700346600@www.saxophonist-live.ch
SUMMARY:Firmenweihnachtsfeier
DESCRIPTION:Wenn die winterlichen Strassen Zürichs unter einem funkelnden Lichtermeer erstrahlen und die festliche Vorfreude in der Luft liegt\, bereitet sich das Restaurant Bocuci\, dieses versteckte Juwel nahe des Zürcher Landesmuseums\, auf ein besonderes Event vor. In wenigen Wochen wird hier eine exklusive Firmenweihnachtsfeier stattfinden\, und ein Highlight des Abends wird zweifellos der musikalische Auftritt von Mister Saxr sein. \nMister Saxr zeichnet sich nicht nur durch seine technische Expertise am Saxophon aus\, sondern vor allem durch seine Leidenschaft für die Musik. Es ist diese innere Flamme\, die seinen Auftritten Tiefe und Authentizität verleiht. Jeder Ton\, den er aus seinem Saxophon hervorbringt\, ist ein Ausdruck seiner Liebe zum Handwerk und zum Musizieren. \nDie Gäste des Bocuci dürfen sich auf einen Abend freuen\, der alle Sinne anspricht. Während sie sich an den authentischen italienischen Spezialitäten erfreuen\, die das Restaurant bekannt gemacht haben\, werden sie von den Melodien von Mister Saxr verzaubert. Sein Repertoire reicht von sanftem Smooth Jazz und verträumter Bossa Nova\, ideal für den Aperitif\, bis hin zu energiegeladenem Pop\, Rock und den aktuellsten Hits. Aber\, und das ist das Besondere an diesem Abend\, er wird auch die zeitlosen Weihnachtsklassiker zum Besten geben. \nWas diesen Abend besonders machen wird\, ist die Fähigkeit von Mister Saxr\, sich direkt auf seine Zuhörer einzulassen. Jeder Ton\, den er spielt\, jede Melodie\, die er formt\, wird dazu beitragen\, die Atmosphäre des Raumes zu gestalten. Durch seine Musik kann er die Stimmung heben oder beruhigen\, je nachdem\, was der Moment erfordert. Man kann sich vorstellen\, wie der Klang seines Saxophons die Gespräche verstummen lässt\, alle Blicke sich auf ihn richten und die Anwesenden für einen Moment den Alltag vergessen lassen. \nDie Weihnachtszeit ist eine Zeit des Zusammenseins\, der Reflexion und der Freude. Mit Mister Saxr am Saxophon wird das Bocuci seinen Gästen eine unvergessliche Nacht schenken\, die all diese Emotionen einfängt und sie durch die Kraft der Musik zum Ausdruck bringt. Es wird ein Abend\, an dem Geschichten erzählt\, Erinnerungen geteilt und neue geschaffen werden\, alles untermalt von den bezaubernden Klängen eines Saxophons. \nIn der winterlichen Kulisse Zürichs\, wo das Festliche und das Alltägliche aufeinandertreffen\, wird das Bocuci mit Mister Saxr ein Stück Weihnachts-Zauber schaffen. wird.
URL:https://www.saxophonist-live.ch/saxofonist-blog/event/firmenweihnachtsfeier/
LOCATION:Restaurant Bocuci\, St. Leonhardstrasse 1\, Zürich\, 8001\, Schweiz
CATEGORIES:MisterSaxr Event
ATTACH;FMTTYPE=image/jpeg:https://www.saxophonist-live.ch/saxofonist-blog/wp-content/uploads/2022/12/Mister-SAXR-Razzia.jpg
END:VEVENT
END:VCALENDAR