BEGIN:VCALENDAR
VERSION:2.0
PRODID:-//MisterSaxr.ch | saxophonist-LIVE.ch | Blog | Firmenanlass Hochzeiten Events Saxofonist Musiker Saxophonist Schweiz Z&uuml;rich - ECPv6.15.8//NONSGML v1.0//EN
CALSCALE:GREGORIAN
METHOD:PUBLISH
X-ORIGINAL-URL:https://www.saxophonist-live.ch/saxofonist-blog
X-WR-CALDESC:Veranstaltungen für MisterSaxr.ch | saxophonist-LIVE.ch | Blog | Firmenanlass Hochzeiten Events Saxofonist Musiker Saxophonist Schweiz Z&uuml;rich
REFRESH-INTERVAL;VALUE=DURATION:PT1H
X-Robots-Tag:noindex
X-PUBLISHED-TTL:PT1H
BEGIN:VTIMEZONE
TZID:Europe/Zurich
BEGIN:DAYLIGHT
TZOFFSETFROM:+0100
TZOFFSETTO:+0200
TZNAME:CEST
DTSTART:20230326T010000
END:DAYLIGHT
BEGIN:STANDARD
TZOFFSETFROM:+0200
TZOFFSETTO:+0100
TZNAME:CET
DTSTART:20231029T010000
END:STANDARD
BEGIN:DAYLIGHT
TZOFFSETFROM:+0100
TZOFFSETTO:+0200
TZNAME:CEST
DTSTART:20240331T010000
END:DAYLIGHT
BEGIN:STANDARD
TZOFFSETFROM:+0200
TZOFFSETTO:+0100
TZNAME:CET
DTSTART:20241027T010000
END:STANDARD
BEGIN:DAYLIGHT
TZOFFSETFROM:+0100
TZOFFSETTO:+0200
TZNAME:CEST
DTSTART:20250330T010000
END:DAYLIGHT
BEGIN:STANDARD
TZOFFSETFROM:+0200
TZOFFSETTO:+0100
TZNAME:CET
DTSTART:20251026T010000
END:STANDARD
END:VTIMEZONE
BEGIN:VEVENT
DTSTART;TZID=Europe/Zurich:20240406T110000
DTEND;TZID=Europe/Zurich:20240406T170000
DTSTAMP:20260423T173204
CREATED:20240313T155440Z
LAST-MODIFIED:20250410T075522Z
UID:3796-1712401200-1712422800@www.saxophonist-live.ch
SUMMARY:Mister Saxr - Saxophonist im Zentrum Witikon
DESCRIPTION:Am Samstag\, den 6. April\, wird Mister Saxr sechs Models bei einer  Frühjahrsmodenschau im Zentrum Witikon begleiten. Mister Saxr\, der renommierte Zürcher Saxophonist\, wird erneut eine Modenschau im Zentrum Witikon begleiten. Diese aufregende Veranstaltung wird im Herzen von Zürich-Witikon stattfinden und von talentierten aufstrebenden Models präsentiert werden. \nMit seinem einzigartigen Sound hat Mister Saxr bereits in der Vergangenheit mehrere Modenschauen begleitet und wird auch diesmal während der Präsentation der exklusiven Kollektion der Zürcher Modeboutique auftreten. Sein warmes und feines Saxophonspiel schafft eine Atmosphäre\, die perfekt zur Eleganz der vorgestellten Kleidungsstücke passt. Mister Saxrs Instrument der Wahl\, das Selmer Supreme Tenorsaxophon\, hat die Welt des Saxophons revolutioniert und wird zweifellos das visuelle Erlebnis der Modenschau bereichern. \nDas Selmer Supreme Saxophon\, eingeführt im Jahr 2021\, repräsentiert den Höhepunkt von über einem Jahrhundert Erfahrung und Innovation des französischen Herstellers Henri Selmer Paris. Dieses Modell kombiniert die herausragenden Eigenschaften früherer Modelle und bietet eine ausgewogene Intonation\, vielfältige Klangfarben und eine außergewöhnliche Ansprache. Die Entwicklung des Supreme dauerte acht Jahre und zielte darauf ab\, ein Saxophon zu schaffen\, das die natürlichen Einschränkungen des Instruments überwindet und sowohl traditionelle als auch moderne Anforderungen erfüllt. Besondere Merkmale sind ein neu gestalteter S-Bogen und Becher\, optimierte Tonlöcher sowie eine vollständig überarbeitete Ergonomie\, die den Spielkomfort erhöht. \nMister Saxr ist kein Unbekannter im Zürcher Stadtviertel Witikon\, da er dort seinen Wohnsitz hat und bereits mehrfach im Zentrum aufgetreten ist. Sein musikalisches Talent hat bereits ein internationales Publikum begeistert\, und neben seinen Auftritten in Zürich hat er auch in Städten wie München\, Spanien und Italien seine Leidenschaft für die Musik geteilt. \nDie Verbindung von Musik und Mode wird zweifellos eine eindrucksvolle Darbietung schaffen\, die die Gäste in eine Welt der Eleganz und Kreativität entführt.
URL:https://www.saxophonist-live.ch/saxofonist-blog/event/mister-saxr-saxophonist-im-zentrum-witikon/
LOCATION:Zentrum Witikon\, Witikonerstrasse 293\, Zürich\, ZH\, 805\, Schweiz
CATEGORIES:MisterSaxr Event
ATTACH;FMTTYPE=image/jpeg:https://www.saxophonist-live.ch/saxofonist-blog/wp-content/uploads/2018/08/Mister_Saxr_Event-Saxophonist.jpeg
END:VEVENT
BEGIN:VEVENT
DTSTART;TZID=Europe/Zurich:20240408T170000
DTEND;TZID=Europe/Zurich:20240408T213000
DTSTAMP:20260423T173204
CREATED:20240216T100413Z
LAST-MODIFIED:20240304T140421Z
UID:3766-1712595600-1712611800@www.saxophonist-live.ch
SUMMARY:20 Jahre Cottonfield Family Office
DESCRIPTION:Die Skyline von Zürich und der malerische Blick auf den See\, bietet die perfekte Kulisse für geschäftliche Veranstaltungen der Spitzenklasse. Inmitten dieses pulsierenden Geschäftszenariums plant eine renommierte Finanzgesellschaft einen besonders eleganten Corporate Anlass. \nZur musikalischen Gestaltung dieses Events wurde Mister Saxr\, der leidenschaftliche Saxophonist\, auserwählt. Sein Repertoire\, das sich zwischen entspannender Lounge-Musik und belebendem Smooth Jazz bewegt\, verspricht eine Atmosphäre\, die sowohl professionell als auch entspannend ist. \nIn der heutigen Geschäftswelt sind solche Momente der Entspannung und des Genusses von grosser Bedeutung. Sie bieten Gelegenheiten zum Netzwerken\, zum informellen Austausch und schaffen Erlebnisse\, die in Erinnerung bleiben. Mister Saxrs Musik wird dabei nicht nur Hintergrund sein\, sondern auch ein bindendes Element\, das diesen Anlass zu etwas Besonderem macht. \nWährend solcher Anlässe suchen Unternehmen oft nach einer eleganten\, aber dennoch lockeren musikalischen Untermalung. Mister Saxr bietet genau das. Seine Fähigkeit\, sowohl beruhigende als auch belebende Töne zu erzeugen\, passt perfekt zu solch einem geschäftlichen Hintergrund\, ohne jemals aufdringlich zu wirken. \nSein Können wird durch das Instrument\, das er spielt\, noch unterstrichen. Das Saxophon Selmer Supreme\, welches er letztes Jahr erworben hat\, ist ein wahres Meisterwerk moderner Instrumentenbaukunst. Dieses Modell\, das für seine überragende Klangfarbe und seine unvergleichliche technische Präzision bekannt ist\, bietet Saxophonisten völlig neue Möglichkeiten. Dank der innovativen Mechanik und des optimierten Designs können Musiker wie Mister Saxr ihre Fähigkeiten noch besser zur Geltung bringen. Das Ergebnis? Eine Klangfülle und Musikalität\, die die Gäste in ihren Bann ziehen wird.
URL:https://www.saxophonist-live.ch/saxofonist-blog/event/20-jahre-cottonfield-family-office/
LOCATION:Widdersaal Widder Hotel\, Rennweg 7\, Zürich\, 8001\, Schweiz
CATEGORIES:MisterSaxr Event
ATTACH;FMTTYPE=image/jpeg:https://www.saxophonist-live.ch/saxofonist-blog/wp-content/uploads/2023/06/MisterSAXR_Saxofonist_Saxophonist_Schweiz_Zuerich_Event2.jpg
END:VEVENT
END:VCALENDAR