BEGIN:VCALENDAR
VERSION:2.0
PRODID:-//MisterSaxr.ch | saxophonist-LIVE.ch | Blog | Firmenanlass Hochzeiten Events Saxofonist Musiker Saxophonist Schweiz Z&uuml;rich - ECPv6.15.8//NONSGML v1.0//EN
CALSCALE:GREGORIAN
METHOD:PUBLISH
X-ORIGINAL-URL:https://www.saxophonist-live.ch/saxofonist-blog
X-WR-CALDESC:Veranstaltungen für MisterSaxr.ch | saxophonist-LIVE.ch | Blog | Firmenanlass Hochzeiten Events Saxofonist Musiker Saxophonist Schweiz Z&uuml;rich
REFRESH-INTERVAL;VALUE=DURATION:PT1H
X-Robots-Tag:noindex
X-PUBLISHED-TTL:PT1H
BEGIN:VTIMEZONE
TZID:Europe/Zurich
BEGIN:DAYLIGHT
TZOFFSETFROM:+0100
TZOFFSETTO:+0200
TZNAME:CEST
DTSTART:20230326T010000
END:DAYLIGHT
BEGIN:STANDARD
TZOFFSETFROM:+0200
TZOFFSETTO:+0100
TZNAME:CET
DTSTART:20231029T010000
END:STANDARD
BEGIN:DAYLIGHT
TZOFFSETFROM:+0100
TZOFFSETTO:+0200
TZNAME:CEST
DTSTART:20240331T010000
END:DAYLIGHT
BEGIN:STANDARD
TZOFFSETFROM:+0200
TZOFFSETTO:+0100
TZNAME:CET
DTSTART:20241027T010000
END:STANDARD
BEGIN:DAYLIGHT
TZOFFSETFROM:+0100
TZOFFSETTO:+0200
TZNAME:CEST
DTSTART:20250330T010000
END:DAYLIGHT
BEGIN:STANDARD
TZOFFSETFROM:+0200
TZOFFSETTO:+0100
TZNAME:CET
DTSTART:20251026T010000
END:STANDARD
END:VTIMEZONE
BEGIN:VEVENT
DTSTART;TZID=Europe/Zurich:20240504T160000
DTEND;TZID=Europe/Zurich:20240504T183000
DTSTAMP:20260423T161200
CREATED:20240207T143719Z
LAST-MODIFIED:20240207T143719Z
UID:3761-1714838400-1714847400@www.saxophonist-live.ch
SUMMARY:Feiern Sie mit Mister Saxr: Eine Goldene Hochzeit im Zeichen der Musik
DESCRIPTION:Mister Saxr\, der talentierte Zürcher Saxophonist\, wird an einem besonderen Ereignis spielen – der Feier zum 50-jährigen Ehejubiläum\, einer goldenen Hochzeit\, die am 4. Mai 2024 im Restaurant Sonnenberg in Zürich\, stattfinden wird. \nDiese Feier verspricht eine einzigartige Verbindung von Liebe\, Musik und gemeinsamen Erinnerungen zu werden. Mister Saxr wird mit seiner Leidenschaft für das Saxophonspiel eine Atmosphäre schaffen\, die die Herzen der Gäste erwärmt und die Erinnerungen an vergangene Zeiten wieder aufleben lässt. \nDer Abend wird mit einem festlichen Apéro beginnen\, das von köstlichen Speisen und erlesenen Getränken begleitet wird. Inmitten der festlichen Stimmung werden die Gäste Gelegenheit haben\, das Leben und die Liebe des Jubelpaares zu feiern\, das seit fünf Jahrzehnten zusammen ist. \nMister Saxrs Auftritt wird zweifellos zu den Höhepunkten des Abends gehören. Seine faszinierende Interpretation von Jazz-Klassikern und zeitgenössischer Musik wird die Gäste verzaubern und den Raum mit harmonischen Klängen erfüllen. Von sanften Balladen bis hin zu mitreissenden Melodien wird seine Musik die perfekte Begleitung für diesen denkwürdigen Anlass bieten. \nDas Restaurant Sonnenberg\, idyllisch gelegen im Herzen von Zürich\, ist nicht nur ein gastronomischer Hotspot\, sondern auch ein Ort von natürlicher Schönheit. Mit seiner malerischen Lage auf dem Zürichberg bietet das Restaurant einen atemberaubenden Blick auf die Stadt Zürich und den Zürichsee. Das Restaurant Sonnenberg vereint traditionelle Schweizer Gastfreundschaft mit modernem Flair. Seine gemütliche Atmosphäre und das elegante Ambiente machen es zu einem beliebten Ziel für Feinschmecker und Geniesser aus der ganzen Welt. Die Küche des Restaurants ist bekannt für ihre raffinierte Interpretation traditioneller Schweizer Gerichte\, die mit frischen\, regionalen Zutaten zubereitet werden. \nDie Veranstaltungsräumlichkeiten des Restaurants bieten den perfekten Rahmen für private Feiern\, Firmenveranstaltungen und besondere Anlässe wie die bevorstehende Feier zum 50-jährigen Ehejubiläum. Mit seinem stilvollen Interieur\, dem freundlichen Service und der erstklassigen Küche ist das Restaurant Sonnenberg der ideale Ort\, um unvergessliche Momente mit Familie\, Freunden und Kollegen zu erleben. \nDarüber hinaus lädt die malerische Umgebung des Zürichbergs zu Spaziergängen und Erkundungstouren ein. Nach einem festlichen Bankett im Restaurant Sonnenberg können die Gäste einen romantischen Spaziergang durch die umliegenden Wälder unternehmen oder einfach nur den herrlichen Blick auf die Stadt und den See geniessen. \nEs wird eine Zeit sein\, um zu lachen\, zu tanzen und die Liebe zu feiern\, die das Jubelpaar durch die Jahre getragen hat. Ein Abend\, der mit Emotionen und unvergesslichen Momenten gefüllt sein wird – eine Feier\, die für immer im Gedächtnis bleiben wird. \n 
URL:https://www.saxophonist-live.ch/saxofonist-blog/event/feiern-sie-mit-mister-saxr-eine-goldene-hochzeit-im-zeichen-der-musik/
LOCATION:Restaurant Sonnenberg\, Hitzigweg 15\, Zürich\, ZH\, 8032\, Schweiz
CATEGORIES:MisterSaxr Event
ATTACH;FMTTYPE=image/jpeg:https://www.saxophonist-live.ch/saxofonist-blog/wp-content/uploads/2022/07/Wedding_MisterSaxr_Saxophonist.jpg
END:VEVENT
BEGIN:VEVENT
DTSTART;TZID=Europe/Zurich:20240531T170000
DTEND;TZID=Europe/Zurich:20240531T220000
DTSTAMP:20260423T161200
CREATED:20230908T123242Z
LAST-MODIFIED:20230908T124439Z
UID:3648-1717174800-1717192800@www.saxophonist-live.ch
SUMMARY:Gewo Züri Ost Generalversammlung
DESCRIPTION:Zürich\, die pulsierende Stadt im Herzen Europas\, hat sich über die Jahre hinweg als eine Metropole der Musik etabliert. Unzählige Künstler sind aus dieser vibrierenden Atmosphäre hervorgegangen\, doch nur wenige strahlen mit einer solchen Authentizität und Passion wie Mister Saxr. Seine aufrichtige Leidenschaft für das Saxophon macht ihn zu einem einzigartigen Musiker der Region. \nWenn man Mister Saxr spielen hört\, spürt man sogleich\, wie sehr das Instrument ein seine Leidenschaft fürs Saxophon und die Musik widdergibt. Es ist diese einzigartige Verbindung\, die ihn dazu befähigt\, jede Melodie mit solcher Tiefe und Emotion zu vermitteln. Jeder Ton\, jede Note scheint die Luft um ihn herum zu verzaubern und das Publikum in einen Bann zu ziehen. \nIn der malerischen Gemeinde Maur am Greifensee wird bald ein besonderer Anlass stattfinden. Die Wohnbaugenossenschaft Gewo Züri Ost plant ihre Generalversammlung\, und das ausgewählte Filmstudio Maur bietet den perfekten Rahmen für ein so wichtiges Ereignis. Dieses Studio\, bekannt für seine exklusiven Events\, wird durch Mister Saxr’s musikalische Untermalung nachmals an Glanz gewinnen. Seine sanften Saxophonklänge\, die ideal für Empfänge\, Apéros und Dinners sind\, werden eine Atmosphäre schaffen\, die sowohl heimelig und vertraut als auch exquisit und elegant ist \nNach dem offiziellen Teil der Veranstaltung wird Mister Saxr nicht einfach sein Instrument einpacken. Nein\, der Abend wird erst so richtig beginnen. Er wird seine Gäste auf eine musikalische Reise mitnehmen\, von den sanften Tönen des Smooth Jazz bis zu den belebenden Rhythmen moderner Melodien. Und obwohl er sicherlich einige seiner bekanntesten Stücke zum Besten geben wird\, können sich die Gäste auch auf frische Interpretationen und innovative Arrangements freuen\, die seine unermüdliche Kreativität und seine ständige Weiterentwicklung als Musikers zeigen. \nDie räumliche Nähe zum legendären Powerplay Studio\, wo so viele musikalische Grössen\, wie die Backstreet Boys\, Lady Gaga\, Snoop Dogg aber auch Udo Jürgens und Züri West ihre Hits produziert haben\, verleiht dem Event zusätzlichen Glanz. Eine besondere Ehre für Misters Saxr in unmittelbarer Nähe dieses Studios aufzutreten. \nAlles in allem wird es ein besonderer Abend. Ein Abend\, an dem die Gäste nicht nur über geschäftliche Entwicklungen und Erfolge diskutieren\, sondern auch gemeinsam feiern\, geniessen und in den wunderbaren Klängen von Mister Saxr schwelgen können. Es wird ein Datum sein\, das in Erinnerung bleibt.
URL:https://www.saxophonist-live.ch/saxofonist-blog/event/generalversammlung-gewo-zueri-ost/
LOCATION:Filmstudio Maur\, Badanstaltstrasse 7\, Maur\, 8124\, Schweiz
CATEGORIES:MisterSaxr Event
ATTACH;FMTTYPE=image/png:https://www.saxophonist-live.ch/saxofonist-blog/wp-content/uploads/2023/09/Mister-Saxr_Saxophonist_Maur-kl-1.png
END:VEVENT
END:VCALENDAR