BEGIN:VCALENDAR
VERSION:2.0
PRODID:-//MisterSaxr.ch | saxophonist-LIVE.ch | Blog | Firmenanlass Hochzeiten Events Saxofonist Musiker Saxophonist Schweiz Z&uuml;rich - ECPv6.15.8//NONSGML v1.0//EN
CALSCALE:GREGORIAN
METHOD:PUBLISH
X-WR-CALNAME:MisterSaxr.ch | saxophonist-LIVE.ch | Blog | Firmenanlass Hochzeiten Events Saxofonist Musiker Saxophonist Schweiz Z&uuml;rich
X-ORIGINAL-URL:https://www.saxophonist-live.ch/saxofonist-blog
X-WR-CALDESC:Veranstaltungen für MisterSaxr.ch | saxophonist-LIVE.ch | Blog | Firmenanlass Hochzeiten Events Saxofonist Musiker Saxophonist Schweiz Z&uuml;rich
REFRESH-INTERVAL;VALUE=DURATION:PT1H
X-Robots-Tag:noindex
X-PUBLISHED-TTL:PT1H
BEGIN:VTIMEZONE
TZID:Europe/Zurich
BEGIN:DAYLIGHT
TZOFFSETFROM:+0100
TZOFFSETTO:+0200
TZNAME:CEST
DTSTART:20230326T010000
END:DAYLIGHT
BEGIN:STANDARD
TZOFFSETFROM:+0200
TZOFFSETTO:+0100
TZNAME:CET
DTSTART:20231029T010000
END:STANDARD
BEGIN:DAYLIGHT
TZOFFSETFROM:+0100
TZOFFSETTO:+0200
TZNAME:CEST
DTSTART:20240331T010000
END:DAYLIGHT
BEGIN:STANDARD
TZOFFSETFROM:+0200
TZOFFSETTO:+0100
TZNAME:CET
DTSTART:20241027T010000
END:STANDARD
BEGIN:DAYLIGHT
TZOFFSETFROM:+0100
TZOFFSETTO:+0200
TZNAME:CEST
DTSTART:20250330T010000
END:DAYLIGHT
BEGIN:STANDARD
TZOFFSETFROM:+0200
TZOFFSETTO:+0100
TZNAME:CET
DTSTART:20251026T010000
END:STANDARD
END:VTIMEZONE
BEGIN:VEVENT
DTSTART;TZID=Europe/Zurich:20240706T173000
DTEND;TZID=Europe/Zurich:20240706T210000
DTSTAMP:20260423T133930
CREATED:20230714T121539Z
LAST-MODIFIED:20230714T121539Z
UID:3594-1720287000-1720299600@www.saxophonist-live.ch
SUMMARY:Sommerfest zum 150 Jahre Pfarreijubiläum
DESCRIPTION:Sommerfest zum 150 Jahre Pfarreijubiläum \nMister Saxr ist ein leidenschaftlicher Saxophonist\, der mit seinem vielseitigen Repertoire verschiedene Genres beherrscht. Ob Smooth-Jazz\, Blues\, Pop oder Klassik – Mister Saxr beherrscht sie alle. Seine Musik ist eine harmonische Melange aus verschiedenen Klängen und Stilen\, die die Zuhörer verzaubert. An einem besonderen Familienfest in der Kirche St. Josef in Horgen wird Mister Saxrs Musik zum verbindenden Element für vier Generationen. Von den Jungen bis zu den Alten – jeder findet in seinen musikalischen Darbietungen etwas\, das zu ihnen spricht. Mit seinem breiten Spektrum an Stücken hat Mister Saxr für jede Altersgruppe passende Musik parat\, die Herzen berührt und Menschen zusammenbringt. \nSeit nunmehr 40 Jahren begleitet Mister Saxr sein treues Saxophon\, das Mark VI. Mit diesem Instrument hat er unzählige Melodien zum Leben erweckt und sein Publikum in Staunen versetzt. Das Mark VI ist ein Klassiker\, ein Symbol für Tradition und Klangreinheit. Es hat eine warme und ausdrucksstarke Tonqualität\, die von vielen Saxophonisten als unübertroffen angesehen wird. Trotz seiner langjährigen Bindung an das Mark VI hat Mister Saxr kürzlich eine neue Ergänzung zu seiner Saxophonfamilie erhalten – das brandneue Selmer Supreme Saxophon. Dieses Instrument verkörpert die Fusion von Vergangenheit und Zukunft. Mit modernen Innovationen\, die aus den Erkenntnissen der letzten 60 Jahre gewonnen wurden\, vereint es das Beste beider Welten. \nDas Selmer Supreme Saxophon bietet Mister Saxr eine erweiterte Bandbreite an Klangmöglichkeiten und technischen Raffinessen. Es ist mit fortschrittlichen Materialien und präzisen Mechanismen ausgestattet\, die ihm eine noch grössere Kontrolle und Ausdruckskraft verleihen. Die Vereinigung des alten Mark VI mit dem modernen Selmer Supreme eröffnet Mister Saxr neue kreative Horizonte und erlaubt ihm\, seine musikalische Reise fortzusetzen und weiterhin zu wachsen. Eine wunderbare Kombination\, welche ideal zum Motto des Kirchenfests passt. \nHorgen selbst liegt an einer wunderschönen Lage am Zürichsee. Umgeben von grünen Hügeln und klarem Wasser bietet der Ort eine idyllische Kulisse für das Familienfest. Die malerische Landschaft und die entspannte Atmosphäre am Seeufer verleihen dem Anlass eine besondere Note. Die Menschen geniessen den Klang der Musik\, während sie den Blick über den Zürichsee schweifen lassen. Das Zusammenspiel von Mister Saxrs Musik und der bezaubernden Umgebung von Horgen am Zürichsee macht das Familienfest zu einem unvergesslichen Erlebnis für alle Teilnehmer. Es ist ein Moment der Freude\, der Gemeinschaft und des Zusammenhalts\, der die Menschen verbindet und ihnen eine unvergessliche Zeit schenkt. Mister Saxr und seine Musik lassen die Herzen der Menschen höherschlagen und sorgen für unvergessliche Erinnerungen an dieses besondere Ereignis.
URL:https://www.saxophonist-live.ch/saxofonist-blog/event/sommerfest-zum-150-jahre-pfarreijubilaeum/
LOCATION:Pfarramt St. Josef\, Burghaldenstrasse 5\, Horgen\, Zürich\, 8810\, Schweiz
CATEGORIES:MisterSaxr Event
ATTACH;FMTTYPE=image/jpeg:https://www.saxophonist-live.ch/saxofonist-blog/wp-content/uploads/2023/07/Saxofonist_SelmerSupreme_MisterSAXR_Zuerich-e1715778949112.jpg
END:VEVENT
BEGIN:VEVENT
DTSTART;TZID=Europe/Zurich:20240711T180000
DTEND;TZID=Europe/Zurich:20240711T220000
DTSTAMP:20260423T133930
CREATED:20240523T132559Z
LAST-MODIFIED:20240523T132559Z
UID:3848-1720720800-1720735200@www.saxophonist-live.ch
SUMMARY:Eröffnungsanlass des Sommer PopUp in Ossingen mit Mister Saxr
DESCRIPTION:Wie schon in den letzten beiden Jahren organisiert die Firma 7eins GmbH den Sommer PopUp in Ossingen. Dieser beliebte Event\, der den Sommer mit Musik\, Kulinarik und guter Stimmung belebt\, startet am 11. Juli und läuft bis zum 3. August\, jeweils von Donnerstag bis Samstag. \nAuch dieses Jahr wird der Eröffnungsanlass von einem besonderen Highlight begleitet: Mister Saxr. Der talentierte Saxophonist wird mit seinen mitreissenden Melodien und seiner beeindruckenden Bühnenpräsenz das Publikum zum Staunen bringen. Seine Musik wird eine unvergleichliche Atmosphäre schaffen und dafür sorgen\, dass die Gäste von Anfang an in Sommerlaune versetzt werden. \nMister Saxr ist bekannt für seine Vielseitigkeit und sein Gespür für das Publikum. Ob sanfte Jazzklänge oder energetische Pop-Melodien – seine Darbietung wird genau den richtigen Ton treffen und den Abend zu einem unvergesslichen Erlebnis machen. \nDer Sommer PopUp in Ossingen bietet nicht nur musikalische Highlights\, sondern auch eine Vielzahl an kulinarischen Genüssen und einzigartigen Shopping-Möglichkeiten. Besucher können sich auf eine bunte Mischung aus Ständen und Attraktionen freuen\, die zum Verweilen und Geniessen einladen. \nVerpassen Sie nicht die Gelegenheit\, Mister Saxr live zu erleben und in die stimmungsvolle Welt des Sommer PopUp einzutauchen. Seien Sie dabei\, wenn Ossingen sich in eine pulsierende Sommeroase verwandelt! \nWir freuen uns auf Ihren Besuch!
URL:https://www.saxophonist-live.ch/saxofonist-blog/event/eroeffnungsanlass-des-sommer-popup-in-ossingen-mit-mister-saxr/
LOCATION:7eins GmbH\, Andelfingerstrasse 2\, Ossingen\, 8047\, Schweiz
CATEGORIES:MisterSaxr Event
ATTACH;FMTTYPE=image/jpeg:https://www.saxophonist-live.ch/saxofonist-blog/wp-content/uploads/2022/07/Wedding_MisterSaxr_Saxophonist.jpg
END:VEVENT
END:VCALENDAR